BEGIN:VCALENDAR
VERSION:2.0
PRODID:-//Jackson Tourism - ECPv6.15.20//NONSGML v1.0//EN
CALSCALE:GREGORIAN
METHOD:PUBLISH
X-ORIGINAL-URL:https://visitjacksontn.com
X-WR-CALDESC:Events for Jackson Tourism
REFRESH-INTERVAL;VALUE=DURATION:PT1H
X-Robots-Tag:noindex
X-PUBLISHED-TTL:PT1H
BEGIN:VTIMEZONE
TZID:America/Chicago
BEGIN:DAYLIGHT
TZOFFSETFROM:-0600
TZOFFSETTO:-0500
TZNAME:CDT
DTSTART:20240310T080000
END:DAYLIGHT
BEGIN:STANDARD
TZOFFSETFROM:-0500
TZOFFSETTO:-0600
TZNAME:CST
DTSTART:20241103T070000
END:STANDARD
BEGIN:DAYLIGHT
TZOFFSETFROM:-0600
TZOFFSETTO:-0500
TZNAME:CDT
DTSTART:20250309T080000
END:DAYLIGHT
BEGIN:STANDARD
TZOFFSETFROM:-0500
TZOFFSETTO:-0600
TZNAME:CST
DTSTART:20251102T070000
END:STANDARD
BEGIN:DAYLIGHT
TZOFFSETFROM:-0600
TZOFFSETTO:-0500
TZNAME:CDT
DTSTART:20260308T080000
END:DAYLIGHT
BEGIN:STANDARD
TZOFFSETFROM:-0500
TZOFFSETTO:-0600
TZNAME:CST
DTSTART:20261101T070000
END:STANDARD
END:VTIMEZONE
BEGIN:VEVENT
DTSTART;TZID=America/Chicago:20250215T080000
DTEND;TZID=America/Chicago:20250215T080000
DTSTAMP:20260424T055543
CREATED:20241029T153826Z
LAST-MODIFIED:20250128T143618Z
UID:10002687-1739606400-1739606400@visitjacksontn.com
SUMMARY:Friends of Heart 5K Race and 1 Mile Fun Walk
DESCRIPTION:The Friends of Heart 5K Race 1 Mile Fun Walk invites the community to participate in a meaningful event focused on raising funds for live-saving AEDs to be placed throughout Jackson. Hosted by Fleet Feet Jackson\, TN. \nThis race welcomes runners and walkers of all skill levels. Participants who register by February 3rd will receive a stylish sweatshirt. \nJoin the effort to support a great cause while enjoying a day of fitness and community atmosphere. \nFor more information visit: http://friendsofheart.org. 
URL:https://visitjacksontn.com/event/friends-of-heart-5k-raceand-1-mile-fun-walk/
LOCATION:Fleet Feet\, Jackson\, TN\, 398 Oil Well Rd\, Jackson\, TN\, 38305\, United States
CATEGORIES:Events,Sports & Outdoor
ATTACH;FMTTYPE=image/png:https://visitjacksontn.com/wp-content/uploads/fleet-heart-e1730216251813.png
END:VEVENT
END:VCALENDAR