BEGIN:VCALENDAR
VERSION:2.0
PRODID:-//Jackson Tourism - ECPv6.15.20//NONSGML v1.0//EN
CALSCALE:GREGORIAN
METHOD:PUBLISH
X-ORIGINAL-URL:https://visitjacksontn.com
X-WR-CALDESC:Events for Jackson Tourism
REFRESH-INTERVAL;VALUE=DURATION:PT1H
X-Robots-Tag:noindex
X-PUBLISHED-TTL:PT1H
BEGIN:VTIMEZONE
TZID:America/Chicago
BEGIN:DAYLIGHT
TZOFFSETFROM:-0600
TZOFFSETTO:-0500
TZNAME:CDT
DTSTART:20230312T080000
END:DAYLIGHT
BEGIN:STANDARD
TZOFFSETFROM:-0500
TZOFFSETTO:-0600
TZNAME:CST
DTSTART:20231105T070000
END:STANDARD
BEGIN:DAYLIGHT
TZOFFSETFROM:-0600
TZOFFSETTO:-0500
TZNAME:CDT
DTSTART:20240310T080000
END:DAYLIGHT
BEGIN:STANDARD
TZOFFSETFROM:-0500
TZOFFSETTO:-0600
TZNAME:CST
DTSTART:20241103T070000
END:STANDARD
BEGIN:DAYLIGHT
TZOFFSETFROM:-0600
TZOFFSETTO:-0500
TZNAME:CDT
DTSTART:20250309T080000
END:DAYLIGHT
BEGIN:STANDARD
TZOFFSETFROM:-0500
TZOFFSETTO:-0600
TZNAME:CST
DTSTART:20251102T070000
END:STANDARD
END:VTIMEZONE
BEGIN:VEVENT
DTSTART;TZID=America/Chicago:20241215T150000
DTEND;TZID=America/Chicago:20241215T170000
DTSTAMP:20260424T105652
CREATED:20241029T152354Z
LAST-MODIFIED:20241030T182144Z
UID:10002685-1734274800-1734282000@visitjacksontn.com
SUMMARY:Ugly Holiday Sweater 5K & 1 Miler
DESCRIPTION:Join Fleet Feet Jackson\, TN for a festive 5k or 1Mile Run/Walk. \nThis event benefits Isaiah 117 House\, providing essential support for children in foster care. \nTo participate\, simply bring a toy or an item from provided list or contribute $10. \nPut on your Ugliest holiday sweater and join the fun while making a difference in the lives of children!
URL:https://visitjacksontn.com/event/ugly-holiday-sweater-5k-1-miler/
LOCATION:Fleet Feet\, Jackson\, TN\, 398 Oil Well Rd\, Jackson\, TN\, 38305\, United States
CATEGORIES:Events,Sports & Outdoor
ATTACH;FMTTYPE=image/png:https://visitjacksontn.com/wp-content/uploads/Ugly-Sweater.png
END:VEVENT
END:VCALENDAR