BEGIN:VCALENDAR
VERSION:2.0
PRODID:-//Jackson Tourism - ECPv6.15.20//NONSGML v1.0//EN
CALSCALE:GREGORIAN
METHOD:PUBLISH
X-WR-CALNAME:Jackson Tourism
X-ORIGINAL-URL:https://visitjacksontn.com
X-WR-CALDESC:Events for Jackson Tourism
REFRESH-INTERVAL;VALUE=DURATION:PT1H
X-Robots-Tag:noindex
X-PUBLISHED-TTL:PT1H
BEGIN:VTIMEZONE
TZID:America/Chicago
BEGIN:DAYLIGHT
TZOFFSETFROM:-0600
TZOFFSETTO:-0500
TZNAME:CDT
DTSTART:20230312T080000
END:DAYLIGHT
BEGIN:STANDARD
TZOFFSETFROM:-0500
TZOFFSETTO:-0600
TZNAME:CST
DTSTART:20231105T070000
END:STANDARD
BEGIN:DAYLIGHT
TZOFFSETFROM:-0600
TZOFFSETTO:-0500
TZNAME:CDT
DTSTART:20240310T080000
END:DAYLIGHT
BEGIN:STANDARD
TZOFFSETFROM:-0500
TZOFFSETTO:-0600
TZNAME:CST
DTSTART:20241103T070000
END:STANDARD
BEGIN:DAYLIGHT
TZOFFSETFROM:-0600
TZOFFSETTO:-0500
TZNAME:CDT
DTSTART:20250309T080000
END:DAYLIGHT
BEGIN:STANDARD
TZOFFSETFROM:-0500
TZOFFSETTO:-0600
TZNAME:CST
DTSTART:20251102T070000
END:STANDARD
END:VTIMEZONE
BEGIN:VEVENT
DTSTART;TZID=America/Chicago:20241116T183000
DTEND;TZID=America/Chicago:20241116T193000
DTSTAMP:20260425T154048
CREATED:20241029T144831Z
LAST-MODIFIED:20241112T201003Z
UID:10002681-1731781800-1731785400@visitjacksontn.com
SUMMARY:Friends Giving 5K
DESCRIPTION:The Friends Giving 5K returns as a glow run this year\, inviting all runners to light up the night in support of St. Jude Children’s Research Hospital and their mission to reach a 90% survival rate for all childhood cancers. \nParticipants who register by November 3 through RunSignUp will receive a free custom Friendsgiving T-Shirt to commemorate their support. \nJoin in this meaningful\, community-driven event to make a difference for children and families!
URL:https://visitjacksontn.com/event/friends-giving-5k/
LOCATION:Fleet Feet\, Jackson\, TN\, 398 Oil Well Rd\, Jackson\, TN\, 38305\, United States
CATEGORIES:Events,Sports & Outdoor
ATTACH;FMTTYPE=image/jpeg:https://visitjacksontn.com/wp-content/uploads/raceBanner-2ewLomDX-bM4CkL-1-e1730212670780.jpg
END:VEVENT
BEGIN:VEVENT
DTSTART;TZID=America/Chicago:20241128T080000
DTEND;TZID=America/Chicago:20241128T080000
DTSTAMP:20260425T154048
CREATED:20241029T151305Z
LAST-MODIFIED:20241126T164357Z
UID:10002683-1732780800-1732780800@visitjacksontn.com
SUMMARY:20th Annual Gold's Gym/Fleet Feet Turkey Day 5k 
DESCRIPTION:Join the community for the 20th Annual Gold’s Gym/Fleet Feet Turkey Day 5k \nThis Charity event supports our local RIFA (Regional Inter-Faith Association) and is expected to draw over 800 runners this year\, following last year’s success with over 700 participants. \nThe race will start and finish at Gold’s Gym. Every participant will receive a specially designed sleeved T-shirt\, and all profits will directly benefit RIFA \nJoin this festive event to run for a good cause while enjoying the spirit of the season!
URL:https://visitjacksontn.com/event/20th-annual-golds-gym-fleet-feet-turkey-day-5k/
LOCATION:Gold’s Gym\, 1068 Vann Dr\, Jackson\, TN\, 38305\, United States
CATEGORIES:Events,Sports & Outdoor
ATTACH;FMTTYPE=image/png:https://visitjacksontn.com/wp-content/uploads/Golds-Gym-5k.png
END:VEVENT
END:VCALENDAR