BEGIN:VCALENDAR
VERSION:2.0
PRODID:-//Jackson Tourism - ECPv6.15.18//NONSGML v1.0//EN
CALSCALE:GREGORIAN
METHOD:PUBLISH
X-ORIGINAL-URL:https://visitjacksontn.com
X-WR-CALDESC:Events for Jackson Tourism
REFRESH-INTERVAL;VALUE=DURATION:PT1H
X-Robots-Tag:noindex
X-PUBLISHED-TTL:PT1H
BEGIN:VTIMEZONE
TZID:America/Chicago
BEGIN:DAYLIGHT
TZOFFSETFROM:-0600
TZOFFSETTO:-0500
TZNAME:CDT
DTSTART:20240310T080000
END:DAYLIGHT
BEGIN:STANDARD
TZOFFSETFROM:-0500
TZOFFSETTO:-0600
TZNAME:CST
DTSTART:20241103T070000
END:STANDARD
BEGIN:DAYLIGHT
TZOFFSETFROM:-0600
TZOFFSETTO:-0500
TZNAME:CDT
DTSTART:20250309T080000
END:DAYLIGHT
BEGIN:STANDARD
TZOFFSETFROM:-0500
TZOFFSETTO:-0600
TZNAME:CST
DTSTART:20251102T070000
END:STANDARD
BEGIN:DAYLIGHT
TZOFFSETFROM:-0600
TZOFFSETTO:-0500
TZNAME:CDT
DTSTART:20260308T080000
END:DAYLIGHT
BEGIN:STANDARD
TZOFFSETFROM:-0500
TZOFFSETTO:-0600
TZNAME:CST
DTSTART:20261101T070000
END:STANDARD
END:VTIMEZONE
BEGIN:VEVENT
DTSTART;VALUE=DATE:20250917
DTEND;VALUE=DATE:20250921
DTSTAMP:20260419T183718
CREATED:20250701T144234Z
LAST-MODIFIED:20250701T144234Z
UID:10005660-1758067200-1758412799@visitjacksontn.com
SUMMARY:House of Misfits
DESCRIPTION:House of Misfits is coming to Jackson! \nDon’t miss an unforgettable night of strength and spectacle at Arrow Athletics’ Aerial Arts Show. From daring drops to mesmerizing spins\, our aerialists will take you on an emotional and visually stunning journey using silks\, hoops\, and gravity-defying choreography.
URL:https://visitjacksontn.com/event/house-of-misfits/
LOCATION:Arrow Athletics\, 1751 Vann Dr.\, Jackson\, TN\, 38305
CATEGORIES:Events,Sports & Outdoor
ATTACH;FMTTYPE=image/jpeg:https://visitjacksontn.com/wp-content/uploads/506277468_1209786741160680_1211948187702412642_n.jpg
END:VEVENT
BEGIN:VEVENT
DTSTART;TZID=America/Chicago:20250918T100000
DTEND;TZID=America/Chicago:20250920T160000
DTSTAMP:20260419T183718
CREATED:20250902T185339Z
LAST-MODIFIED:20250902T185339Z
UID:10005705-1758189600-1758384000@visitjacksontn.com
SUMMARY:Ford Takeover 2025
DESCRIPTION:For the 9th straight year\, the Fords takeover Jackson TN! Come ready for an action packed weekend of endless all Ford action! No matter how you enjoy your Ford\, Ford Takeover has you covered! Events highlights include; all Ford cruise\, Dyno Shootout\, massive kickoff party\, drag racing\, car show\, swap meet\, manufacturers midway\, and more!
URL:https://visitjacksontn.com/event/ford-takeover-2025/
LOCATION:Jackson Dragway\, 79 Ranger Rd\, Jackson\, TN\, 38301\, United States
CATEGORIES:Events,Sports & Outdoor
ATTACH;FMTTYPE=image/png:https://visitjacksontn.com/wp-content/uploads/ford-takeover-.png
END:VEVENT
BEGIN:VEVENT
DTSTART;VALUE=DATE:20250919
DTEND;VALUE=DATE:20250921
DTSTAMP:20260419T183718
CREATED:20250325T175037Z
LAST-MODIFIED:20250325T175249Z
UID:10005443-1758240000-1758412799@visitjacksontn.com
SUMMARY:West TN Junior Championships
DESCRIPTION:West TN Junior Championship is one of the top junior championships in West Tennessee! \nThis event showcases the region’s most promising young players in a highly competitive setting.
URL:https://visitjacksontn.com/event/west-tn-junior-championships-2/
LOCATION:Jackson Tennis Center\, 40 Match Point Drive\, Jackson\, TN\, 38305\, United States
CATEGORIES:Events,Sports & Outdoor
ATTACH;FMTTYPE=image/jpeg:https://visitjacksontn.com/wp-content/uploads/486348611_1329081142004219_1110149124669159466_n-1.jpg
END:VEVENT
BEGIN:VEVENT
DTSTART;VALUE=DATE:20250919
DTEND;VALUE=DATE:20250922
DTSTAMP:20260419T183718
CREATED:20250624T135429Z
LAST-MODIFIED:20250624T140214Z
UID:10005640-1758240000-1758499199@visitjacksontn.com
SUMMARY:Hub City Showdown (AA/Open) FREE
DESCRIPTION:Get ready for the Hub City Showdown\, a free USSSA Baseball tournament for AA and Open division teams! \nThis no-entry-fee event promises top-notch competition\, great sportsmanship\, and a full weekend of baseball excitement in the Hub City.
URL:https://visitjacksontn.com/event/hub-city-showdown-aa-open-free/
LOCATION:West Tennessee Healthcare Sportsplex\, 250 Bancorpsouth Pkwy\, Jackson\, TN\, 38305\, United States
CATEGORIES:Events,Sports & Outdoor
ATTACH;FMTTYPE=image/jpeg:https://visitjacksontn.com/wp-content/uploads/images-1-1.jpg
END:VEVENT
BEGIN:VEVENT
DTSTART;TZID=America/Chicago:20250920T080000
DTEND;TZID=America/Chicago:20250920T160000
DTSTAMP:20260419T183718
CREATED:20250715T161156Z
LAST-MODIFIED:20250715T161156Z
UID:10005672-1758355200-1758384000@visitjacksontn.com
SUMMARY:Kickball Classic
DESCRIPTION:United Way of West Tennessee is excited to host a Kickball Classic at the Jackson Rockabillys Stadium! \nRally your best company players\, and join us for a fun day of competitive games and family-friendly activities. Local companies in West Tennessee must register to compete in the tournament. Sixteen teams will compete\, and one winner will be announced by the end of the day. Family can watch the tournament and participate in other event activities throughout the day.
URL:https://visitjacksontn.com/event/kickball-classic/
LOCATION:Jackson Rockabillys Stadium\, 4 Fun Place\, Jackson\, TN\, 38305\, United States
CATEGORIES:Events,Sports & Outdoor
ATTACH;FMTTYPE=image/jpeg:https://visitjacksontn.com/wp-content/uploads/515439595_1175765431251524_258364293363316944_n.jpg
END:VEVENT
END:VCALENDAR