BEGIN:VCALENDAR
VERSION:2.0
PRODID:-//Jackson Tourism - ECPv6.15.20//NONSGML v1.0//EN
CALSCALE:GREGORIAN
METHOD:PUBLISH
X-WR-CALNAME:Jackson Tourism
X-ORIGINAL-URL:https://visitjacksontn.com
X-WR-CALDESC:Events for Jackson Tourism
REFRESH-INTERVAL;VALUE=DURATION:PT1H
X-Robots-Tag:noindex
X-PUBLISHED-TTL:PT1H
BEGIN:VTIMEZONE
TZID:America/Chicago
BEGIN:DAYLIGHT
TZOFFSETFROM:-0600
TZOFFSETTO:-0500
TZNAME:CDT
DTSTART:20240310T080000
END:DAYLIGHT
BEGIN:STANDARD
TZOFFSETFROM:-0500
TZOFFSETTO:-0600
TZNAME:CST
DTSTART:20241103T070000
END:STANDARD
BEGIN:DAYLIGHT
TZOFFSETFROM:-0600
TZOFFSETTO:-0500
TZNAME:CDT
DTSTART:20250309T080000
END:DAYLIGHT
BEGIN:STANDARD
TZOFFSETFROM:-0500
TZOFFSETTO:-0600
TZNAME:CST
DTSTART:20251102T070000
END:STANDARD
BEGIN:DAYLIGHT
TZOFFSETFROM:-0600
TZOFFSETTO:-0500
TZNAME:CDT
DTSTART:20260308T080000
END:DAYLIGHT
BEGIN:STANDARD
TZOFFSETFROM:-0500
TZOFFSETTO:-0600
TZNAME:CST
DTSTART:20261101T070000
END:STANDARD
END:VTIMEZONE
BEGIN:VEVENT
DTSTART;TZID=America/Chicago:20250912T000000
DTEND;TZID=America/Chicago:20250914T000000
DTSTAMP:20260422T174000
CREATED:20250624T134837Z
LAST-MODIFIED:20250624T180911Z
UID:10005639-1757635200-1757808000@visitjacksontn.com
SUMMARY:September Slugfest (AA/Open)
DESCRIPTION:The September Slugfest is a FREE USSSA Baseball tournament open to AA and Open teams. \nIt’s the perfect chance to swing into fall with top-tier competition\, team spirit\, and great gameplay—all with no entry fee.
URL:https://visitjacksontn.com/event/september-slugfest-aa-open/
LOCATION:TN
CATEGORIES:Events,Sports & Outdoor
ATTACH;FMTTYPE=image/jpeg:https://visitjacksontn.com/wp-content/uploads/images-1-1.jpg
END:VEVENT
BEGIN:VEVENT
DTSTART;TZID=America/Chicago:20250912T160000
DTEND;TZID=America/Chicago:20250912T230000
DTSTAMP:20260422T174000
CREATED:20250617T190755Z
LAST-MODIFIED:20250617T190852Z
UID:10005625-1757692800-1757718000@visitjacksontn.com
SUMMARY:Catfish Derby & Riverfest
DESCRIPTION:The 2025 Catfish Derby & Riverfest returns to Savannah\, Tennessee for a weekend packed with live music\, community\, and unforgettable performances. \nHosted by Trevor Van\, the celebration kicks off Friday\, September 12 at Tennessee Street Park with artists Will Barham\, Hannah Dasher\, and Trea Landon\, with gates opening at 4 PM. On Saturday\, September 13\, the energy shifts to Main Street for a full day of music featuring Ty Moore\, Lightwatch\, Austin Bohannon\, Them Dirty Roses\, Pecos & The Rooftops\, and headliner Joe Nichols. Gates open at 12 PM. The weekend wraps up Sunday\, September 14 with A Riverfest Revelation: Sunday in the South back at Tennessee Street Park\, showcasing Hardin County’s own Darryl Worley and The Isaacs featuring Autumn Nelon Streetman. Gates open at 1 PM. \nRain or shine\, bring a chair and get ready for an incredible weekend of music and community!
URL:https://visitjacksontn.com/event/catfish-derby-riverfest/
LOCATION:Savannah Main Street\, 470 Main Street\, Savannah\, TN\, 38372\, United States
CATEGORIES:Arts & Culture,Events,Music,Sports & Outdoor
ATTACH;FMTTYPE=image/png:https://visitjacksontn.com/wp-content/uploads/cf5ec38d-e0bb-4957-addb-e3379e623eaf.png
END:VEVENT
END:VCALENDAR