BEGIN:VCALENDAR
VERSION:2.0
PRODID:-//Jackson Tourism - ECPv6.15.20//NONSGML v1.0//EN
CALSCALE:GREGORIAN
METHOD:PUBLISH
X-ORIGINAL-URL:https://visitjacksontn.com
X-WR-CALDESC:Events for Jackson Tourism
REFRESH-INTERVAL;VALUE=DURATION:PT1H
X-Robots-Tag:noindex
X-PUBLISHED-TTL:PT1H
BEGIN:VTIMEZONE
TZID:America/Chicago
BEGIN:DAYLIGHT
TZOFFSETFROM:-0600
TZOFFSETTO:-0500
TZNAME:CDT
DTSTART:20240310T080000
END:DAYLIGHT
BEGIN:STANDARD
TZOFFSETFROM:-0500
TZOFFSETTO:-0600
TZNAME:CST
DTSTART:20241103T070000
END:STANDARD
BEGIN:DAYLIGHT
TZOFFSETFROM:-0600
TZOFFSETTO:-0500
TZNAME:CDT
DTSTART:20250309T080000
END:DAYLIGHT
BEGIN:STANDARD
TZOFFSETFROM:-0500
TZOFFSETTO:-0600
TZNAME:CST
DTSTART:20251102T070000
END:STANDARD
BEGIN:DAYLIGHT
TZOFFSETFROM:-0600
TZOFFSETTO:-0500
TZNAME:CDT
DTSTART:20260308T080000
END:DAYLIGHT
BEGIN:STANDARD
TZOFFSETFROM:-0500
TZOFFSETTO:-0600
TZNAME:CST
DTSTART:20261101T070000
END:STANDARD
END:VTIMEZONE
BEGIN:VEVENT
DTSTART;VALUE=DATE:20250716
DTEND;VALUE=DATE:20250722
DTSTAMP:20260422T174033
CREATED:20250325T163314Z
LAST-MODIFIED:20250325T164041Z
UID:10005441-1752624000-1753142399@visitjacksontn.com
SUMMARY:77th City Tournament
DESCRIPTION:The 77th City Tournament welcomes both junior and adult players for top-tier competition. \nThis tournament gives players of all ages the chance to compete for city-wide recognition.
URL:https://visitjacksontn.com/event/77th-city-tournament/
LOCATION:Jackson Tennis Center\, 40 Match Point Drive\, Jackson\, TN\, 38305\, United States
CATEGORIES:Events,Sports & Outdoor
ATTACH;FMTTYPE=image/jpeg:https://visitjacksontn.com/wp-content/uploads/486348611_1329081142004219_1110149124669159466_n-1.jpg
END:VEVENT
BEGIN:VEVENT
DTSTART;TZID=America/Chicago:20250720T190000
DTEND;TZID=America/Chicago:20250720T190000
DTSTAMP:20260422T174033
CREATED:20250324T193922Z
LAST-MODIFIED:20250324T193928Z
UID:10005433-1753038000-1753038000@visitjacksontn.com
SUMMARY:Jackson Rockabillys vs. Cape Catfish
DESCRIPTION:The Jackson Rockabillys take on the Cape Catfish. \nGet your gear on and come show support for Jackson’s hometown team!
URL:https://visitjacksontn.com/event/jackson-rockabillys-vs-cape-catfish-9/
LOCATION:Jackson Rockabillys Stadium\, 4 Fun Place\, Jackson\, TN\, 38305\, United States
CATEGORIES:Events,Sports & Outdoor
ATTACH;FMTTYPE=image/png:https://visitjacksontn.com/wp-content/uploads/Primary_Logo-0-3x-1.png
END:VEVENT
END:VCALENDAR