BEGIN:VCALENDAR
VERSION:2.0
PRODID:-//Jackson Tourism - ECPv6.15.18//NONSGML v1.0//EN
CALSCALE:GREGORIAN
METHOD:PUBLISH
X-WR-CALNAME:Jackson Tourism
X-ORIGINAL-URL:https://visitjacksontn.com
X-WR-CALDESC:Events for Jackson Tourism
REFRESH-INTERVAL;VALUE=DURATION:PT1H
X-Robots-Tag:noindex
X-PUBLISHED-TTL:PT1H
BEGIN:VTIMEZONE
TZID:America/Chicago
BEGIN:DAYLIGHT
TZOFFSETFROM:-0600
TZOFFSETTO:-0500
TZNAME:CDT
DTSTART:20240310T080000
END:DAYLIGHT
BEGIN:STANDARD
TZOFFSETFROM:-0500
TZOFFSETTO:-0600
TZNAME:CST
DTSTART:20241103T070000
END:STANDARD
BEGIN:DAYLIGHT
TZOFFSETFROM:-0600
TZOFFSETTO:-0500
TZNAME:CDT
DTSTART:20250309T080000
END:DAYLIGHT
BEGIN:STANDARD
TZOFFSETFROM:-0500
TZOFFSETTO:-0600
TZNAME:CST
DTSTART:20251102T070000
END:STANDARD
BEGIN:DAYLIGHT
TZOFFSETFROM:-0600
TZOFFSETTO:-0500
TZNAME:CDT
DTSTART:20260308T080000
END:DAYLIGHT
BEGIN:STANDARD
TZOFFSETFROM:-0500
TZOFFSETTO:-0600
TZNAME:CST
DTSTART:20261101T070000
END:STANDARD
END:VTIMEZONE
BEGIN:VEVENT
DTSTART;TZID=America/Chicago:20250712T083000
DTEND;TZID=America/Chicago:20250712T083000
DTSTAMP:20260422T142817
CREATED:20250107T183010Z
LAST-MODIFIED:20250107T183017Z
UID:10005177-1752309000-1752309000@visitjacksontn.com
SUMMARY:US 1M\, 5K\, 10K\, 15K\, & Half Marathon
DESCRIPTION:Don’t miss the US 1M\, 5K\, 10K\, 15K\, & Half Marathon! Runners of all levels are invited to enjoy this scenic\, paved out-and-back course. Packet pickup opens 30 minutes before the race (no on-site registration). Park near the tennis courts\, with the starting line next to the playground. \nAll finishers receive a themed medal\, and costumes are encouraged with a group photo and best costume award before the race. Earn points toward the US Road Running Race Series while enjoying a fun\, energetic atmosphere. Courses range from one mile to a half marathon\, each with a 3-hour\, 30-minute time limit. \nRegister now on RunSignup and find more details at usroadrunning.com.
URL:https://visitjacksontn.com/event/us-1m-5k-10k-15k-half-marathon/
LOCATION:North Park\, 689 Cooper Anderson Rd #551\, Jackson\, TN\, 38305\, United States
CATEGORIES:Events,Sports & Outdoor
ATTACH;FMTTYPE=image/png:https://visitjacksontn.com/wp-content/uploads/genericImage-websiteLogo-227185-1736031442.5302-0.bNEBZs.png
END:VEVENT
BEGIN:VEVENT
DTSTART;TZID=America/Chicago:20250712T100000
DTEND;TZID=America/Chicago:20250712T110000
DTSTAMP:20260422T142817
CREATED:20250627T145137Z
LAST-MODIFIED:20250627T145137Z
UID:10005653-1752314400-1752318000@visitjacksontn.com
SUMMARY:Yoga in the Park
DESCRIPTION:Don’t miss Yoga in the Park! Led by Jennifer Emerson\, this inclusive event is free and open to all levels of experience. \n​​​​​​For a full schedule of yoga events\, visit downtownjacksontn.com/yoga. ​
URL:https://visitjacksontn.com/event/yoga-in-the-park-22/
LOCATION:Jaxon Station\, 580 S Royal St\, Jackson\, TN\, 38301\, United States
CATEGORIES:Events,Sports & Outdoor
ATTACH;FMTTYPE=image/avif:https://visitjacksontn.com/wp-content/uploads/0c697b51-fe4e-45ce-b6fb-ac95d4c646c7.avif
END:VEVENT
END:VCALENDAR