BEGIN:VCALENDAR
VERSION:2.0
PRODID:-//Jackson Tourism - ECPv6.15.18//NONSGML v1.0//EN
CALSCALE:GREGORIAN
METHOD:PUBLISH
X-ORIGINAL-URL:https://visitjacksontn.com
X-WR-CALDESC:Events for Jackson Tourism
REFRESH-INTERVAL;VALUE=DURATION:PT1H
X-Robots-Tag:noindex
X-PUBLISHED-TTL:PT1H
BEGIN:VTIMEZONE
TZID:America/Chicago
BEGIN:DAYLIGHT
TZOFFSETFROM:-0600
TZOFFSETTO:-0500
TZNAME:CDT
DTSTART:20240310T080000
END:DAYLIGHT
BEGIN:STANDARD
TZOFFSETFROM:-0500
TZOFFSETTO:-0600
TZNAME:CST
DTSTART:20241103T070000
END:STANDARD
BEGIN:DAYLIGHT
TZOFFSETFROM:-0600
TZOFFSETTO:-0500
TZNAME:CDT
DTSTART:20250309T080000
END:DAYLIGHT
BEGIN:STANDARD
TZOFFSETFROM:-0500
TZOFFSETTO:-0600
TZNAME:CST
DTSTART:20251102T070000
END:STANDARD
BEGIN:DAYLIGHT
TZOFFSETFROM:-0600
TZOFFSETTO:-0500
TZNAME:CDT
DTSTART:20260308T080000
END:DAYLIGHT
BEGIN:STANDARD
TZOFFSETFROM:-0500
TZOFFSETTO:-0600
TZNAME:CST
DTSTART:20261101T070000
END:STANDARD
END:VTIMEZONE
BEGIN:VEVENT
DTSTART;VALUE=DATE:20250704
DTEND;VALUE=DATE:20250707
DTSTAMP:20260422T125613
CREATED:20250324T184855Z
LAST-MODIFIED:20250324T184855Z
UID:10005430-1751587200-1751846399@visitjacksontn.com
SUMMARY:Jackson Rockabillys vs. O'Fallon Hoots
DESCRIPTION:The Jackson Rockabillys take on the O’Fallon Hoots at 7:00 PM. \nGet your gear on and come show support for Jackson’s hometown team!
URL:https://visitjacksontn.com/event/jackson-rockabillys-vs-ofallon-hoots-5/
LOCATION:Jackson Rockabillys Stadium\, 4 Fun Place\, Jackson\, TN\, 38305\, United States
CATEGORIES:Events,Sports & Outdoor
ATTACH;FMTTYPE=image/png:https://visitjacksontn.com/wp-content/uploads/Primary_Logo-0-3x-1.png
END:VEVENT
BEGIN:VEVENT
DTSTART;TZID=America/Chicago:20250705T090000
DTEND;TZID=America/Chicago:20250705T160000
DTSTAMP:20260422T125613
CREATED:20250618T160829Z
LAST-MODIFIED:20250618T160829Z
UID:10005630-1751706000-1751731200@visitjacksontn.com
SUMMARY:Jackson Sports Cards Show
DESCRIPTION:Don’t miss the Jackson Sports Cards Show\, where dealers from across the mid-south will gather to showcase their unique collections! \nWhether you’re looking to buy\, sell\, or trade\, this is the place to be. From vintage cards to modern memorabilia\, there’s something for every collector. Admission and parking are free\, so bring your friends and family to this exciting day of trading and collecting.
URL:https://visitjacksontn.com/event/jackson-sports-cards-show/
LOCATION:VFW Post 1848\, 3803 Hwy 45 N\, Jackson\, TN\, 38305\, United States
CATEGORIES:Events,Sports & Outdoor
ATTACH;FMTTYPE=image/jpeg:https://visitjacksontn.com/wp-content/uploads/494928690_10163381593096579_6849204383212416432_n.jpg
END:VEVENT
BEGIN:VEVENT
DTSTART;TZID=America/Chicago:20250705T160000
DTEND;TZID=America/Chicago:20250705T160000
DTSTAMP:20260422T125613
CREATED:20250610T140843Z
LAST-MODIFIED:20250610T140851Z
UID:10005611-1751731200-1751731200@visitjacksontn.com
SUMMARY:5th Annual 4th of July Celebration
DESCRIPTION:Celebrate Independence Day at the 5th Annual 4th of July Celebration hosted by the Latham/Dukedom Fire Department in Dresden\, TN! \nEnjoy a fun-filled evening with water slides\, bouncy houses for the kids\, cornhole for adults\, and free hamburgers\, hotdogs\, and popcorn while supplies last. Be sure to bring towels\, bug spray\, and lawn chairs for a comfortable night under the stars. Fireworks begin at dark!
URL:https://visitjacksontn.com/event/5th-annual-4th-of-july-celebration/
LOCATION:Latham Dukedom Volunteer Fire Department\, 5337 TN-118\, Dresden\, TN\, 38225\, United States
CATEGORIES:Events,Sports & Outdoor
ATTACH;FMTTYPE=image/png:https://visitjacksontn.com/wp-content/uploads/Independence-Day-1-1.png
END:VEVENT
BEGIN:VEVENT
DTSTART;TZID=America/Chicago:20250705T183000
DTEND;TZID=America/Chicago:20250705T213000
DTSTAMP:20260422T125613
CREATED:20250605T134052Z
LAST-MODIFIED:20250605T134229Z
UID:10005600-1751740200-1751751000@visitjacksontn.com
SUMMARY:Reelfoot Lake Tourism Council Fireworks and Entertainment Show
DESCRIPTION:Celebrate Independence Day at the Reelfoot Lake Tourism Council Fireworks and Entertainment Show! \nHear live music at 7:00 PM\, take a sunset fireworks pontoon cruise\, and enjoy a fireworks show at 9:00 PM\, presented by the Reelfoot Lake Tourism Council.
URL:https://visitjacksontn.com/event/reelfoot-lake-tourism-council-fireworks-and-entertainment-show/
LOCATION:Reelfoot Lake State Park\, 2595 HWY 21E\, Tiptonville\, TN\, 38079\, United States
CATEGORIES:Events,Music,Sports & Outdoor
ATTACH;FMTTYPE=image/jpeg:https://visitjacksontn.com/wp-content/uploads/500275688_1166801345244781_1584149971466925020_n.jpg
END:VEVENT
END:VCALENDAR