BEGIN:VCALENDAR
VERSION:2.0
PRODID:-//Jackson Tourism - ECPv6.15.20//NONSGML v1.0//EN
CALSCALE:GREGORIAN
METHOD:PUBLISH
X-WR-CALNAME:Jackson Tourism
X-ORIGINAL-URL:https://visitjacksontn.com
X-WR-CALDESC:Events for Jackson Tourism
REFRESH-INTERVAL;VALUE=DURATION:PT1H
X-Robots-Tag:noindex
X-PUBLISHED-TTL:PT1H
BEGIN:VTIMEZONE
TZID:America/Chicago
BEGIN:DAYLIGHT
TZOFFSETFROM:-0600
TZOFFSETTO:-0500
TZNAME:CDT
DTSTART:20240310T080000
END:DAYLIGHT
BEGIN:STANDARD
TZOFFSETFROM:-0500
TZOFFSETTO:-0600
TZNAME:CST
DTSTART:20241103T070000
END:STANDARD
BEGIN:DAYLIGHT
TZOFFSETFROM:-0600
TZOFFSETTO:-0500
TZNAME:CDT
DTSTART:20250309T080000
END:DAYLIGHT
BEGIN:STANDARD
TZOFFSETFROM:-0500
TZOFFSETTO:-0600
TZNAME:CST
DTSTART:20251102T070000
END:STANDARD
BEGIN:DAYLIGHT
TZOFFSETFROM:-0600
TZOFFSETTO:-0500
TZNAME:CDT
DTSTART:20260308T080000
END:DAYLIGHT
BEGIN:STANDARD
TZOFFSETFROM:-0500
TZOFFSETTO:-0600
TZNAME:CST
DTSTART:20261101T070000
END:STANDARD
END:VTIMEZONE
BEGIN:VEVENT
DTSTART;VALUE=DATE:20250627
DTEND;VALUE=DATE:20250705
DTSTAMP:20260423T015551
CREATED:20250609T210919Z
LAST-MODIFIED:20250609T210919Z
UID:10005607-1750982400-1751673599@visitjacksontn.com
SUMMARY:Dyer Station Celebration
DESCRIPTION:Celebrate this 4th of July at the Dyer Station Celebration! \nThis week-long celebration is filled with family-friendly activities\, music\, games\, and more
URL:https://visitjacksontn.com/event/dyer-station-celebration-2/
LOCATION:Dyer City Park\, David Robinson Park\, 296 Freemont St\, Dyer\, TN\, 38330\, United States
CATEGORIES:Arts & Culture,Events,Sports & Outdoor
ATTACH;FMTTYPE=image/png:https://visitjacksontn.com/wp-content/uploads/Independence-Day-1-1.png
END:VEVENT
BEGIN:VEVENT
DTSTART;VALUE=DATE:20250704
DTEND;VALUE=DATE:20250705
DTSTAMP:20260423T015551
CREATED:20250609T205058Z
LAST-MODIFIED:20250609T205058Z
UID:10005605-1751587200-1751673599@visitjacksontn.com
SUMMARY:Paris Landing State Park Firework Viewing
DESCRIPTION:Catch the Paris Landing State Park Firework Viewing over Kentucky Lake at dusk. \nSet up a lawn chair near the picnic area or book a room at the Lodge Paris Landing where you can watch the fireworks from your private balcony\, the restaurant outdoor patio\, or the outdoor pool.
URL:https://visitjacksontn.com/event/paris-landing-state-park-firework-viewing/
LOCATION:Paris Landing State Park\, 400 Lodge Road\, Buchanan\, TN\, 38222\, United States
CATEGORIES:Events,Sports & Outdoor
ATTACH;FMTTYPE=image/png:https://visitjacksontn.com/wp-content/uploads/Independence-Day-1-1.png
END:VEVENT
BEGIN:VEVENT
DTSTART;VALUE=DATE:20250704
DTEND;VALUE=DATE:20250705
DTSTAMP:20260423T015551
CREATED:20250610T141442Z
LAST-MODIFIED:20250610T141610Z
UID:10005612-1751587200-1751673599@visitjacksontn.com
SUMMARY:Festival of the Lakes
DESCRIPTION:Celebrate the 4th of July at the Festival of the Lakes on Beech Lake! \nThis annual 4th of July festival includes music\, entertainment\, and a 30-minute firework extravaganza on Beech Lake in Lexington\, Tennessee.
URL:https://visitjacksontn.com/event/festival-of-the-lakes-2/
LOCATION:Beech Lake\, 210 Bob Henderson Drive\, Lexington\, TN\, 38351\, United States
CATEGORIES:Events,Music,Sports & Outdoor
ATTACH;FMTTYPE=image/png:https://visitjacksontn.com/wp-content/uploads/Independence-Day-1-1.png
END:VEVENT
BEGIN:VEVENT
DTSTART;VALUE=DATE:20250704
DTEND;VALUE=DATE:20250705
DTSTAMP:20260423T015551
CREATED:20250623T170018Z
LAST-MODIFIED:20250623T170029Z
UID:10005636-1751587200-1751673599@visitjacksontn.com
SUMMARY:Birdsong's Red\, White\, and BOOM!
DESCRIPTION:Celebrate 65 years of lakeside tradition at Birdsong’s Red\, White\, and BOOM! \nThis annual Firework Extravaganza promises to be bigger and better than ever. Enjoy a festive afternoon with a cornhole tournament from 5–7 PM (registration at 4:30 at the playground)\, and thousands of free throw-down poppers for kids throughout the day. Then\, as the sun sets over the lake\, get ready for a spectacular fireworks display that will light up the night sky!
URL:https://visitjacksontn.com/event/birdsongs-red-white-and-boom/
LOCATION:Birdsong Resort\, Marina\, RV Park & Campground\, 255 Marina Rd\, Camden\, TN\, 38320\, United States
CATEGORIES:Events,Sports & Outdoor
ATTACH;FMTTYPE=image/jpeg:https://visitjacksontn.com/wp-content/uploads/2025-1024x683-1.jpg
END:VEVENT
BEGIN:VEVENT
DTSTART;VALUE=DATE:20250704
DTEND;VALUE=DATE:20250707
DTSTAMP:20260423T015551
CREATED:20250324T184855Z
LAST-MODIFIED:20250324T184855Z
UID:10005430-1751587200-1751846399@visitjacksontn.com
SUMMARY:Jackson Rockabillys vs. O'Fallon Hoots
DESCRIPTION:The Jackson Rockabillys take on the O’Fallon Hoots at 7:00 PM. \nGet your gear on and come show support for Jackson’s hometown team!
URL:https://visitjacksontn.com/event/jackson-rockabillys-vs-ofallon-hoots-5/
LOCATION:Jackson Rockabillys Stadium\, 4 Fun Place\, Jackson\, TN\, 38305\, United States
CATEGORIES:Events,Sports & Outdoor
ATTACH;FMTTYPE=image/png:https://visitjacksontn.com/wp-content/uploads/Primary_Logo-0-3x-1.png
END:VEVENT
BEGIN:VEVENT
DTSTART;TZID=America/Chicago:20250704T070000
DTEND;TZID=America/Chicago:20250704T070000
DTSTAMP:20260423T015551
CREATED:20250618T190717Z
LAST-MODIFIED:20250618T191416Z
UID:10005631-1751612400-1751612400@visitjacksontn.com
SUMMARY:Fourth of July 4 Mile Fun Run
DESCRIPTION:Start your Fourth of July with a bang at the Fourth of July 4 Mile Fun Run! \nJoin Fleet Feet for a festive morning—plus sno cones and a costume contest with a $150 prize!
URL:https://visitjacksontn.com/event/fourth-of-july-4-mile-fun-run/
LOCATION:Fleet Feet\, Jackson\, TN\, 398 Oil Well Rd\, Jackson\, TN\, 38305\, United States
CATEGORIES:Events,Sports & Outdoor
ATTACH;FMTTYPE=image/jpeg:https://visitjacksontn.com/wp-content/uploads/509625074_17881591320327238_3316918640088773308_n.jpg
END:VEVENT
BEGIN:VEVENT
DTSTART;TZID=America/Chicago:20250704T080000
DTEND;TZID=America/Chicago:20250704T220000
DTSTAMP:20260423T015551
CREATED:20250617T203156Z
LAST-MODIFIED:20250617T203317Z
UID:10005628-1751616000-1751666400@visitjacksontn.com
SUMMARY:Cottage Grove Freedom Festival
DESCRIPTION:Celebrate the 4th of July at the Cottage Grove Freedom Festival! \nThis festival benefits the volunteer fire department and includes a turkey shoot\, a 15-minute parade\, food\, food and more food all day long. Past and future activities have included a pet show\, a farmers market\, kids’ games galore\, a vintage car show\, a motorcycle show\, a car show\, a visit from the local sheriff’s department helicopter\, inflatables\, a barbecue dinner\, 50/50 drawing\, bingo and different genre music groups throughout the day.
URL:https://visitjacksontn.com/event/cottage-grove-freedom-festival/
LOCATION:Cardinal Park\, 6705 Church St\, Cottage Grove\, TN\, 38224\, United States
CATEGORIES:Events,Music,Sports & Outdoor
ATTACH;FMTTYPE=image/png:https://visitjacksontn.com/wp-content/uploads/Independence-Day-1-1.png
END:VEVENT
BEGIN:VEVENT
DTSTART;TZID=America/Chicago:20250704T120000
DTEND;TZID=America/Chicago:20250704T120000
DTSTAMP:20260423T015551
CREATED:20250623T165244Z
LAST-MODIFIED:20260417T140657Z
UID:10005635-1751630400-1751630400@visitjacksontn.com
SUMMARY:Freedom Fest
DESCRIPTION:Celebrate Independence Day in Selmer with a full day of patriotic fun at Freedom Fest! \nKick things off with the parade from 12–1 PM\, then stick around for live music starting at 1 PM\, tasty food trucks\, bounce houses for the kids\, and a fireworks finale you won’t want to miss.
URL:https://visitjacksontn.com/event/freedom-fest/
LOCATION:Selmer City Park\, 100 E Selmer Park Dr\, Selmer\, TN\, 38375\, United States
CATEGORIES:Events,Music,Sports & Outdoor
ATTACH;FMTTYPE=image/jpeg:https://visitjacksontn.com/wp-content/uploads/506493477_122151175616585170_5780848383108166434_n.jpg
END:VEVENT
BEGIN:VEVENT
DTSTART;TZID=America/Chicago:20250704T173000
DTEND;TZID=America/Chicago:20250704T173000
DTSTAMP:20260423T015551
CREATED:20250630T150004Z
LAST-MODIFIED:20250630T150021Z
UID:10005658-1751650200-1751650200@visitjacksontn.com
SUMMARY:Independence Day Parade & Fireworks
DESCRIPTION:Celebrate freedom\, community\, and summer fun at the Annual Independence Day Parade & Fireworks at The Ledge\, sponsored by Centennial Bank of Medina! \nDon’t miss a family-friendly evening full of tradition and excitement! The festivities begin with a parade at 6 PM\, followed by prayer\, patriotic ceremonies\, a BBQ supper\, and a fireworks display at The Lodge. Don’t forget your lawn chairs!
URL:https://visitjacksontn.com/event/independence-day-parade-fireworks/
LOCATION:The Ledge\, 3581 Highway 70 E\, Medina\, TN\, 38355\, United States
CATEGORIES:Events,Sports & Outdoor
ATTACH;FMTTYPE=image/jpeg:https://visitjacksontn.com/wp-content/uploads/511008484_705413702197637_7203753886925368971_n.jpg
END:VEVENT
BEGIN:VEVENT
DTSTART;TZID=America/Chicago:20250704T190000
DTEND;TZID=America/Chicago:20250704T190000
DTSTAMP:20260423T015551
CREATED:20250624T145042Z
LAST-MODIFIED:20250624T145042Z
UID:10005646-1751655600-1751655600@visitjacksontn.com
SUMMARY:4th of July Fireworks - Presented by H&R Agri-Power
DESCRIPTION:Celebrate Independence Day the all-American way with baseball\, fireworks\, and family fun at Rockabillys Stadium! \nWatch the Jackson Rockabillys take on the O’Fallon Hoots\, then stick around for a spectacular postgame fireworks show presented by H&R Agri-Power. Grab your tickets\, wear your red\, white\, and blue\, and don’t miss a star-spangled night to remember!
URL:https://visitjacksontn.com/event/4th-of-july-fireworks-presented-by-hr-agri-power/
LOCATION:Jackson Rockabillys Stadium\, 4 Fun Place\, Jackson\, TN\, 38305\, United States
CATEGORIES:Events,Sports & Outdoor
ATTACH;FMTTYPE=image/jpeg:https://visitjacksontn.com/wp-content/uploads/510181468_747200141204419_7371142799544035941_n.jpg
END:VEVENT
BEGIN:VEVENT
DTSTART;TZID=America/Chicago:20250704T203000
DTEND;TZID=America/Chicago:20250704T213000
DTSTAMP:20260423T015551
CREATED:20250610T135141Z
LAST-MODIFIED:20250610T135141Z
UID:10005608-1751661000-1751664600@visitjacksontn.com
SUMMARY:Martin Loves America Fireworks Show
DESCRIPTION:Join the City of Martin as they celebrate the 4th of July with the biggest bang in Northwest Tennessee at the Martin Loves America Fireworks Show! \nThe fireworks display will begin around 9:00PM or sunset. Bring a picnic\, chairs\, and refreshments for the whole family and relax in the grass or watch and listen from your vehicle.
URL:https://visitjacksontn.com/event/martin-loves-america-fireworks-show/
LOCATION:Martin Recreation Complex\, 8457 US-45E\, Martin\, TN\, 38237\, United States
CATEGORIES:Events,Sports & Outdoor
ATTACH;FMTTYPE=image/jpeg:https://visitjacksontn.com/wp-content/uploads/D8067416-1E21-4B94-B277-A27AFB267781-scaled-2.jpg
END:VEVENT
BEGIN:VEVENT
DTSTART;TZID=America/Chicago:20250704T210000
DTEND;TZID=America/Chicago:20250704T220000
DTSTAMP:20260423T015551
CREATED:20250617T201952Z
LAST-MODIFIED:20250617T202110Z
UID:10005627-1751662800-1751666400@visitjacksontn.com
SUMMARY:Fourth of July at Pickwick Landing State Park
DESCRIPTION:Hardin County will celebrate the Fourth of July with a stunning fireworks display beginning at 9 p.m. \nFireworks will be shot from the Pickwick Landing State Park Sandy Beach. In addition to the show\, the Friends of Pickwick Landing State Park will be hosting all-day fun around the lodge and Circle Beach area. Food and craft vendors will be set up\, as well as ranger-led activities. \nCome celebrate the weekend in Pickwick. For lodge accommodations\, visit tnstateparks.com/parks/pickwick-landing.
URL:https://visitjacksontn.com/event/fourth-of-july-at-pickwick-landing-state-park/
LOCATION:Pickwick Landing State Park\, 116 State Park Lane\, Counce\, TN\, 38326\, United States
CATEGORIES:Events,Sports & Outdoor
ATTACH;FMTTYPE=image/png:https://visitjacksontn.com/wp-content/uploads/Independence-Day-1-1.png
GEO:35.0512585;-88.2396876
X-APPLE-STRUCTURED-LOCATION;VALUE=URI;X-ADDRESS=Pickwick Landing State Park 116 State Park Lane Counce TN 38326 United States;X-APPLE-RADIUS=500;X-TITLE=116 State Park Lane:geo:-88.2396876,35.0512585
END:VEVENT
END:VCALENDAR