BEGIN:VCALENDAR
VERSION:2.0
PRODID:-//Jackson Tourism - ECPv6.15.20//NONSGML v1.0//EN
CALSCALE:GREGORIAN
METHOD:PUBLISH
X-ORIGINAL-URL:https://visitjacksontn.com
X-WR-CALDESC:Events for Jackson Tourism
REFRESH-INTERVAL;VALUE=DURATION:PT1H
X-Robots-Tag:noindex
X-PUBLISHED-TTL:PT1H
BEGIN:VTIMEZONE
TZID:America/Chicago
BEGIN:DAYLIGHT
TZOFFSETFROM:-0600
TZOFFSETTO:-0500
TZNAME:CDT
DTSTART:20240310T080000
END:DAYLIGHT
BEGIN:STANDARD
TZOFFSETFROM:-0500
TZOFFSETTO:-0600
TZNAME:CST
DTSTART:20241103T070000
END:STANDARD
BEGIN:DAYLIGHT
TZOFFSETFROM:-0600
TZOFFSETTO:-0500
TZNAME:CDT
DTSTART:20250309T080000
END:DAYLIGHT
BEGIN:STANDARD
TZOFFSETFROM:-0500
TZOFFSETTO:-0600
TZNAME:CST
DTSTART:20251102T070000
END:STANDARD
BEGIN:DAYLIGHT
TZOFFSETFROM:-0600
TZOFFSETTO:-0500
TZNAME:CDT
DTSTART:20260308T080000
END:DAYLIGHT
BEGIN:STANDARD
TZOFFSETFROM:-0500
TZOFFSETTO:-0600
TZNAME:CST
DTSTART:20261101T070000
END:STANDARD
END:VTIMEZONE
BEGIN:VEVENT
DTSTART;VALUE=DATE:20250530
DTEND;VALUE=DATE:20250602
DTSTAMP:20260423T195241
CREATED:20250227T185048Z
LAST-MODIFIED:20250227T185048Z
UID:10005318-1748563200-1748822399@visitjacksontn.com
SUMMARY:June Thunder (Free Team Entry)
DESCRIPTION:The June Thunder is an exciting USSSA Baseball tournament open to AA and Open divisions. \nWith free team entry\, this event offers an excellent opportunity for teams to compete in a high-energy\, competitive environment and make their mark on the field.
URL:https://visitjacksontn.com/event/june-thunder-free-team-entry/
LOCATION:West Tennessee Healthcare Sportsplex\, 250 Bancorpsouth Pkwy\, Jackson\, TN\, 38305\, United States
CATEGORIES:Events,Sports & Outdoor
ATTACH;FMTTYPE=image/jpeg:https://visitjacksontn.com/wp-content/uploads/images-1.jpg
END:VEVENT
BEGIN:VEVENT
DTSTART;TZID=America/Chicago:20250531T170000
DTEND;TZID=America/Chicago:20250531T170000
DTSTAMP:20260423T195241
CREATED:20250311T211114Z
LAST-MODIFIED:20250311T211544Z
UID:10005390-1748710800-1748710800@visitjacksontn.com
SUMMARY:Jackson Boom vs. Lexington Sporting Club
DESCRIPTION:Get ready for an exciting United Premier Soccer League showdown as Jackson Boom takes on Lexington Sporting Club! \nThe match will kick off at 5:05 PM CST\, with top-tier talent battling it out on the field. Fans can expect high-energy action as both teams compete for victory. \nTickets are required for entry at $10 per person\, with amenities including locker rooms\, restrooms\, and security on-site. The game will also be streamed live on Jackson\, TN Boom’s Facebook page for those who can’t attend in person.
URL:https://visitjacksontn.com/event/jackson-boom-vs-lexington-sporting-club/
LOCATION:University School of Jackson\, 240 McClellan Rd.\, Jackson\, TN\, 38305\, United States
CATEGORIES:Events,Sports & Outdoor
ATTACH;FMTTYPE=image/jpeg:https://visitjacksontn.com/wp-content/uploads/298673.jpg
END:VEVENT
END:VCALENDAR