BEGIN:VCALENDAR
VERSION:2.0
PRODID:-//Jackson Tourism - ECPv6.15.20//NONSGML v1.0//EN
CALSCALE:GREGORIAN
METHOD:PUBLISH
X-WR-CALNAME:Jackson Tourism
X-ORIGINAL-URL:https://visitjacksontn.com
X-WR-CALDESC:Events for Jackson Tourism
REFRESH-INTERVAL;VALUE=DURATION:PT1H
X-Robots-Tag:noindex
X-PUBLISHED-TTL:PT1H
BEGIN:VTIMEZONE
TZID:America/Chicago
BEGIN:DAYLIGHT
TZOFFSETFROM:-0600
TZOFFSETTO:-0500
TZNAME:CDT
DTSTART:20240310T080000
END:DAYLIGHT
BEGIN:STANDARD
TZOFFSETFROM:-0500
TZOFFSETTO:-0600
TZNAME:CST
DTSTART:20241103T070000
END:STANDARD
BEGIN:DAYLIGHT
TZOFFSETFROM:-0600
TZOFFSETTO:-0500
TZNAME:CDT
DTSTART:20250309T080000
END:DAYLIGHT
BEGIN:STANDARD
TZOFFSETFROM:-0500
TZOFFSETTO:-0600
TZNAME:CST
DTSTART:20251102T070000
END:STANDARD
BEGIN:DAYLIGHT
TZOFFSETFROM:-0600
TZOFFSETTO:-0500
TZNAME:CDT
DTSTART:20260308T080000
END:DAYLIGHT
BEGIN:STANDARD
TZOFFSETFROM:-0500
TZOFFSETTO:-0600
TZNAME:CST
DTSTART:20261101T070000
END:STANDARD
END:VTIMEZONE
BEGIN:VEVENT
DTSTART;VALUE=DATE:20250523
DTEND;VALUE=DATE:20250526
DTSTAMP:20260423T172915
CREATED:20250227T184756Z
LAST-MODIFIED:20250227T184756Z
UID:10005316-1747958400-1748217599@visitjacksontn.com
SUMMARY:Terry Moore Memorial Tournament (Free Team Entry)
DESCRIPTION:The Terry Moore Memorial Tournament is an exciting USSSA Baseball event for AA and Open divisions. \nWith free team entry\, this tournament offers teams a chance to compete in a competitive and respectful environment while honoring the legacy of Terry Moore.
URL:https://visitjacksontn.com/event/terry-moore-memorial-tournament-free-team-entry/
LOCATION:West Tennessee Healthcare Sportsplex\, 250 Bancorpsouth Pkwy\, Jackson\, TN\, 38305\, United States
CATEGORIES:Events,Sports & Outdoor
ATTACH;FMTTYPE=image/jpeg:https://visitjacksontn.com/wp-content/uploads/images-1.jpg
END:VEVENT
BEGIN:VEVENT
DTSTART;VALUE=DATE:20250524
DTEND;VALUE=DATE:20250525
DTSTAMP:20260423T172915
CREATED:20250227T184939Z
LAST-MODIFIED:20250227T184939Z
UID:10005317-1748044800-1748131199@visitjacksontn.com
SUMMARY:Big Bang Fastpitch Presents: Soldiers for Strikeouts
DESCRIPTION:Big Bang Fastpitch Presents: Soldiers for Strikeouts is an exciting softball tournament featuring 8U\, 10U\, 12U\, 14U\, 16U\, and 18U divisions. \nThis event offers a competitive environment where young athletes can showcase their skills. For more information or to register\, contact Chris Lewis at 731-592-8220 or via email at outcast1724@gmail.com.
URL:https://visitjacksontn.com/event/big-bang-fastpitch-presents-soldiers-for-strikeouts/
LOCATION:West Tennessee Healthcare Sportsplex\, 250 Bancorpsouth Pkwy\, Jackson\, TN\, 38305\, United States
CATEGORIES:Events,Sports & Outdoor
ATTACH;FMTTYPE=image/jpeg:https://visitjacksontn.com/wp-content/uploads/images-1.jpg
END:VEVENT
BEGIN:VEVENT
DTSTART;TZID=America/Chicago:20250524T070000
DTEND;TZID=America/Chicago:20250524T160000
DTSTAMP:20260423T172915
CREATED:20250306T165521Z
LAST-MODIFIED:20250306T165554Z
UID:10005363-1748070000-1748102400@visitjacksontn.com
SUMMARY:American Hot Rodders Show
DESCRIPTION:Get ready for a high-octane day at the American Hot Rodders Show! \nThis family-friendly event is a must for car enthusiasts\, featuring a car show\, huge swap meet\, Test N Tune\, bracket racing\, a 50/50 raffle\, and a car corral. Enjoy a full day of food\, music\, and fun while admiring some of the finest hot rods and classic cars around. Awards will be given for Best of Show\, Top 10 Car\, Top 10 Pickup\, Best Paint\, Best Engine\, Best Interior\, and People’s Choice. Spectator admission is $12\, kids 10 and under get in free\, and car registration is $20. \nDon’t miss out on this exciting celebration of horsepower and craftsmanship!
URL:https://visitjacksontn.com/event/american-hot-rodders-show/
LOCATION:Jackson Dragway\, 79 Ranger Rd\, Jackson\, TN\, 38301\, United States
CATEGORIES:Events,Sports & Outdoor
ATTACH;FMTTYPE=image/jpeg:https://visitjacksontn.com/wp-content/uploads/447697932_846434997527590_3994603185821928868_n.jpg
END:VEVENT
BEGIN:VEVENT
DTSTART;TZID=America/Chicago:20250524T090000
DTEND;TZID=America/Chicago:20250524T100000
DTSTAMP:20260423T172915
CREATED:20250512T155115Z
LAST-MODIFIED:20250512T155138Z
UID:10005565-1748077200-1748080800@visitjacksontn.com
SUMMARY:Yoga in the Park
DESCRIPTION:Don’t miss Yoga at theAMP\, led by Jennifer Emerson & Stacy Marshall. \nThis inclusive event is free and open to all levels of experience. \n​​​​For a full schedule of yoga events\, visit downtownjacksontn.com/yoga.
URL:https://visitjacksontn.com/event/yoga-in-the-park-19/
LOCATION:Jackson’s Amp at The Market\, 91 New Market Street\, Jackson\, TN\, 38301\, United States
CATEGORIES:Events,Sports & Outdoor
ATTACH;FMTTYPE=image/avif:https://visitjacksontn.com/wp-content/uploads/21b266fd-22bc-457b-ac39-8b4e68692986.avif
END:VEVENT
BEGIN:VEVENT
DTSTART;TZID=America/Chicago:20250524T100000
DTEND;TZID=America/Chicago:20250524T100000
DTSTAMP:20260423T172915
CREATED:20250501T182233Z
LAST-MODIFIED:20250501T182419Z
UID:10005540-1748080800-1748080800@visitjacksontn.com
SUMMARY:A Ride to Remember
DESCRIPTION:Join the Bumpus of Jackson crew for A Ride to Remember\, honoring the brave men and women who gave their lives in service to our country. \nRide out together and meet up with the Bumpus of Memphis crew at Freddy T’s for a shared moment of remembrance and camaraderie. \nSchedule: \nRegistration: 10AM at Bumpus of Jackson \nKickstands Up: 11AM \nFinal Stop: Freddy T’s. \nRide in unity\, reflect on the sacrifices made\, and honor the fallen with the power of two wheels.
URL:https://visitjacksontn.com/event/a-ride-to-remember/
LOCATION:Bumpus Harley Davidson\, 326 Carriage House Drive.\, Jackson\, TN\, 38305\, United States
CATEGORIES:Events,Sports & Outdoor
ATTACH;FMTTYPE=image/jpeg:https://visitjacksontn.com/wp-content/uploads/492218878_1079705024202839_8237250088336945787_n.jpg
END:VEVENT
END:VCALENDAR