BEGIN:VCALENDAR
VERSION:2.0
PRODID:-//Jackson Tourism - ECPv6.15.20//NONSGML v1.0//EN
CALSCALE:GREGORIAN
METHOD:PUBLISH
X-ORIGINAL-URL:https://visitjacksontn.com
X-WR-CALDESC:Events for Jackson Tourism
REFRESH-INTERVAL;VALUE=DURATION:PT1H
X-Robots-Tag:noindex
X-PUBLISHED-TTL:PT1H
BEGIN:VTIMEZONE
TZID:America/Chicago
BEGIN:DAYLIGHT
TZOFFSETFROM:-0600
TZOFFSETTO:-0500
TZNAME:CDT
DTSTART:20240310T080000
END:DAYLIGHT
BEGIN:STANDARD
TZOFFSETFROM:-0500
TZOFFSETTO:-0600
TZNAME:CST
DTSTART:20241103T070000
END:STANDARD
BEGIN:DAYLIGHT
TZOFFSETFROM:-0600
TZOFFSETTO:-0500
TZNAME:CDT
DTSTART:20250309T080000
END:DAYLIGHT
BEGIN:STANDARD
TZOFFSETFROM:-0500
TZOFFSETTO:-0600
TZNAME:CST
DTSTART:20251102T070000
END:STANDARD
BEGIN:DAYLIGHT
TZOFFSETFROM:-0600
TZOFFSETTO:-0500
TZNAME:CDT
DTSTART:20260308T080000
END:DAYLIGHT
BEGIN:STANDARD
TZOFFSETFROM:-0500
TZOFFSETTO:-0600
TZNAME:CST
DTSTART:20261101T070000
END:STANDARD
END:VTIMEZONE
BEGIN:VEVENT
DTSTART;VALUE=DATE:20250516
DTEND;VALUE=DATE:20250519
DTSTAMP:20260424T062354
CREATED:20250227T184403Z
LAST-MODIFIED:20250227T184517Z
UID:10005315-1747353600-1747612799@visitjacksontn.com
SUMMARY:Super Hero Smash (Free Team Entry) Presented by Taco Bell
DESCRIPTION:The Super Hero Smash\, presented by Taco Bell\, is an action-packed USSSA Baseball tournament open to AA and Open divisions. \nWith free team entry\, this exciting event provides a unique opportunity for teams to showcase their skills and compete in a thrilling\, high-energy atmosphere.
URL:https://visitjacksontn.com/event/super-hero-smash-free-team-entry-presented-by-taco-bell/
LOCATION:West Tennessee Healthcare Sportsplex\, 250 Bancorpsouth Pkwy\, Jackson\, TN\, 38305\, United States
CATEGORIES:Events,Sports & Outdoor
ATTACH;FMTTYPE=image/jpeg:https://visitjacksontn.com/wp-content/uploads/images-1.jpg
END:VEVENT
BEGIN:VEVENT
DTSTART;TZID=America/Chicago:20250517T090000
DTEND;TZID=America/Chicago:20250517T100000
DTSTAMP:20260424T062354
CREATED:20250512T154533Z
LAST-MODIFIED:20250512T155236Z
UID:10005564-1747472400-1747476000@visitjacksontn.com
SUMMARY:Yoga in the Park
DESCRIPTION:Don’t miss Yoga at theLOCAL\, led by Michele Baker. \nThis inclusive event is free and open to all levels of experience. RSVP at https://lu.ma/gvox7azm. \nFor a full list of yoga events\, visit downtownjacksontn.com/yoga.
URL:https://visitjacksontn.com/event/yoga-in-the-park-18/
LOCATION:The LOCAL\, 202 West Lafayette Street\, Jackson\, TN\, 38301\, United States
CATEGORIES:Events,Sports & Outdoor
ATTACH;FMTTYPE=image/avif:https://visitjacksontn.com/wp-content/uploads/ee715fe5-d293-4c1a-b69f-83957fb46edf.avif
END:VEVENT
BEGIN:VEVENT
DTSTART;TZID=America/Chicago:20250517T090000
DTEND;TZID=America/Chicago:20250517T170000
DTSTAMP:20260424T062354
CREATED:20250501T162344Z
LAST-MODIFIED:20250501T162344Z
UID:10005539-1747472400-1747501200@visitjacksontn.com
SUMMARY:Armed Forces Day Bingo Run
DESCRIPTION:Come enjoy a fun-filled day of bingo and excitement at the Armed Forces Day Bingo Run event! \nThe event will begin at the Jackson Engineer Armory\, before making stops at armories in Huntingdon\, Lavinia\, and S Jackson. Get ready to play bingo\, win prizes\, and show your support for our armed forces. Don’t miss out on this opportunity to have a blast while giving back to those who serve our country. \nAll proceeds benefit the West Tennessee Veteran Coalition’s Veteran in Crisis Grant fund\, providing financial assistance for local veterans for emergency housing\, utility\, grocery\, medication\, and transportation needs.
URL:https://visitjacksontn.com/event/armed-forces-day-bingo-run/
LOCATION:Jackson Engineer Armory\, 1570 Hwy 70 E\, Jackson
CATEGORIES:Events,Sports & Outdoor
ATTACH;FMTTYPE=image/jpeg:https://visitjacksontn.com/wp-content/uploads/484928373_638594835588652_4895838266636169076_n.jpg
END:VEVENT
BEGIN:VEVENT
DTSTART;TZID=America/Chicago:20250517T100000
DTEND;TZID=America/Chicago:20250517T150000
DTSTAMP:20260424T062354
CREATED:20250313T152623Z
LAST-MODIFIED:20250313T152711Z
UID:10005395-1747476000-1747494000@visitjacksontn.com
SUMMARY:Bee Fest 5K and Craft Fair
DESCRIPTION:Don’t miss your chance to celebrate at Bee Fest! \nThis festival features craft and educational vendors\, along with a virtual 5K. Proceeds from the run will go to help the Honeybee Project at Pinson Mounds State Archaeological Park and the Friends of Pinson Mounds. Sign up for the 5K here!
URL:https://visitjacksontn.com/event/bee-fest-5k-and-craft-fair/
LOCATION:Pinson Mounds\, 460 Ozier Rd\, Pinson\, TN\, 38366\, United States
CATEGORIES:Arts & Culture,Events,Sports & Outdoor
ATTACH;FMTTYPE=image/jpeg:https://visitjacksontn.com/wp-content/uploads/483068957_1055661173272358_9009948401957020808_n.jpg
END:VEVENT
END:VCALENDAR