BEGIN:VCALENDAR
VERSION:2.0
PRODID:-//Jackson Tourism - ECPv6.15.20//NONSGML v1.0//EN
CALSCALE:GREGORIAN
METHOD:PUBLISH
X-WR-CALNAME:Jackson Tourism
X-ORIGINAL-URL:https://visitjacksontn.com
X-WR-CALDESC:Events for Jackson Tourism
REFRESH-INTERVAL;VALUE=DURATION:PT1H
X-Robots-Tag:noindex
X-PUBLISHED-TTL:PT1H
BEGIN:VTIMEZONE
TZID:America/Chicago
BEGIN:DAYLIGHT
TZOFFSETFROM:-0600
TZOFFSETTO:-0500
TZNAME:CDT
DTSTART:20240310T080000
END:DAYLIGHT
BEGIN:STANDARD
TZOFFSETFROM:-0500
TZOFFSETTO:-0600
TZNAME:CST
DTSTART:20241103T070000
END:STANDARD
BEGIN:DAYLIGHT
TZOFFSETFROM:-0600
TZOFFSETTO:-0500
TZNAME:CDT
DTSTART:20250309T080000
END:DAYLIGHT
BEGIN:STANDARD
TZOFFSETFROM:-0500
TZOFFSETTO:-0600
TZNAME:CST
DTSTART:20251102T070000
END:STANDARD
BEGIN:DAYLIGHT
TZOFFSETFROM:-0600
TZOFFSETTO:-0500
TZNAME:CDT
DTSTART:20260308T080000
END:DAYLIGHT
BEGIN:STANDARD
TZOFFSETFROM:-0500
TZOFFSETTO:-0600
TZNAME:CST
DTSTART:20261101T070000
END:STANDARD
END:VTIMEZONE
BEGIN:VEVENT
DTSTART;VALUE=DATE:20250430
DTEND;VALUE=DATE:20250504
DTSTAMP:20260423T145552
CREATED:20250317T213651Z
LAST-MODIFIED:20250407T143319Z
UID:10005409-1745971200-1746316799@visitjacksontn.com
SUMMARY:Southern States Athletic Conference Baseball Championship
DESCRIPTION:Visit Jackson\, TN and Rockabillys Stadium welcome the 2025 SSAC Baseball Championship to Jackson! \nSchedule: \nWednesday\, April 30: \nGame 1:                       #6 vs. #3                                                                       10:00 am \nGame 2:                       #7 vs. #2                                                                       1:00 pm \nGame 3:                       #5 vs. #4                                                                       4:00 pm \nGame 4:                       #8 vs. #1                                                                       7:00 pm \nThursday\, May 1:  *(1-0 teams will play 0-1 teams on this date)* \nGame 5:                       #7 vs. #3                                                                       10:00 am \nGame 6:                       #2 vs. #6                                                                       1:00 pm \nGame 7:                       #8 vs. #4                                                                       4:00 pm \nGame 8:                       #1 vs. #5                                                                       7:00 pm \nFriday\, May 2: \nGame 9:                       #6 vs. #7                                                                       10:00 am \nGame 10:                     #3 vs. #2                                                                       1:00 pm \nGame 11:                      #5 vs. #8                                                                       4:00 pm \nGame 12:                      #4 vs. #1                                                                       7:00 pm \nSaturday\, May 3: \nChampionship:           Pool 1 Champ v. Pool 2 Champ                                1:00 pm
URL:https://visitjacksontn.com/event/southern-states-athletic-conference-baseball-championship-2/
LOCATION:Jackson Rockabillys Stadium\, 4 Fun Place\, Jackson\, TN\, 38305\, United States
CATEGORIES:Events,Sports & Outdoor
ATTACH;FMTTYPE=image/jpeg:https://visitjacksontn.com/wp-content/uploads/thumbnail_widebaseball.jpg
END:VEVENT
BEGIN:VEVENT
DTSTART;VALUE=DATE:20250502
DTEND;VALUE=DATE:20250504
DTSTAMP:20260423T145552
CREATED:20250403T141743Z
LAST-MODIFIED:20250403T141743Z
UID:10005473-1746144000-1746316799@visitjacksontn.com
SUMMARY:2025 Spring Plant Sale
DESCRIPTION:Fill your lawn and garden with beautiful hand-selected plants at the 2025 Spring Plant Sale\, hosted by UT Gardens\, Jackson\, and Madison County Master Gardeners! \nShop more than 500 different varieties of annuals\, perennials\, trees\, conifers\, shrubs\, vegetables\, herbs\, succulents\, and house plants. \nThe event is free to attend and open to the public. Check back later for the complete plant list\, which will be posted below a week before the sale!
URL:https://visitjacksontn.com/event/2025-spring-plant-sale/
LOCATION:West TN Ag Research and Education Center\, 605 Airways Blvd\, Jackson\, TN\, 38301\, United States
CATEGORIES:Events,Sports & Outdoor
ATTACH;FMTTYPE=image/jpeg:https://visitjacksontn.com/wp-content/uploads/486374209_1230541489071615_7270465301025938236_n.jpg
END:VEVENT
BEGIN:VEVENT
DTSTART;VALUE=DATE:20250502
DTEND;VALUE=DATE:20250505
DTSTAMP:20260423T145552
CREATED:20250227T184028Z
LAST-MODIFIED:20250227T184028Z
UID:10005313-1746144000-1746403199@visitjacksontn.com
SUMMARY:The Dream Center of Jackson Challenge (Free Team Entry)
DESCRIPTION:The Dream Center of Jackson Challenge is a thrilling USSSA Baseball tournament open to AA and Open divisions. \nWith free team entry\, this event provides a great opportunity for teams to compete at a high level and showcase their talent in a challenging and exciting environment.
URL:https://visitjacksontn.com/event/the-dream-center-of-jackson-challenge-free-team-entry/
LOCATION:West Tennessee Healthcare Sportsplex\, 250 Bancorpsouth Pkwy\, Jackson\, TN\, 38305\, United States
CATEGORIES:Events,Sports & Outdoor
ATTACH;FMTTYPE=image/jpeg:https://visitjacksontn.com/wp-content/uploads/images-1.jpg
END:VEVENT
BEGIN:VEVENT
DTSTART;VALUE=DATE:20250503
DTEND;VALUE=DATE:20250505
DTSTAMP:20260423T145552
CREATED:20250424T162524Z
LAST-MODIFIED:20250424T162548Z
UID:10005524-1746230400-1746403199@visitjacksontn.com
SUMMARY:Kentucky Derby Viewing Day Party
DESCRIPTION:Step into the spirit of the Kentucky Derby with a Viewing Day Party! \nThis exclusive Derby Day celebration combines southern elegance and high-energy entertainment. Watch “The Most Exciting Two Minutes in Sports” on big screens\, enjoy music by DJ Terry Trice\, and enjoy an atmosphere full of tradition\, style\, and excitement.
URL:https://visitjacksontn.com/event/kentucky-derby-viewing-day-party/
LOCATION:Madison Downs Venue\, 4506 Highway 45 North\, Jackson\, TN\, 38305\, United States
CATEGORIES:Events,Sports & Outdoor
ATTACH;FMTTYPE=image/jpeg:https://visitjacksontn.com/wp-content/uploads/472670805_122107506434703168_7123062054218107282_n.jpg
END:VEVENT
BEGIN:VEVENT
DTSTART;TZID=America/Chicago:20250503T100000
DTEND;TZID=America/Chicago:20250503T100000
DTSTAMP:20260423T145552
CREATED:20250127T154241Z
LAST-MODIFIED:20250127T154259Z
UID:10005236-1746266400-1746266400@visitjacksontn.com
SUMMARY:2025 Bling's Memorial Butt Run
DESCRIPTION:Gear up for the 2025 Bling’s Memorial Butt Run\, an annual benefit supporting St. Jude Children’s Hospital in West Tennessee. \nFormerly known as the Patriot Butt Run\, this event gets its name from delicious pork butt meals and is packed with fun for a great cause. Enjoy a scenic dice run through the countryside\, starting at Bumpus Harley-Davidson of Jackson and finishing at the Vanguard MC Clubhouse. The day will also feature live music (lineup TBA)\, tasty food\, door prizes\, auctions\, and raffles. \nDon’t miss this exciting day of community and camaraderie while helping a worthy cause!
URL:https://visitjacksontn.com/event/2025blings-memorial-butt-run/
LOCATION:Bumpus Harley Davidson\, 326 Carriage House Drive.\, Jackson\, TN\, 38305\, United States
CATEGORIES:Events,Music,Sports & Outdoor
ATTACH;FMTTYPE=image/jpeg:https://visitjacksontn.com/wp-content/uploads/474623328_613335184680688_8822885318913968804_n.jpg
END:VEVENT
END:VCALENDAR