BEGIN:VCALENDAR
VERSION:2.0
PRODID:-//Jackson Tourism - ECPv6.15.20//NONSGML v1.0//EN
CALSCALE:GREGORIAN
METHOD:PUBLISH
X-WR-CALNAME:Jackson Tourism
X-ORIGINAL-URL:https://visitjacksontn.com
X-WR-CALDESC:Events for Jackson Tourism
REFRESH-INTERVAL;VALUE=DURATION:PT1H
X-Robots-Tag:noindex
X-PUBLISHED-TTL:PT1H
BEGIN:VTIMEZONE
TZID:America/Chicago
BEGIN:DAYLIGHT
TZOFFSETFROM:-0600
TZOFFSETTO:-0500
TZNAME:CDT
DTSTART:20240310T080000
END:DAYLIGHT
BEGIN:STANDARD
TZOFFSETFROM:-0500
TZOFFSETTO:-0600
TZNAME:CST
DTSTART:20241103T070000
END:STANDARD
BEGIN:DAYLIGHT
TZOFFSETFROM:-0600
TZOFFSETTO:-0500
TZNAME:CDT
DTSTART:20250309T080000
END:DAYLIGHT
BEGIN:STANDARD
TZOFFSETFROM:-0500
TZOFFSETTO:-0600
TZNAME:CST
DTSTART:20251102T070000
END:STANDARD
BEGIN:DAYLIGHT
TZOFFSETFROM:-0600
TZOFFSETTO:-0500
TZNAME:CDT
DTSTART:20260308T080000
END:DAYLIGHT
BEGIN:STANDARD
TZOFFSETFROM:-0500
TZOFFSETTO:-0600
TZNAME:CST
DTSTART:20261101T070000
END:STANDARD
END:VTIMEZONE
BEGIN:VEVENT
DTSTART;VALUE=DATE:20250419
DTEND;VALUE=DATE:20250428
DTSTAMP:20260424T004425
CREATED:20250225T172258Z
LAST-MODIFIED:20250225T172354Z
UID:10005296-1745020800-1745798399@visitjacksontn.com
SUMMARY:World's Biggest Fish Fry
DESCRIPTION:The World’s Biggest Fish Fry is a must-experience spring tradition\, serving up 12\,000 pounds of crispy\, golden fried catfish alongside a week of parades\, dancing\, rodeo nights\, carnival rides\, fishing\, and even catfish races! What started as Mule Day in 1938 has evolved into a full-fledged celebration of fishing\, food\, and fun. \nThis week-long festival features concerts\, a carnival\, grand parade\, rodeo\, and catfish races\, yes\, you read that correctly! Check the event schedule for a full list of event details and locations.
URL:https://visitjacksontn.com/event/worlds-biggest-fish-fry-2/
LOCATION:Henry County Fairgrounds\, 517 Royal Oak Dr.\, Paris\, TN\, 38242\, United States
CATEGORIES:Arts & Culture,Events,Music,Sports & Outdoor
ATTACH;FMTTYPE=image/png:https://visitjacksontn.com/wp-content/uploads/fishfry-logo-3.png
END:VEVENT
BEGIN:VEVENT
DTSTART;VALUE=DATE:20250425
DTEND;VALUE=DATE:20250428
DTSTAMP:20260424T004425
CREATED:20250115T153244Z
LAST-MODIFIED:20250115T153833Z
UID:10005196-1745539200-1745798399@visitjacksontn.com
SUMMARY:Hatchie BirdFest 2025
DESCRIPTION:Don’t miss the Hatchie BirdFest 2025\, a celebration of nature and wildlife at the beautiful Hatchie National Wildlife Refuge! \nDiscover over 200 bird species through guided hikes\, expert-led demonstrations\, and engaging talks by special speakers. Whether you’re an avid birder or just starting\, this free event offers something for everyone\, including local vendors and family-friendly activities. Click here for the schedule.
URL:https://visitjacksontn.com/event/hatchie-birdfest-2025/
LOCATION:Hatchie National Wildlife Refuge\, TN-76\, Stanton\, TN\, 38069\, United States
CATEGORIES:Events,Sports & Outdoor
ATTACH;FMTTYPE=image/jpeg:https://visitjacksontn.com/wp-content/uploads/472454260_1118314627002327_2005524780649858033_n.jpg
END:VEVENT
BEGIN:VEVENT
DTSTART;VALUE=DATE:20250425
DTEND;VALUE=DATE:20250428
DTSTAMP:20260424T004425
CREATED:20250227T183841Z
LAST-MODIFIED:20250227T183841Z
UID:10005312-1745539200-1745798399@visitjacksontn.com
SUMMARY:DoubleTree by Hilton Sportsplex Spring Championships (Free Team Entry)
DESCRIPTION:The DoubleTree by Hilton Sportsplex Spring Championships is an exciting USSSA Baseball tournament open to AA and Open divisions. \nWith free team entry\, this event offers a great opportunity for teams to showcase their skills in a competitive environment and kick off the spring season in style.
URL:https://visitjacksontn.com/event/doubletree-by-hilton-sportsplex-spring-championships-free-team-entry/
LOCATION:West Tennessee Healthcare Sportsplex\, 250 Bancorpsouth Pkwy\, Jackson\, TN\, 38305\, United States
CATEGORIES:Events,Sports & Outdoor
ATTACH;FMTTYPE=image/jpeg:https://visitjacksontn.com/wp-content/uploads/images-1.jpg
END:VEVENT
BEGIN:VEVENT
DTSTART;TZID=America/Chicago:20250426T090000
DTEND;TZID=America/Chicago:20250426T180000
DTSTAMP:20260424T004425
CREATED:20250226T152853Z
LAST-MODIFIED:20250226T152903Z
UID:10005299-1745658000-1745690400@visitjacksontn.com
SUMMARY:Earth Day
DESCRIPTION:Celebrate Earth Day in the heart of Brownsville Square with a fun-filled weekend of activities! Enjoy walking\, running\, food trucks\, bouncy houses\, and local vendors\, along with the unique shops and restaurants around the square. Children’s activities will be hosted by Brownsville Parks and Recreation\, and Ford @ Blue Oval City and Blue Oval SK will have booths and interactive exhibits. \nEarth Day festivities will be held in conjunction with the Hatchie Bird Fest\, running from Friday\, April 25\, through Sunday\, April 27. Plus\, don’t miss live music at the AMP featuring Rita Perry (11 AM – 2 PM) and Bobby Stokley and the Bandits (3 PM – 6 PM) on Saturday!
URL:https://visitjacksontn.com/event/earth-day/
LOCATION:Downtown Brownsville\, 1 N Washington Ave\, Brownsville\, TN\, 38012\, United States
CATEGORIES:Arts & Culture,Events,Music,Sports & Outdoor
ATTACH;FMTTYPE=image/jpeg:https://visitjacksontn.com/wp-content/uploads/476799489_122204017454215080_4909324883734187428_n.jpg
END:VEVENT
BEGIN:VEVENT
DTSTART;TZID=America/Chicago:20250426T100000
DTEND;TZID=America/Chicago:20250426T140000
DTSTAMP:20260424T004425
CREATED:20250331T172122Z
LAST-MODIFIED:20250331T172122Z
UID:10005456-1745661600-1745676000@visitjacksontn.com
SUMMARY:Cars for a Cause
DESCRIPTION:Mark your calendars for Cars for A Cause\, presented by Jackson Equity Project! \nEnjoy games\, prizes\, and plenty of fun activities for all ages. Don’t miss out on the action! \n 
URL:https://visitjacksontn.com/event/cars-for-a-cause/
LOCATION:101 E College St\, 101 E College St\, Jackson\, TN\, 38305\, United States
CATEGORIES:Events,Sports & Outdoor
ATTACH;FMTTYPE=image/jpeg:https://visitjacksontn.com/wp-content/uploads/485063746_952586810377008_4926456631283058192_n.jpg
END:VEVENT
END:VCALENDAR