BEGIN:VCALENDAR
VERSION:2.0
PRODID:-//Jackson Tourism - ECPv6.15.20//NONSGML v1.0//EN
CALSCALE:GREGORIAN
METHOD:PUBLISH
X-WR-CALNAME:Jackson Tourism
X-ORIGINAL-URL:https://visitjacksontn.com
X-WR-CALDESC:Events for Jackson Tourism
REFRESH-INTERVAL;VALUE=DURATION:PT1H
X-Robots-Tag:noindex
X-PUBLISHED-TTL:PT1H
BEGIN:VTIMEZONE
TZID:America/Chicago
BEGIN:DAYLIGHT
TZOFFSETFROM:-0600
TZOFFSETTO:-0500
TZNAME:CDT
DTSTART:20240310T080000
END:DAYLIGHT
BEGIN:STANDARD
TZOFFSETFROM:-0500
TZOFFSETTO:-0600
TZNAME:CST
DTSTART:20241103T070000
END:STANDARD
BEGIN:DAYLIGHT
TZOFFSETFROM:-0600
TZOFFSETTO:-0500
TZNAME:CDT
DTSTART:20250309T080000
END:DAYLIGHT
BEGIN:STANDARD
TZOFFSETFROM:-0500
TZOFFSETTO:-0600
TZNAME:CST
DTSTART:20251102T070000
END:STANDARD
BEGIN:DAYLIGHT
TZOFFSETFROM:-0600
TZOFFSETTO:-0500
TZNAME:CDT
DTSTART:20260308T080000
END:DAYLIGHT
BEGIN:STANDARD
TZOFFSETFROM:-0500
TZOFFSETTO:-0600
TZNAME:CST
DTSTART:20261101T070000
END:STANDARD
END:VTIMEZONE
BEGIN:VEVENT
DTSTART;TZID=America/Chicago:20250416T100000
DTEND;TZID=America/Chicago:20250416T113000
DTSTAMP:20260425T213423
CREATED:20250331T144505Z
LAST-MODIFIED:20250331T144943Z
UID:10005450-1744797600-1744803000@visitjacksontn.com
SUMMARY:Hike at Middle Fork Bottoms State Park
DESCRIPTION:Join TennGreen for a hike at Middle Fork Bottoms State Park\, one of Tennessee’s newest state parks! \nSpanning 860 acres of restored wetlands\, hardwood forests\, and revitalized streams\, this scenic park offers a glimpse into conservation in action. Learn about TennGreen’s role in the park’s development while enjoying an easy walk along paved\, wheelchair- and bike-accessible trails.
URL:https://visitjacksontn.com/event/hike-at-middle-fork-bottoms-state-park/
LOCATION:Middle Fork Bottoms State Park\, 111 Sanders Bluff Road\, Three Way\, Humboldt\, TN\, 38343\, United States
CATEGORIES:Events,Sports & Outdoor
ATTACH;FMTTYPE=image/avif:https://visitjacksontn.com/wp-content/uploads/https___cdn.evbuc_.com_images_975970933_2587893069201_1_original.avif
END:VEVENT
END:VCALENDAR