BEGIN:VCALENDAR
VERSION:2.0
PRODID:-//Jackson Tourism - ECPv6.15.20//NONSGML v1.0//EN
CALSCALE:GREGORIAN
METHOD:PUBLISH
X-WR-CALNAME:Jackson Tourism
X-ORIGINAL-URL:https://visitjacksontn.com
X-WR-CALDESC:Events for Jackson Tourism
REFRESH-INTERVAL;VALUE=DURATION:PT1H
X-Robots-Tag:noindex
X-PUBLISHED-TTL:PT1H
BEGIN:VTIMEZONE
TZID:America/Chicago
BEGIN:DAYLIGHT
TZOFFSETFROM:-0600
TZOFFSETTO:-0500
TZNAME:CDT
DTSTART:20240310T080000
END:DAYLIGHT
BEGIN:STANDARD
TZOFFSETFROM:-0500
TZOFFSETTO:-0600
TZNAME:CST
DTSTART:20241103T070000
END:STANDARD
BEGIN:DAYLIGHT
TZOFFSETFROM:-0600
TZOFFSETTO:-0500
TZNAME:CDT
DTSTART:20250309T080000
END:DAYLIGHT
BEGIN:STANDARD
TZOFFSETFROM:-0500
TZOFFSETTO:-0600
TZNAME:CST
DTSTART:20251102T070000
END:STANDARD
BEGIN:DAYLIGHT
TZOFFSETFROM:-0600
TZOFFSETTO:-0500
TZNAME:CDT
DTSTART:20260308T080000
END:DAYLIGHT
BEGIN:STANDARD
TZOFFSETFROM:-0500
TZOFFSETTO:-0600
TZNAME:CST
DTSTART:20261101T070000
END:STANDARD
END:VTIMEZONE
BEGIN:VEVENT
DTSTART;TZID=America/Chicago:20250226T173000
DTEND;TZID=America/Chicago:20250226T193000
DTSTAMP:20260425T175513
CREATED:20241030T142612Z
LAST-MODIFIED:20241030T203314Z
UID:10002754-1740591000-1740598200@visitjacksontn.com
SUMMARY:Lane College Women’s Basketball VS Central State University | 5:30PM
DESCRIPTION:Lane College Women’s basketball takes on Central State University at 5:30PM at J.F. Lane Gymnasium. \nIt’s a great opportunity to experience the excitement of collegiate sports in our community! \n 
URL:https://visitjacksontn.com/event/lane-college-womens-basketball-vs-central-state-university-530pm/
LOCATION:J.F. Lane Gymnasium\, 545 Lane Ave\, Jackson\, TN\, 38301\, United States
CATEGORIES:Sports & Outdoor
ATTACH;FMTTYPE=image/png:https://visitjacksontn.com/wp-content/uploads/lane-college-logo-1.png
END:VEVENT
BEGIN:VEVENT
DTSTART;TZID=America/Chicago:20250226T193000
DTEND;TZID=America/Chicago:20250226T213000
DTSTAMP:20260425T175513
CREATED:20241030T145523Z
LAST-MODIFIED:20241030T203304Z
UID:10002766-1740598200-1740605400@visitjacksontn.com
SUMMARY:Lane College Men’s Basketball VS. Central State University | 7:30PM
DESCRIPTION:Lane College Men’s Basketball takes on Central State University at 7:30PM at J.F. Lane Gymnasium. \nIt’s a great opportunity to experience the excitement of collegiate sports in our community! \n 
URL:https://visitjacksontn.com/event/lane-college-mens-basketball-vs-central-state-university-730pm/
LOCATION:J.F. Lane Gymnasium\, 545 Lane Ave\, Jackson\, TN\, 38301\, United States
CATEGORIES:Sports & Outdoor
ATTACH;FMTTYPE=image/png:https://visitjacksontn.com/wp-content/uploads/lane-college-logo-1.png
END:VEVENT
END:VCALENDAR