BEGIN:VCALENDAR
VERSION:2.0
PRODID:-//Jackson Tourism - ECPv6.15.20//NONSGML v1.0//EN
CALSCALE:GREGORIAN
METHOD:PUBLISH
X-ORIGINAL-URL:https://visitjacksontn.com
X-WR-CALDESC:Events for Jackson Tourism
REFRESH-INTERVAL;VALUE=DURATION:PT1H
X-Robots-Tag:noindex
X-PUBLISHED-TTL:PT1H
BEGIN:VTIMEZONE
TZID:America/Chicago
BEGIN:DAYLIGHT
TZOFFSETFROM:-0600
TZOFFSETTO:-0500
TZNAME:CDT
DTSTART:20240310T080000
END:DAYLIGHT
BEGIN:STANDARD
TZOFFSETFROM:-0500
TZOFFSETTO:-0600
TZNAME:CST
DTSTART:20241103T070000
END:STANDARD
BEGIN:DAYLIGHT
TZOFFSETFROM:-0600
TZOFFSETTO:-0500
TZNAME:CDT
DTSTART:20250309T080000
END:DAYLIGHT
BEGIN:STANDARD
TZOFFSETFROM:-0500
TZOFFSETTO:-0600
TZNAME:CST
DTSTART:20251102T070000
END:STANDARD
BEGIN:DAYLIGHT
TZOFFSETFROM:-0600
TZOFFSETTO:-0500
TZNAME:CDT
DTSTART:20260308T080000
END:DAYLIGHT
BEGIN:STANDARD
TZOFFSETFROM:-0500
TZOFFSETTO:-0600
TZNAME:CST
DTSTART:20261101T070000
END:STANDARD
END:VTIMEZONE
BEGIN:VEVENT
DTSTART;TZID=America/Chicago:20250222T140000
DTEND;TZID=America/Chicago:20250222T160000
DTSTAMP:20260425T231850
CREATED:20241029T195921Z
LAST-MODIFIED:20241030T203859Z
UID:10002713-1740232800-1740240000@visitjacksontn.com
SUMMARY:Jackson State Community College Women’s basketball VS. Roane State | 2PM
DESCRIPTION:Jackson State Community College Women’s basketball takes on Roane State at 2PM at Jackson State Community College Gymnasium. \nIt’s a great opportunity to experience the excitement of collegiate sports in our community!
URL:https://visitjacksontn.com/event/jackson-state-community-college-womens-basketball-vs-roane-state-2pm/
LOCATION:Jackson State Community College\, 2046 N Parkway\, Jackson\, TN\, 38301\, United States
CATEGORIES:Sports & Outdoor
ATTACH;FMTTYPE=image/png:https://visitjacksontn.com/wp-content/uploads/JSCC-Green-Jays-1.png
END:VEVENT
BEGIN:VEVENT
DTSTART;TZID=America/Chicago:20250222T140000
DTEND;TZID=America/Chicago:20250222T160000
DTSTAMP:20260425T231850
CREATED:20241029T213643Z
LAST-MODIFIED:20241030T204225Z
UID:10002735-1740232800-1740240000@visitjacksontn.com
SUMMARY:Union University Women’s Basketball VS. Valdosta State University | 2PM
DESCRIPTION:Union University Women’s basketball takes on Valdosta State University at 2PM at Fred DeLay Gymnasium. \nIt’s a great opportunity to experience the excitement of collegiate sports in our community!
URL:https://visitjacksontn.com/event/union-university-womens-basketball-vs-valdosta-state-university-2pm/
LOCATION:Fred DeLay Gymnasium.\, 1050 University Drive\, Jackson\, TN\, 38305\, United States
CATEGORIES:Sports & Outdoor
ATTACH;FMTTYPE=image/png:https://visitjacksontn.com/wp-content/uploads/union-bball-logo.png
END:VEVENT
BEGIN:VEVENT
DTSTART;TZID=America/Chicago:20250222T140000
DTEND;TZID=America/Chicago:20250222T160000
DTSTAMP:20260425T231850
CREATED:20241030T142410Z
LAST-MODIFIED:20241030T203454Z
UID:10002751-1740232800-1740240000@visitjacksontn.com
SUMMARY:Lane College Women’s Basketball VS Miles College | 2PM
DESCRIPTION:Lane College Women’s basketball takes on Miles College at 2PM at J.F. Lane Gymnasium. \nIt’s a great opportunity to experience the excitement of collegiate sports in our community!
URL:https://visitjacksontn.com/event/lane-college-womens-basketball-vs-miles-college-2pm/
LOCATION:J.F. Lane Gymnasium\, 545 Lane Ave\, Jackson\, TN\, 38301\, United States
CATEGORIES:Sports & Outdoor
ATTACH;FMTTYPE=image/png:https://visitjacksontn.com/wp-content/uploads/lane-college-logo-1.png
END:VEVENT
BEGIN:VEVENT
DTSTART;TZID=America/Chicago:20250222T150000
DTEND;TZID=America/Chicago:20250222T170000
DTSTAMP:20260425T231850
CREATED:20241030T145341Z
LAST-MODIFIED:20241030T203448Z
UID:10002764-1740236400-1740243600@visitjacksontn.com
SUMMARY:Lane College Men’s Basketball VS. Miles College | 3PM
DESCRIPTION:Lane College Men’s Basketball takes on Miles College at 3PM at J.F. Lane Gymnasium. \nIt’s a great opportunity to experience the excitement of collegiate sports in our community!
URL:https://visitjacksontn.com/event/lane-college-mens-basketball-vs-miles-college-3pm/
LOCATION:J.F. Lane Gymnasium\, 545 Lane Ave\, Jackson\, TN\, 38301\, United States
CATEGORIES:Sports & Outdoor
ATTACH;FMTTYPE=image/png:https://visitjacksontn.com/wp-content/uploads/lane-college-logo-1.png
END:VEVENT
BEGIN:VEVENT
DTSTART;TZID=America/Chicago:20250222T160000
DTEND;TZID=America/Chicago:20250222T183000
DTSTAMP:20260425T231850
CREATED:20241029T180344Z
LAST-MODIFIED:20241030T203948Z
UID:10002702-1740240000-1740249000@visitjacksontn.com
SUMMARY:Jackson State Community College Men’s basketball VS. Roane State | 4PM
DESCRIPTION:Jackson State Community College Men’s basketball takes on Roane State at 4PM at Jackson State Community College Gymnasium. \nIt’s a great opportunity to experience the excitement of collegiate sports in our community!
URL:https://visitjacksontn.com/event/jackson-state-community-college-mens-basketball-vs-roane-state-4pm/
LOCATION:Jackson State Community College\, 2046 N Parkway\, Jackson\, TN\, 38301\, United States
CATEGORIES:Sports & Outdoor
ATTACH;FMTTYPE=image/png:https://visitjacksontn.com/wp-content/uploads/JSCC-Green-Jays-1.png
END:VEVENT
BEGIN:VEVENT
DTSTART;TZID=America/Chicago:20250222T160000
DTEND;TZID=America/Chicago:20250222T183000
DTSTAMP:20260425T231850
CREATED:20241030T135307Z
LAST-MODIFIED:20241030T203438Z
UID:10002739-1740240000-1740249000@visitjacksontn.com
SUMMARY:Union University Men’s Basketball VS. Valdosta State University | 4PM
DESCRIPTION:Union University Men’s basketball takes on University of Valdosta State University at 4PM at Fred DeLay Gymnasium. \nIt’s a great opportunity to experience the excitement of collegiate sports in our community! \n 
URL:https://visitjacksontn.com/event/union-university-mens-basketball-vs-valdosta-state-university-4pm/
LOCATION:Fred DeLay Gymnasium.\, 1050 University Drive\, Jackson\, TN\, 38305\, United States
CATEGORIES:Sports & Outdoor
ATTACH;FMTTYPE=image/png:https://visitjacksontn.com/wp-content/uploads/union-bball-logo.png
END:VEVENT
END:VCALENDAR