BEGIN:VCALENDAR
VERSION:2.0
PRODID:-//Jackson Tourism - ECPv6.15.20//NONSGML v1.0//EN
CALSCALE:GREGORIAN
METHOD:PUBLISH
X-ORIGINAL-URL:https://visitjacksontn.com
X-WR-CALDESC:Events for Jackson Tourism
REFRESH-INTERVAL;VALUE=DURATION:PT1H
X-Robots-Tag:noindex
X-PUBLISHED-TTL:PT1H
BEGIN:VTIMEZONE
TZID:America/Chicago
BEGIN:DAYLIGHT
TZOFFSETFROM:-0600
TZOFFSETTO:-0500
TZNAME:CDT
DTSTART:20240310T080000
END:DAYLIGHT
BEGIN:STANDARD
TZOFFSETFROM:-0500
TZOFFSETTO:-0600
TZNAME:CST
DTSTART:20241103T070000
END:STANDARD
BEGIN:DAYLIGHT
TZOFFSETFROM:-0600
TZOFFSETTO:-0500
TZNAME:CDT
DTSTART:20250309T080000
END:DAYLIGHT
BEGIN:STANDARD
TZOFFSETFROM:-0500
TZOFFSETTO:-0600
TZNAME:CST
DTSTART:20251102T070000
END:STANDARD
BEGIN:DAYLIGHT
TZOFFSETFROM:-0600
TZOFFSETTO:-0500
TZNAME:CDT
DTSTART:20260308T080000
END:DAYLIGHT
BEGIN:STANDARD
TZOFFSETFROM:-0500
TZOFFSETTO:-0600
TZNAME:CST
DTSTART:20261101T070000
END:STANDARD
END:VTIMEZONE
BEGIN:VEVENT
DTSTART;VALUE=DATE:20250131
DTEND;VALUE=DATE:20250203
DTSTAMP:20260425T231855
CREATED:20241210T172612Z
LAST-MODIFIED:20241210T175337Z
UID:10005148-1738281600-1738540799@visitjacksontn.com
SUMMARY:21st Annual Reelfoot Lake Eagle Festival
DESCRIPTION:Mark your calendars for the 21st Reelfoot Lake Eagle Festival\, and experience the majesty of bald eagles at Reelfoot Lake\, home to one of the largest wintering populations outside Alaska. Enjoy eagle tours\, special programs\, vendors\, arts and photography contests\, children’s activities and opportunities to learn more about Reelfoot Lake and the majestic eagle. For the festival’s schedule\, click here. \nWitness these iconic birds in their natural habitat during Eagle Tours from early January through late February. Reservations are $20 per person; call 731-253-9652 to book. Don’t miss this birdwatcher’s paradise and an unforgettable connection with nature’s splendor!
URL:https://visitjacksontn.com/event/21st-annual-reelfoot-lake-eagle-festival/
LOCATION:Reelfoot Lake State Park\, 2595 HWY 21E\, Tiptonville\, TN\, 38079\, United States
CATEGORIES:Events,History & Civil War,Sports & Outdoor
ATTACH;FMTTYPE=image/jpeg:https://visitjacksontn.com/wp-content/uploads/EAAEACB5-7008-4A7A-8B2028A935AE9287.jpg
END:VEVENT
END:VCALENDAR