BEGIN:VCALENDAR
VERSION:2.0
PRODID:-//Jackson Tourism - ECPv6.15.20//NONSGML v1.0//EN
CALSCALE:GREGORIAN
METHOD:PUBLISH
X-WR-CALNAME:Jackson Tourism
X-ORIGINAL-URL:https://visitjacksontn.com
X-WR-CALDESC:Events for Jackson Tourism
REFRESH-INTERVAL;VALUE=DURATION:PT1H
X-Robots-Tag:noindex
X-PUBLISHED-TTL:PT1H
BEGIN:VTIMEZONE
TZID:America/Chicago
BEGIN:DAYLIGHT
TZOFFSETFROM:-0600
TZOFFSETTO:-0500
TZNAME:CDT
DTSTART:20240310T080000
END:DAYLIGHT
BEGIN:STANDARD
TZOFFSETFROM:-0500
TZOFFSETTO:-0600
TZNAME:CST
DTSTART:20241103T070000
END:STANDARD
BEGIN:DAYLIGHT
TZOFFSETFROM:-0600
TZOFFSETTO:-0500
TZNAME:CDT
DTSTART:20250309T080000
END:DAYLIGHT
BEGIN:STANDARD
TZOFFSETFROM:-0500
TZOFFSETTO:-0600
TZNAME:CST
DTSTART:20251102T070000
END:STANDARD
BEGIN:DAYLIGHT
TZOFFSETFROM:-0600
TZOFFSETTO:-0500
TZNAME:CDT
DTSTART:20260308T080000
END:DAYLIGHT
BEGIN:STANDARD
TZOFFSETFROM:-0500
TZOFFSETTO:-0600
TZNAME:CST
DTSTART:20261101T070000
END:STANDARD
END:VTIMEZONE
BEGIN:VEVENT
DTSTART;TZID=America/Chicago:20250130T173000
DTEND;TZID=America/Chicago:20250130T193000
DTSTAMP:20260425T231820
CREATED:20241029T211027Z
LAST-MODIFIED:20241030T204217Z
UID:10002730-1738258200-1738265400@visitjacksontn.com
SUMMARY:Union University Women’s Basketball VS. Christian Brothers University | 7:30PM
DESCRIPTION:Union University Women’s basketball takes on Christian Brothers University at 5:30PM at Fred DeLay Gymnasium. \nIt’s a great opportunity to experience the excitement of collegiate sports in our community!
URL:https://visitjacksontn.com/event/union-university-womens-basketball-vs-christian-brothers-university-730pm-2/
LOCATION:Fred DeLay Gymnasium.\, 1050 University Drive\, Jackson\, TN\, 38305\, United States
CATEGORIES:Sports & Outdoor
ATTACH;FMTTYPE=image/png:https://visitjacksontn.com/wp-content/uploads/union-bball-logo.png
END:VEVENT
BEGIN:VEVENT
DTSTART;TZID=America/Chicago:20250130T193000
DTEND;TZID=America/Chicago:20250130T213000
DTSTAMP:20260425T231820
CREATED:20241029T210856Z
LAST-MODIFIED:20241030T204222Z
UID:10002729-1738265400-1738272600@visitjacksontn.com
SUMMARY:Union University Men’s Basketball VS. Christian Brothers University | 7:30PM
DESCRIPTION:Union University Men’s basketball takes on Christian Brothers University at 7:30PM at Fred DeLay Gymnasium. \nIt’s a great opportunity to experience the excitement of collegiate sports in our community!
URL:https://visitjacksontn.com/event/union-university-womens-basketball-vs-christian-brothers-university-730pm/
LOCATION:Fred DeLay Gymnasium.\, 1050 University Drive\, Jackson\, TN\, 38305\, United States
CATEGORIES:Sports & Outdoor
ATTACH;FMTTYPE=image/png:https://visitjacksontn.com/wp-content/uploads/union-bball-logo.png
END:VEVENT
END:VCALENDAR