BEGIN:VCALENDAR
VERSION:2.0
PRODID:-//Jackson Tourism - ECPv6.15.20//NONSGML v1.0//EN
CALSCALE:GREGORIAN
METHOD:PUBLISH
X-WR-CALNAME:Jackson Tourism
X-ORIGINAL-URL:https://visitjacksontn.com
X-WR-CALDESC:Events for Jackson Tourism
REFRESH-INTERVAL;VALUE=DURATION:PT1H
X-Robots-Tag:noindex
X-PUBLISHED-TTL:PT1H
BEGIN:VTIMEZONE
TZID:America/Chicago
BEGIN:DAYLIGHT
TZOFFSETFROM:-0600
TZOFFSETTO:-0500
TZNAME:CDT
DTSTART:20240310T080000
END:DAYLIGHT
BEGIN:STANDARD
TZOFFSETFROM:-0500
TZOFFSETTO:-0600
TZNAME:CST
DTSTART:20241103T070000
END:STANDARD
BEGIN:DAYLIGHT
TZOFFSETFROM:-0600
TZOFFSETTO:-0500
TZNAME:CDT
DTSTART:20250309T080000
END:DAYLIGHT
BEGIN:STANDARD
TZOFFSETFROM:-0500
TZOFFSETTO:-0600
TZNAME:CST
DTSTART:20251102T070000
END:STANDARD
BEGIN:DAYLIGHT
TZOFFSETFROM:-0600
TZOFFSETTO:-0500
TZNAME:CDT
DTSTART:20260308T080000
END:DAYLIGHT
BEGIN:STANDARD
TZOFFSETFROM:-0500
TZOFFSETTO:-0600
TZNAME:CST
DTSTART:20261101T070000
END:STANDARD
END:VTIMEZONE
BEGIN:VEVENT
DTSTART;VALUE=DATE:20250530
DTEND;VALUE=DATE:20250602
DTSTAMP:20260422T192149
CREATED:20250227T185048Z
LAST-MODIFIED:20250227T185048Z
UID:10005318-1748563200-1748822399@visitjacksontn.com
SUMMARY:June Thunder (Free Team Entry)
DESCRIPTION:The June Thunder is an exciting USSSA Baseball tournament open to AA and Open divisions. \nWith free team entry\, this event offers an excellent opportunity for teams to compete in a high-energy\, competitive environment and make their mark on the field.
URL:https://visitjacksontn.com/event/june-thunder-free-team-entry/
LOCATION:West Tennessee Healthcare Sportsplex\, 250 Bancorpsouth Pkwy\, Jackson\, TN\, 38305\, United States
CATEGORIES:Events,Sports & Outdoor
ATTACH;FMTTYPE=image/jpeg:https://visitjacksontn.com/wp-content/uploads/images-1.jpg
END:VEVENT
BEGIN:VEVENT
DTSTART;VALUE=DATE:20250603
DTEND;VALUE=DATE:20250606
DTSTAMP:20260422T192149
CREATED:20250324T183037Z
LAST-MODIFIED:20250324T183037Z
UID:10005425-1748908800-1749167999@visitjacksontn.com
SUMMARY:Jackson Rockabillys vs. Dubois County Bombers
DESCRIPTION:The Jackson Rockabillys take on the Dubois County Bombers at 7:00 PM. \nGet your gear on and come show support for Jackson’s hometown team!
URL:https://visitjacksontn.com/event/jackson-rockabillys-vs-dubois-county-bombers-3/
LOCATION:Jackson Rockabillys Stadium\, 4 Fun Place\, Jackson\, TN\, 38305\, United States
CATEGORIES:Events,Sports & Outdoor
ATTACH;FMTTYPE=image/png:https://visitjacksontn.com/wp-content/uploads/Primary_Logo-0-3x-1.png
END:VEVENT
BEGIN:VEVENT
DTSTART;TZID=America/Chicago:20250604T183000
DTEND;TZID=America/Chicago:20250604T183000
DTSTAMP:20260422T192149
CREATED:20250501T142919Z
LAST-MODIFIED:20250501T143728Z
UID:10005535-1749061800-1749061800@visitjacksontn.com
SUMMARY:The Big Run 5K
DESCRIPTION:Celebrate Global Running Day at The Big Run 5K! \nThis is a worldwide celebration of running\, encouraging people of all ages and abilities to get moving. Don’t miss this fun\, family-friendly event.
URL:https://visitjacksontn.com/event/the-big-run-5k/
LOCATION:Middle Fork Bottoms State Park\, 111 Sanders Bluff Road\, Three Way\, Humboldt\, TN\, 38343\, United States
CATEGORIES:Events,Sports & Outdoor
ATTACH;FMTTYPE=image/jpeg:https://visitjacksontn.com/wp-content/uploads/493025500_1239122071548907_7572969271441123321_n.jpg
END:VEVENT
BEGIN:VEVENT
DTSTART;VALUE=DATE:20250605
DTEND;VALUE=DATE:20250609
DTSTAMP:20260422T192149
CREATED:20241211T170212Z
LAST-MODIFIED:20250401T192314Z
UID:10005154-1749081600-1749427199@visitjacksontn.com
SUMMARY:State Games of Tennessee 2025: Pickleball Tournament
DESCRIPTION:Get ready for top-tier competition at the State Games of Tennessee Pickleball Tournament! \nWith 18 courts\, a Round Robin format\, and medal rounds\, players will compete for Gold\, Silver\, and Bronze. Participants can enjoy exclusive access to a hospitality tent with air conditioning\, daily lunches\, and a hydration station provided by Guiding Star Insurance.
URL:https://visitjacksontn.com/event/state-games-of-tennessee-2025-pickleball-tournament/
LOCATION:Conger Park\, 1453 N. Highland Ave\, Jackson\, TN\, 38301\, United States
CATEGORIES:Events,Sports & Outdoor
ATTACH;FMTTYPE=image/png:https://visitjacksontn.com/wp-content/uploads/t_170676.png
END:VEVENT
BEGIN:VEVENT
DTSTART;VALUE=DATE:20250606
DTEND;VALUE=DATE:20250609
DTSTAMP:20260422T192149
CREATED:20250401T194150Z
LAST-MODIFIED:20250401T194150Z
UID:10005460-1749168000-1749427199@visitjacksontn.com
SUMMARY:State Games of Tennessee 2025: Youth Basketball Tournament
DESCRIPTION:Get ready for the State Games of Tennessee 2025: Youth Basketball Tournament! \nThis tournament offers young athletes the opportunity to compete across various age divisions\, including 10U\, 12U\, 14U\, 15U\, and 17U for both boys and girls.
URL:https://visitjacksontn.com/event/state-games-of-tennessee-2025-youth-basketball-tournament/
LOCATION:TN
CATEGORIES:Events,Sports & Outdoor
ATTACH;FMTTYPE=image/png:https://visitjacksontn.com/wp-content/uploads/t_171433.png
END:VEVENT
BEGIN:VEVENT
DTSTART;VALUE=DATE:20250606
DTEND;VALUE=DATE:20250609
DTSTAMP:20260422T192149
CREATED:20250401T201225Z
LAST-MODIFIED:20250401T201225Z
UID:10005461-1749168000-1749427199@visitjacksontn.com
SUMMARY:State Games of Tennessee 2025: Youth Tennis Tournament
DESCRIPTION:The State Games of Tennessee Youth Tennis Tournament will take place this June\, offering singles and doubles competition for boys and girls ages 12-18. \nMatches will follow USTA rules\, including regular tiebreak rotations and no-ad scoring. Players can enter up to two events and will compete for Gold\, Silver\, and Bronze medals. The registration deadline is June 3\, with entry fees set at $66.84 for singles and $33.75 per player for doubles.
URL:https://visitjacksontn.com/event/state-games-of-tennessee-2025-youth-tennis-tournament/
LOCATION:Jackson Tennis Center\, 40 Match Point Drive\, Jackson\, TN\, 38305\, United States
CATEGORIES:Events,Sports & Outdoor
ATTACH;FMTTYPE=image/png:https://visitjacksontn.com/wp-content/uploads/t_171147.png
END:VEVENT
BEGIN:VEVENT
DTSTART;TZID=America/Chicago:20250606T183000
DTEND;TZID=America/Chicago:20250606T183000
DTSTAMP:20260422T192149
CREATED:20250325T143603Z
LAST-MODIFIED:20250325T150201Z
UID:10005439-1749234600-1749234600@visitjacksontn.com
SUMMARY:State Games of Tennessee: Opening Ceremony
DESCRIPTION:Kick off the first-ever Tennessee State Games with an unforgettable Opening Ceremony! \nThe festivities will begin with the Athlete Parade\, celebrating the incredible competitors gearing up for the tournament. Then\, witness the lighting of the cauldron\, officially igniting the spirit of competition for the State Games of Tennessee. \nCome out and cheer on the athletes\, soak in the excitement\, and be part of history!
URL:https://visitjacksontn.com/event/state-games-of-tennessee-opening-ceremony/
LOCATION:Jackson Rockabillys Stadium\, 4 Fun Place\, Jackson\, TN\, 38305\, United States
CATEGORIES:Events,Sports & Outdoor
ATTACH;FMTTYPE=image/jpeg:https://visitjacksontn.com/wp-content/uploads/fb143944-8f36-f18e-7d7d-fdab175604c4.jpg
END:VEVENT
BEGIN:VEVENT
DTSTART;VALUE=DATE:20250607
DTEND;VALUE=DATE:20250609
DTSTAMP:20260422T192149
CREATED:20250401T204235Z
LAST-MODIFIED:20250401T204426Z
UID:10005463-1749254400-1749427199@visitjacksontn.com
SUMMARY:State Games of Tennessee 2025: Youth Baseball
DESCRIPTION:The State Games of Tennessee 2025: Youth Baseball Tournament invites teams from 7U to 15U to compete for Gold\, Silver\, and Bronze medals! \nWith a $100 entry fee per team\, participants will also receive a tournament T-shirt. This event offers young athletes a chance to shine on a competitive stage.
URL:https://visitjacksontn.com/event/state-games-of-tennessee-2025-youth-baseball/
LOCATION:West Tennessee Healthcare Sportsplex\, 250 Bancorpsouth Pkwy\, Jackson\, TN\, 38305\, United States
CATEGORIES:Events,Sports & Outdoor
ATTACH;FMTTYPE=image/png:https://visitjacksontn.com/wp-content/uploads/t_170052.png
END:VEVENT
BEGIN:VEVENT
DTSTART;VALUE=DATE:20250607
DTEND;VALUE=DATE:20250609
DTSTAMP:20260422T192149
CREATED:20250401T214036Z
LAST-MODIFIED:20250401T214051Z
UID:10005464-1749254400-1749427199@visitjacksontn.com
SUMMARY:State Games of Tennessee 2025: Youth Soccer
DESCRIPTION:The State Games of Tennessee 2025: Youth Soccer Tournament is set for this June! \nRegistration for the youth soccer tournament is open until June 1\, 2025\, with a late registration fee of $50 after June.
URL:https://visitjacksontn.com/event/state-games-of-tennessee-2025-youth-soccer/
LOCATION:North Park\, 689 Cooper Anderson Rd #551\, Jackson\, TN\, 38305\, United States
CATEGORIES:Events,Sports & Outdoor
ATTACH;FMTTYPE=image/png:https://visitjacksontn.com/wp-content/uploads/t_171829.png
END:VEVENT
BEGIN:VEVENT
DTSTART;VALUE=DATE:20250607
DTEND;VALUE=DATE:20250609
DTSTAMP:20260422T192149
CREATED:20250402T135412Z
LAST-MODIFIED:20250402T135412Z
UID:10005465-1749254400-1749427199@visitjacksontn.com
SUMMARY:State Games of Tennessee 2025: Youth Softball
DESCRIPTION:The State Games of Tennessee 2025: Youth Softball Tournament is set for this June! \nThis event aims to unite young athletes from across the state\, offering them a platform to showcase their skills and compete for gold\, silver\, and bronze medals.
URL:https://visitjacksontn.com/event/state-games-of-tennessee-2025-youth-softball/
LOCATION:West Tennessee Healthcare Sportsplex\, 250 Bancorpsouth Pkwy\, Jackson\, TN\, 38305\, United States
CATEGORIES:Events,Sports & Outdoor
ATTACH;FMTTYPE=image/png:https://visitjacksontn.com/wp-content/uploads/t_171739.png
END:VEVENT
BEGIN:VEVENT
DTSTART;TZID=America/Chicago:20250607T080000
DTEND;TZID=America/Chicago:20250607T080000
DTSTAMP:20260422T192149
CREATED:20250401T202803Z
LAST-MODIFIED:20250401T202833Z
UID:10005462-1749283200-1749283200@visitjacksontn.com
SUMMARY:State Games of Tennessee 2025: Mountain Bike Race
DESCRIPTION:​The State Games of Tennessee 2025 Mountain Bike Race invites cyclists of all levels to compete on Pugh Bourne Park’s dynamic trails. \nAdditional details\, including registration information\, will be announced soon.
URL:https://visitjacksontn.com/event/state-games-of-tennessee-2025-mountain-bike-race/
LOCATION:Pugh Bourne Park\, 343 Oakfield Road\, Oakfield\, TN\, 38362\, United States
CATEGORIES:Events,Sports & Outdoor
ATTACH;FMTTYPE=image/png:https://visitjacksontn.com/wp-content/uploads/t_170243.png
END:VEVENT
BEGIN:VEVENT
DTSTART;TZID=America/Chicago:20250607T080000
DTEND;TZID=America/Chicago:20250607T080000
DTSTAMP:20260422T192149
CREATED:20250402T155138Z
LAST-MODIFIED:20250512T140610Z
UID:10005467-1749283200-1749283200@visitjacksontn.com
SUMMARY:State Games of Tennessee 2025: Youth Volleyball
DESCRIPTION:The State Games of Tennessee Youth Volleyball Tournament will bring junior teams together for a day of competition at various locations! \nTeams will battle for Gold\, Silver\, and Bronze medals\, showcasing top youth volleyball talent. Entry fee is $280 per team\, and registration closes on June 13\, 2025. \nFor more details\, contact tournament director Phylis Anyango at jacksonjuniorsvbc@gmail.com.
URL:https://visitjacksontn.com/event/state-games-of-tennessee-2025-youth-volleyball/
LOCATION:TN
CATEGORIES:Events,Sports & Outdoor
ATTACH;FMTTYPE=image/png:https://visitjacksontn.com/wp-content/uploads/t_171726.png
END:VEVENT
BEGIN:VEVENT
DTSTART;VALUE=DATE:20250613
DTEND;VALUE=DATE:20250615
DTSTAMP:20260422T192149
CREATED:20250402T164717Z
LAST-MODIFIED:20250402T164717Z
UID:10005470-1749772800-1749945599@visitjacksontn.com
SUMMARY:State Games of Tennessee 2025: Cornhole
DESCRIPTION:The State Games of Tennessee Cornhole Tournament brings together players of all skill levels to compete for Gold\, Silver\, and Bronze medals. \nThe competition kicks off with a Blind Draw\, followed by a full day of singles and doubles matches including Juniors\, Advanced\, and Backyard divisions. With entry fees ranging from $30 to $60\, participants are encouraged to register online by June 5 to guarantee their correct t-shirt size. \nFor more details\, contact Tournament Director Bill Borgens at borgens2008@yahoo.com.
URL:https://visitjacksontn.com/event/state-games-of-tennessee-2025-cornhole/
LOCATION:Jackson Fairgrounds\, 800 S. Highland Ave\, Jackson\, TN\, 38301\, United States
CATEGORIES:Events,Sports & Outdoor
ATTACH;FMTTYPE=image/png:https://visitjacksontn.com/wp-content/uploads/t_171740.png
END:VEVENT
BEGIN:VEVENT
DTSTART;VALUE=DATE:20250613
DTEND;VALUE=DATE:20250616
DTSTAMP:20260422T192149
CREATED:20250227T192147Z
LAST-MODIFIED:20250227T192147Z
UID:10005319-1749772800-1750031999@visitjacksontn.com
SUMMARY:Father's Day Frenzy (Free Team Entry) Presented by Slim Chickens
DESCRIPTION:The Father’s Day Frenzy\, presented by Slim Chickens\, is an exciting USSSA Baseball tournament for AA and Open divisions. \nWith free team entry\, this event offers a fantastic opportunity to celebrate Father’s Day by competing in a high-energy\, action-packed environment on the field.
URL:https://visitjacksontn.com/event/fathers-day-frenzy-free-team-entry-presented-by-slim-chickens/
LOCATION:West Tennessee Healthcare Sportsplex\, 250 Bancorpsouth Pkwy\, Jackson\, TN\, 38305\, United States
CATEGORIES:Events,Sports & Outdoor
ATTACH;FMTTYPE=image/jpeg:https://visitjacksontn.com/wp-content/uploads/images-1.jpg
END:VEVENT
BEGIN:VEVENT
DTSTART;VALUE=DATE:20250613
DTEND;VALUE=DATE:20250616
DTSTAMP:20260422T192149
CREATED:20250324T183306Z
LAST-MODIFIED:20250324T183306Z
UID:10005426-1749772800-1750031999@visitjacksontn.com
SUMMARY:Jackson Rockabillys vs. Normal CornBelters
DESCRIPTION:The Jackson Rockabillys take on the Normal CornBelters at 7:00 PM. \nGet your gear on and come show support for Jackson’s hometown team!
URL:https://visitjacksontn.com/event/jackson-rockabillys-vs-normal-cornbelters/
LOCATION:Jackson Rockabillys Stadium\, 4 Fun Place\, Jackson\, TN\, 38305\, United States
CATEGORIES:Events,Sports & Outdoor
ATTACH;FMTTYPE=image/png:https://visitjacksontn.com/wp-content/uploads/Primary_Logo-0-3x-1.png
END:VEVENT
BEGIN:VEVENT
DTSTART;VALUE=DATE:20250614
DTEND;VALUE=DATE:20250615
DTSTAMP:20260422T192149
CREATED:20250403T150546Z
LAST-MODIFIED:20250512T145815Z
UID:10005476-1749859200-1749945599@visitjacksontn.com
SUMMARY:State Games of Tennessee 2025: Wedge
DESCRIPTION:​The State Games of Tennessee 2025 will feature a Wedge Golf competition! \nThis inaugural event is part of an Olympic-style multi-sport festival exclusively for Tennessee residents. Gold\, silver\, and bronze medals will be awarded to the top three athletes or teams in each division across all sports.
URL:https://visitjacksontn.com/event/state-games-of-tennessee-2025-wedge/
LOCATION:Hub City Brewing\, 250 West Main Street\, Jackson\, TN\, 38301\, United States
CATEGORIES:Events,Sports & Outdoor
ATTACH;FMTTYPE=image/png:https://visitjacksontn.com/wp-content/uploads/t_171742.png
END:VEVENT
BEGIN:VEVENT
DTSTART;VALUE=DATE:20250614
DTEND;VALUE=DATE:20250616
DTSTAMP:20260422T192149
CREATED:20250402T163751Z
LAST-MODIFIED:20250512T143107Z
UID:10005469-1749859200-1750031999@visitjacksontn.com
SUMMARY:State Games of Tennessee 2025: Adult Softball
DESCRIPTION:The State Games of Tennessee: Adult Softball tournament is set for this June! \nThis tournament is exclusively for Tennessee teams\, with an entry fee of $300.
URL:https://visitjacksontn.com/event/state-games-of-tennessee-2025-adult-softball/
LOCATION:West Tennessee Healthcare Sportsplex\, 250 Bancorpsouth Pkwy\, Jackson\, TN\, 38305\, United States
CATEGORIES:Events,Sports & Outdoor
ATTACH;FMTTYPE=image/png:https://visitjacksontn.com/wp-content/uploads/t_171741.png
END:VEVENT
BEGIN:VEVENT
DTSTART;VALUE=DATE:20250614
DTEND;VALUE=DATE:20250616
DTSTAMP:20260422T192149
CREATED:20250403T144937Z
LAST-MODIFIED:20250512T144938Z
UID:10005474-1749859200-1750031999@visitjacksontn.com
SUMMARY:State Games of Tennessee 2025: Disc Golf
DESCRIPTION:The State Games of Tennessee Disc Golf Tournament is set for June! \nThis PDGA-sanctioned B-Tier event features multiple divisions\, with entry fees of $49-$59. Players will compete over two rounds\, with A Pool playing the Blue layout both rounds and B Pool playing White (Round 1) and Blue (Round 2). Gold\, Silver\, and Bronze medals will be awarded in each division. \nRegister by June 13 to compete! Contact Thomas West at HCdiscgolfclub@gmail.com for details.
URL:https://visitjacksontn.com/event/state-games-of-tennessee-2025-disc-golf/
LOCATION:The Bend on Highland\, 40 Match Point Drive\, Jackson\, TN\, 38305\, United States
CATEGORIES:Events,Sports & Outdoor
ATTACH;FMTTYPE=image/png:https://visitjacksontn.com/wp-content/uploads/t_170242.png
END:VEVENT
BEGIN:VEVENT
DTSTART;TZID=America/Chicago:20250614T090000
DTEND;TZID=America/Chicago:20250614T090000
DTSTAMP:20260422T192149
CREATED:20250403T150309Z
LAST-MODIFIED:20250403T150319Z
UID:10005475-1749891600-1749891600@visitjacksontn.com
SUMMARY:State Games of Tennessee 2025: Horseshoes
DESCRIPTION:​The State Games of Tennessee will feature a Horseshoes competition! \nThis event is part of the inaugural State Games\, an Olympic-style multi-sport festival exclusively for Tennessee residents. Gold\, silver\, and bronze medals will be awarded to the top three athletes or teams in each division across all sports.
URL:https://visitjacksontn.com/event/state-games-of-tennessee-2025-horseshoes/
LOCATION:Malesus Park\, 412 Bolivar Hwy\, Jackson\, TN\, 38301\, United States
CATEGORIES:Events,Sports & Outdoor
ATTACH;FMTTYPE=image/png:https://visitjacksontn.com/wp-content/uploads/t_170055.png
END:VEVENT
BEGIN:VEVENT
DTSTART;TZID=America/Chicago:20250614T100000
DTEND;TZID=America/Chicago:20250614T160000
DTSTAMP:20260422T192149
CREATED:20250408T162106Z
LAST-MODIFIED:20250408T162115Z
UID:10005496-1749895200-1749916800@visitjacksontn.com
SUMMARY:Henry County Summerfest
DESCRIPTION:Get ready for the Henry County Summerfest! \nWith over 80 vendors\, there’s plenty to discover from trendy boutiques and handmade jewelry to custom hats\, arts and crafts\, and delicious goodies. Kids will love building their own plushie and visiting the petting zoo\, while pet lovers can shop for stylish dog clothes. Don’t forget to grab a bite from the food trucks offering a variety of tasty options\, and snap photos with Llama Llama Adventures. \nAdmission is free\, so bring your friends and family- don’t miss it!
URL:https://visitjacksontn.com/event/henry-county-summerfest-2/
LOCATION:Henry County Fairgrounds\, 517 Royal Oak Dr.\, Paris\, TN\, 38242\, United States
CATEGORIES:Arts & Culture,Events,Sports & Outdoor
ATTACH;FMTTYPE=image/jpeg:https://visitjacksontn.com/wp-content/uploads/484452284_628540253268941_2324108839381310678_n.jpg
END:VEVENT
BEGIN:VEVENT
DTSTART;TZID=America/Chicago:20250615T070000
DTEND;TZID=America/Chicago:20250615T070000
DTSTAMP:20260422T192149
CREATED:20250403T151921Z
LAST-MODIFIED:20250512T150343Z
UID:10005477-1749970800-1749970800@visitjacksontn.com
SUMMARY:State Games of Tennessee 2025: 5K Road Race
DESCRIPTION:The State Games of Tennessee 2025 5K Road Race\, sponsored by Fleet Feet\, is coming to Downtown Jackson! \nRunners will race through historic downtown and the University of Memphis Lambuth campus. Register by June 5 to guarantee a t-shirt! Medals awarded in all age divisions. Contact Danny Crossett at danny@crossett.com for details.
URL:https://visitjacksontn.com/event/state-games-of-tennessee-2025-5k/
LOCATION:West Tennessee Farmers Market\, 91 New Market St.\, Jackson\, TN\, 38301\, United States
CATEGORIES:Events,Sports & Outdoor
ATTACH;FMTTYPE=image/png:https://visitjacksontn.com/wp-content/uploads/t_170240.png
END:VEVENT
BEGIN:VEVENT
DTSTART;VALUE=DATE:20250617
DTEND;VALUE=DATE:20250619
DTSTAMP:20260422T192150
CREATED:20250324T183432Z
LAST-MODIFIED:20250324T183432Z
UID:10005427-1750118400-1750291199@visitjacksontn.com
SUMMARY:Jackson Rockabillys vs. Springfield Lucky Horseshoes
DESCRIPTION:The Jackson Rockabillys take on the Springfield Lucky Horseshoes at 7:00 PM. \nGet your gear on and come show support for Jackson’s hometown team!
URL:https://visitjacksontn.com/event/jackson-rockabillys-vs-springfield-lucky-horseshoes-3/
LOCATION:Jackson Rockabillys Stadium\, 4 Fun Place\, Jackson\, TN\, 38305\, United States
CATEGORIES:Events,Sports & Outdoor
ATTACH;FMTTYPE=image/png:https://visitjacksontn.com/wp-content/uploads/Primary_Logo-0-3x-1.png
END:VEVENT
BEGIN:VEVENT
DTSTART;TZID=America/Chicago:20250619T183000
DTEND;TZID=America/Chicago:20250619T183000
DTSTAMP:20260422T192150
CREATED:20250324T201837Z
LAST-MODIFIED:20250324T202628Z
UID:10005437-1750357800-1750357800@visitjacksontn.com
SUMMARY:Twilight Run & Downtown Rendezvous
DESCRIPTION:Lace up for a meaningful evening at the Twilight Run & Downtown Rendezvous. \nThe night kicks off with a 5K & 1-Mile Run\, followed by a delicious dinner\, live entertainment\, and awards ceremony at The AMP. Don’t miss this night of fitness\, fun\, and community!
URL:https://visitjacksontn.com/event/twilight-run-downtown-rendezvous/
LOCATION:West Tennessee Farmers Market\, 91 New Market St.\, Jackson\, TN\, 38301\, United States
CATEGORIES:Events,Sports & Outdoor
ATTACH;FMTTYPE=image/png:https://visitjacksontn.com/wp-content/uploads/3tnmsm2n2c4bq7bf._original.png
END:VEVENT
BEGIN:VEVENT
DTSTART;VALUE=DATE:20250620
DTEND;VALUE=DATE:20250623
DTSTAMP:20260422T192150
CREATED:20250227T192351Z
LAST-MODIFIED:20250227T192351Z
UID:10005320-1750377600-1750636799@visitjacksontn.com
SUMMARY:Battle of the Bats (Free Team Entry)
DESCRIPTION:The Battle of the Bats is a thrilling USSSA Baseball tournament open to AA and Open divisions. \nWith free team entry\, this action-packed event provides teams with the chance to showcase their skills and compete in a high-energy\, competitive environment.
URL:https://visitjacksontn.com/event/battle-of-the-bats-free-team-entry/
LOCATION:West Tennessee Healthcare Sportsplex\, 250 Bancorpsouth Pkwy\, Jackson\, TN\, 38305\, United States
CATEGORIES:Events,Sports & Outdoor
ATTACH;FMTTYPE=image/jpeg:https://visitjacksontn.com/wp-content/uploads/images-1.jpg
END:VEVENT
BEGIN:VEVENT
DTSTART;VALUE=DATE:20250620
DTEND;VALUE=DATE:20250623
DTSTAMP:20260422T192150
CREATED:20250325T162937Z
LAST-MODIFIED:20250325T162955Z
UID:10005440-1750377600-1750636799@visitjacksontn.com
SUMMARY:TMTA Junior Championships
DESCRIPTION:Get ready for the TMTA Junior Championships! \nA Tennessee Middle Tennis Association (TMTA) event\, this tournament welcomes junior players for an exciting weekend of singles and doubles competition.
URL:https://visitjacksontn.com/event/tmta-junior-championships/
LOCATION:Jackson Tennis Center\, 40 Match Point Drive\, Jackson\, TN\, 38305\, United States
CATEGORIES:Events,Sports & Outdoor
ATTACH;FMTTYPE=image/jpeg:https://visitjacksontn.com/wp-content/uploads/486348611_1329081142004219_1110149124669159466_n.jpg
END:VEVENT
BEGIN:VEVENT
DTSTART;TZID=America/Chicago:20250620T100000
DTEND;TZID=America/Chicago:20250620T110000
DTSTAMP:20260422T192150
CREATED:20250512T155603Z
LAST-MODIFIED:20250512T155603Z
UID:10005567-1750413600-1750417200@visitjacksontn.com
SUMMARY:Yoga in the Park
DESCRIPTION:Don’t miss Yoga at theLOCAL\, led by Jennifer Emerson and Stacy Marshall. \nThis inclusive event is free and open to all levels of experience. \n​​​​​For a full schedule of yoga events\, visit downtownjacksontn.com/yoga. ​
URL:https://visitjacksontn.com/event/yoga-in-the-park-21/
LOCATION:The LOCAL\, 202 West Lafayette Street\, Jackson\, TN\, 38301\, United States
CATEGORIES:Events,Sports & Outdoor
ATTACH;FMTTYPE=image/avif:https://visitjacksontn.com/wp-content/uploads/c06f89dd-24c3-487b-bde2-297a5161dcfa.avif
END:VEVENT
BEGIN:VEVENT
DTSTART;VALUE=DATE:20250621
DTEND;VALUE=DATE:20250623
DTSTAMP:20260422T192150
CREATED:20250603T133907Z
LAST-MODIFIED:20250603T134059Z
UID:10005584-1750464000-1750636799@visitjacksontn.com
SUMMARY:Fire on the Water - Drag Boat Races
DESCRIPTION:Mark your calendars for the Fire on the Water – Drag Boat Races\, as the thrill of high-speed racing returns to the water! \nGet ready for an action-packed weekend with roaring engines\, fierce competition\, and an unforgettable experience on the lake! The races will start at 9:00 AM. \nWant to be part of the excitement? Contact Mark Robinson\, President of River Ratt Drag Racing Association\, at 731-307-8429\, for more details on how you can get involved.
URL:https://visitjacksontn.com/event/fire-on-the-water-drag-boat-races/
LOCATION:Beech Lake\, 210 Bob Henderson Drive\, Lexington\, TN\, 38351\, United States
CATEGORIES:Events,Sports & Outdoor
ATTACH;FMTTYPE=image/jpeg:https://visitjacksontn.com/wp-content/uploads/487874440_122148340112454147_2107410079990389696_n.jpg
END:VEVENT
BEGIN:VEVENT
DTSTART;VALUE=DATE:20250621
DTEND;VALUE=DATE:20250623
DTSTAMP:20260422T192150
CREATED:20250227T192541Z
LAST-MODIFIED:20250227T192541Z
UID:10005321-1750464000-1750636799@visitjacksontn.com
SUMMARY:Big Bang Fastpitch Presents: FunTyme Tournament (TWO DAY)
DESCRIPTION:Big Bang Fastpitch Presents: FunTyme Tournament (TWO DAY) is an exciting two-day softball event featuring 8U\, 10U\, 12U\, 14U\, 16U\, and 18U divisions. \nThis tournament provides a competitive atmosphere for athletes to showcase their skills. For more information or to register\, contact David Rousch at 731-819-3885.
URL:https://visitjacksontn.com/event/big-bang-fastpitch-presents-funtyme-tournament-two-day/
LOCATION:West Tennessee Healthcare Sportsplex\, 250 Bancorpsouth Pkwy\, Jackson\, TN\, 38305\, United States
CATEGORIES:Events,Sports & Outdoor
ATTACH;FMTTYPE=image/jpeg:https://visitjacksontn.com/wp-content/uploads/images-1.jpg
END:VEVENT
BEGIN:VEVENT
DTSTART;TZID=America/Chicago:20250624T190000
DTEND;TZID=America/Chicago:20250624T190000
DTSTAMP:20260422T192150
CREATED:20250528T174343Z
LAST-MODIFIED:20250528T174415Z
UID:10005580-1750791600-1750791600@visitjacksontn.com
SUMMARY:A Game of Their Own
DESCRIPTION:Don’t miss A Game of Their Own\, a special women’s baseball game inspired by the beloved film A League of Their Own. \nThis nostalgic evening pays tribute to the trailblazing spirit of the All-American Girls Professional Baseball League and the courageous women of the World War II era. Guests will enjoy a night of classic uniforms\, period performances\, and heartfelt WWII-era tributes\, all set against the backdrop of America’s favorite pastime. \nCome dressed in your 1940s best and be part of a powerful celebration of courage\, camaraderie\, and history!
URL:https://visitjacksontn.com/event/a-game-of-their-own/
LOCATION:Jackson Rockabillys Stadium\, 4 Fun Place\, Jackson\, TN\, 38305\, United States
CATEGORIES:Events,Sports & Outdoor
ATTACH;FMTTYPE=image/jpeg:https://visitjacksontn.com/wp-content/uploads/499696850_721436323780801_89935595701946070_n.jpg
END:VEVENT
BEGIN:VEVENT
DTSTART;TZID=America/Chicago:20250626T190000
DTEND;TZID=America/Chicago:20250626T190000
DTSTAMP:20260422T192150
CREATED:20250324T184153Z
LAST-MODIFIED:20250324T184203Z
UID:10005428-1750964400-1750964400@visitjacksontn.com
SUMMARY:Jackson Rockabillys vs. Cape Catfish
DESCRIPTION:The Jackson Rockabillys take on the Cape Catfish. \nGet your gear on and come show support for Jackson’s hometown team!
URL:https://visitjacksontn.com/event/jackson-rockabillys-vs-cape-catfish-8/
LOCATION:Jackson Rockabillys Stadium\, 4 Fun Place\, Jackson\, TN\, 38305\, United States
CATEGORIES:Events,Sports & Outdoor
ATTACH;FMTTYPE=image/png:https://visitjacksontn.com/wp-content/uploads/Primary_Logo-0-3x-1.png
END:VEVENT
END:VCALENDAR