BEGIN:VCALENDAR
VERSION:2.0
PRODID:-//Jackson Tourism - ECPv6.15.18//NONSGML v1.0//EN
CALSCALE:GREGORIAN
METHOD:PUBLISH
X-WR-CALNAME:Jackson Tourism
X-ORIGINAL-URL:https://visitjacksontn.com
X-WR-CALDESC:Events for Jackson Tourism
REFRESH-INTERVAL;VALUE=DURATION:PT1H
X-Robots-Tag:noindex
X-PUBLISHED-TTL:PT1H
BEGIN:VTIMEZONE
TZID:America/Chicago
BEGIN:DAYLIGHT
TZOFFSETFROM:-0600
TZOFFSETTO:-0500
TZNAME:CDT
DTSTART:20250309T080000
END:DAYLIGHT
BEGIN:STANDARD
TZOFFSETFROM:-0500
TZOFFSETTO:-0600
TZNAME:CST
DTSTART:20251102T070000
END:STANDARD
BEGIN:DAYLIGHT
TZOFFSETFROM:-0600
TZOFFSETTO:-0500
TZNAME:CDT
DTSTART:20260308T080000
END:DAYLIGHT
BEGIN:STANDARD
TZOFFSETFROM:-0500
TZOFFSETTO:-0600
TZNAME:CST
DTSTART:20261101T070000
END:STANDARD
BEGIN:DAYLIGHT
TZOFFSETFROM:-0600
TZOFFSETTO:-0500
TZNAME:CDT
DTSTART:20270314T080000
END:DAYLIGHT
BEGIN:STANDARD
TZOFFSETFROM:-0500
TZOFFSETTO:-0600
TZNAME:CST
DTSTART:20271107T070000
END:STANDARD
END:VTIMEZONE
BEGIN:VEVENT
DTSTART;TZID=America/Chicago:20260711T180000
DTEND;TZID=America/Chicago:20260711T180000
DTSTAMP:20260420T200138
CREATED:20260204T162518Z
LAST-MODIFIED:20260204T162518Z
UID:10005954-1783792800-1783792800@visitjacksontn.com
SUMMARY:Jeff & Sherri Easter LIVE
DESCRIPTION:🎤 Join Jeff & Sheri Easter LIVE at Carl Perkins Civic Center on Saturday\, July 11\, 2026! 🎤 \nHere is the moment you’ve been waiting for! Jeff & Sheri Easter is coming to Carl Perkins Civic Center on Saturday\, July 11\, 2026\, bringing their biggest hits like Over And Over\, Praise His Name and Thank You\, Lord\, for Your Blessings on Me to life. With 48.7K+ fans across the globe\, this show is going to be one for the books. \nThere are multiple events lined up for this blockbuster star. But this one? This is the one that will make you feel alive! \nEvent Details: \n📅 Date: Saturday\, July 11\, 2026⏰  \nTime: 6:00 PM📍  \nVenue: Carl Perkins Civic Center \nGet ready for a night filled with live performances\, along with surprises you’ll only get to experience in person. You don’t want to be the one who misses out!
URL:https://visitjacksontn.com/event/jeff-sherri-easter-live/
LOCATION:Carl Perkins Civic Center\, 400 South Highland Avenue\, Jackson\, TN\, 38301\, United States
CATEGORIES:Events,Music
ATTACH;FMTTYPE=image/jpeg:https://visitjacksontn.com/wp-content/uploads/123e4dd0-d484-11f0-b218-a936741c3e57-rimg-w640-h640-dc010103-gmir.jpg
END:VEVENT
END:VCALENDAR