BEGIN:VCALENDAR
VERSION:2.0
PRODID:-//Jackson Tourism - ECPv6.15.20//NONSGML v1.0//EN
CALSCALE:GREGORIAN
METHOD:PUBLISH
X-WR-CALNAME:Jackson Tourism
X-ORIGINAL-URL:https://visitjacksontn.com
X-WR-CALDESC:Events for Jackson Tourism
REFRESH-INTERVAL;VALUE=DURATION:PT1H
X-Robots-Tag:noindex
X-PUBLISHED-TTL:PT1H
BEGIN:VTIMEZONE
TZID:America/Chicago
BEGIN:DAYLIGHT
TZOFFSETFROM:-0600
TZOFFSETTO:-0500
TZNAME:CDT
DTSTART:20250309T080000
END:DAYLIGHT
BEGIN:STANDARD
TZOFFSETFROM:-0500
TZOFFSETTO:-0600
TZNAME:CST
DTSTART:20251102T070000
END:STANDARD
BEGIN:DAYLIGHT
TZOFFSETFROM:-0600
TZOFFSETTO:-0500
TZNAME:CDT
DTSTART:20260308T080000
END:DAYLIGHT
BEGIN:STANDARD
TZOFFSETFROM:-0500
TZOFFSETTO:-0600
TZNAME:CST
DTSTART:20261101T070000
END:STANDARD
BEGIN:DAYLIGHT
TZOFFSETFROM:-0600
TZOFFSETTO:-0500
TZNAME:CDT
DTSTART:20270314T080000
END:DAYLIGHT
BEGIN:STANDARD
TZOFFSETFROM:-0500
TZOFFSETTO:-0600
TZNAME:CST
DTSTART:20271107T070000
END:STANDARD
END:VTIMEZONE
BEGIN:VEVENT
DTSTART;VALUE=DATE:20260424
DTEND;VALUE=DATE:20260427
DTSTAMP:20260422T171526
CREATED:20251016T194211Z
LAST-MODIFIED:20260121T172649Z
UID:10005732-1776988800-1777247999@visitjacksontn.com
SUMMARY:Blue Suede Rockabilly Weekend
DESCRIPTION:Put on your blue suede shoes and head to Jackson\, Tennessee\, home of Carl Perkins\, for a Rockabilly weekend that’s sure to rock your socks off. \nPresented by Visit Jackson\, TN
URL:https://visitjacksontn.com/event/blue-suede-rockabilly-weekend/
LOCATION:Hub City Brewing\, 250 West Main Street\, Jackson\, TN\, 38301\, United States
CATEGORIES:Events,History,Music
ATTACH;FMTTYPE=image/jpeg:https://visitjacksontn.com/wp-content/uploads/blue-suede.jpg
END:VEVENT
BEGIN:VEVENT
DTSTART;TZID=America/Chicago:20260425T150000
DTEND;TZID=America/Chicago:20260425T200000
DTSTAMP:20260422T171526
CREATED:20260203T151509Z
LAST-MODIFIED:20260203T151509Z
UID:10005946-1777129200-1777147200@visitjacksontn.com
SUMMARY:Heaven's Cradle
DESCRIPTION:Heaven’s Cradles Crawfish & Shrimp Boil with all the fixins’ at The Reserve Barn! This is a family friendly event with live music and great fellowship for such a worthy cause! You can order to pick up or dine in. We even have you a Heaven’s Cradle Crawfish t-shirt!
URL:https://visitjacksontn.com/event/heavens-cradle/
LOCATION:The Reserve Barn\, 184 Reserve Drive\, Jackson\, TN\, 38305\, United States
CATEGORIES:Events,Music
ATTACH;FMTTYPE=image/jpeg:https://visitjacksontn.com/wp-content/uploads/623411668_1337958958371106_1876185557597083666_n.jpg
END:VEVENT
END:VCALENDAR