BEGIN:VCALENDAR
VERSION:2.0
PRODID:-//Jackson Tourism - ECPv6.15.18//NONSGML v1.0//EN
CALSCALE:GREGORIAN
METHOD:PUBLISH
X-ORIGINAL-URL:https://visitjacksontn.com
X-WR-CALDESC:Events for Jackson Tourism
REFRESH-INTERVAL;VALUE=DURATION:PT1H
X-Robots-Tag:noindex
X-PUBLISHED-TTL:PT1H
BEGIN:VTIMEZONE
TZID:America/Chicago
BEGIN:DAYLIGHT
TZOFFSETFROM:-0600
TZOFFSETTO:-0500
TZNAME:CDT
DTSTART:20250309T080000
END:DAYLIGHT
BEGIN:STANDARD
TZOFFSETFROM:-0500
TZOFFSETTO:-0600
TZNAME:CST
DTSTART:20251102T070000
END:STANDARD
BEGIN:DAYLIGHT
TZOFFSETFROM:-0600
TZOFFSETTO:-0500
TZNAME:CDT
DTSTART:20260308T080000
END:DAYLIGHT
BEGIN:STANDARD
TZOFFSETFROM:-0500
TZOFFSETTO:-0600
TZNAME:CST
DTSTART:20261101T070000
END:STANDARD
BEGIN:DAYLIGHT
TZOFFSETFROM:-0600
TZOFFSETTO:-0500
TZNAME:CDT
DTSTART:20270314T080000
END:DAYLIGHT
BEGIN:STANDARD
TZOFFSETFROM:-0500
TZOFFSETTO:-0600
TZNAME:CST
DTSTART:20271107T070000
END:STANDARD
END:VTIMEZONE
BEGIN:VEVENT
DTSTART;TZID=America/Chicago:20260328T180000
DTEND;TZID=America/Chicago:20260328T230000
DTSTAMP:20260421T055644
CREATED:20260209T190527Z
LAST-MODIFIED:20260209T190527Z
UID:10005974-1774720800-1774738800@visitjacksontn.com
SUMMARY:Sneakin' Out Sneaker Ball
DESCRIPTION:Hey sneakerheads! Get ready for the Sneakin’ Out Sneaker Ball happening at 1664 US-45 BYP on March 28\, 2026 at 6:00 PM (Central Time). It’s gonna be a night filled with fresh kicks\, music\, and good vibes. Don’t miss out on the chance to show off your favorite pair of sneakers and dance the night away. See you there!
URL:https://visitjacksontn.com/event/sneakin-out-sneaker-ball/
LOCATION:St. Mary’s Holy Family Hall\, 1665 US-45 BYP\, Jackson\, TN\, 38305\, United States
CATEGORIES:Events,Music
ATTACH;FMTTYPE=image/webp:https://visitjacksontn.com/wp-content/uploads/image-2.webp
END:VEVENT
END:VCALENDAR