BEGIN:VCALENDAR
VERSION:2.0
PRODID:-//Jackson Tourism - ECPv6.15.18//NONSGML v1.0//EN
CALSCALE:GREGORIAN
METHOD:PUBLISH
X-ORIGINAL-URL:https://visitjacksontn.com
X-WR-CALDESC:Events for Jackson Tourism
REFRESH-INTERVAL;VALUE=DURATION:PT1H
X-Robots-Tag:noindex
X-PUBLISHED-TTL:PT1H
BEGIN:VTIMEZONE
TZID:America/Chicago
BEGIN:DAYLIGHT
TZOFFSETFROM:-0600
TZOFFSETTO:-0500
TZNAME:CDT
DTSTART:20250309T080000
END:DAYLIGHT
BEGIN:STANDARD
TZOFFSETFROM:-0500
TZOFFSETTO:-0600
TZNAME:CST
DTSTART:20251102T070000
END:STANDARD
BEGIN:DAYLIGHT
TZOFFSETFROM:-0600
TZOFFSETTO:-0500
TZNAME:CDT
DTSTART:20260308T080000
END:DAYLIGHT
BEGIN:STANDARD
TZOFFSETFROM:-0500
TZOFFSETTO:-0600
TZNAME:CST
DTSTART:20261101T070000
END:STANDARD
BEGIN:DAYLIGHT
TZOFFSETFROM:-0600
TZOFFSETTO:-0500
TZNAME:CDT
DTSTART:20270314T080000
END:DAYLIGHT
BEGIN:STANDARD
TZOFFSETFROM:-0500
TZOFFSETTO:-0600
TZNAME:CST
DTSTART:20271107T070000
END:STANDARD
END:VTIMEZONE
BEGIN:VEVENT
DTSTART;TZID=America/Chicago:20260316T083000
DTEND;TZID=America/Chicago:20260320T163000
DTSTAMP:20260420T213816
CREATED:20260204T222931Z
LAST-MODIFIED:20260204T222931Z
UID:10005959-1773649800-1774024200@visitjacksontn.com
SUMMARY:The NED Spring Break Camp!
DESCRIPTION:Welcome to the sign-ups for the Ned’s Spring Break Performing Arts Camp for ages 6-12! Camp will take place March 16 – 20\, Monday through Friday\, from 9 AM to 4:30 PM. \nDrop off starts at 8:30 am and pick up starts at 4:15 pm. \nCampers will spend the week learning about theatre with the Ned Staff. With games\, scenes\, and songs\, campers will practice performance skills in voice\, diction\, movement\, and teamwork – all culminating in a performance on Friday\, March 20\, at 6 PM of Disney’s Finding Nemo KIDS! \nUse the ticket link to sign up or copy and paste this link to your browser: https://forms.gle/Lw41wCq3bscrsWB98 \nIf you are interested in a Scholarship to the camp or have multiple campers in your family\, please call us at (731) 425-8397. \nSee you at Camp!
URL:https://visitjacksontn.com/event/the-ned-spring-break-camp/
LOCATION:The NED\, 314 East Main Street\, Jackson\, TN\, 38301\, United States
CATEGORIES:Arts & Culture,Events,Music
ATTACH;FMTTYPE=image/png:https://visitjacksontn.com/wp-content/uploads/Screenshot-2026-02-04-162421.png
END:VEVENT
BEGIN:VEVENT
DTSTART;VALUE=DATE:20260320
DTEND;VALUE=DATE:20260321
DTSTAMP:20260420T213816
CREATED:20260220T165842Z
LAST-MODIFIED:20260220T165842Z
UID:10006010-1773964800-1774051199@visitjacksontn.com
SUMMARY:Ballards & Boots
DESCRIPTION:They’re back and bringing Nashville with them! \nThe Brothers Hunt\, Dan & Reid Isbell\, return March 20 for Ballads & Boots 2026\, joined by even more incredible Nashville songwriters for a night of stories\, songs\, and Southern soul. \nTables are nearly sold out so call The Jackson Symphony office at 731-427-6440 for more information.
URL:https://visitjacksontn.com/event/ballards-boots/
LOCATION:Carl Perkins Civic Center\, 400 South Highland Avenue\, Jackson\, TN\, 38301\, United States
CATEGORIES:Events,Music
ATTACH;FMTTYPE=image/png:https://visitjacksontn.com/wp-content/uploads/a2a6f21e-39df-f2d8-7fcb-f30e7d4ce35a.png
END:VEVENT
BEGIN:VEVENT
DTSTART;TZID=America/Chicago:20260320T203000
DTEND;TZID=America/Chicago:20260320T203000
DTSTAMP:20260420T213816
CREATED:20260224T201949Z
LAST-MODIFIED:20260224T201949Z
UID:10006022-1774038600-1774038600@visitjacksontn.com
SUMMARY:Karaoke on Tap!
DESCRIPTION:Grab your friends and come have a fun night singing karaoke! \n  \n18+
URL:https://visitjacksontn.com/event/karaoke-on-tap-5/
LOCATION:Hub City Brewing\, 250 West Main Street\, Jackson\, TN\, 38301\, United States
CATEGORIES:Events,Music
ATTACH;FMTTYPE=image/jpeg:https://visitjacksontn.com/wp-content/uploads/638138778_1556490563149620_984837238671777090_n.jpg
END:VEVENT
END:VCALENDAR