BEGIN:VCALENDAR
VERSION:2.0
PRODID:-//Jackson Tourism - ECPv6.15.18//NONSGML v1.0//EN
CALSCALE:GREGORIAN
METHOD:PUBLISH
X-WR-CALNAME:Jackson Tourism
X-ORIGINAL-URL:https://visitjacksontn.com
X-WR-CALDESC:Events for Jackson Tourism
REFRESH-INTERVAL;VALUE=DURATION:PT1H
X-Robots-Tag:noindex
X-PUBLISHED-TTL:PT1H
BEGIN:VTIMEZONE
TZID:America/Chicago
BEGIN:DAYLIGHT
TZOFFSETFROM:-0600
TZOFFSETTO:-0500
TZNAME:CDT
DTSTART:20250309T080000
END:DAYLIGHT
BEGIN:STANDARD
TZOFFSETFROM:-0500
TZOFFSETTO:-0600
TZNAME:CST
DTSTART:20251102T070000
END:STANDARD
BEGIN:DAYLIGHT
TZOFFSETFROM:-0600
TZOFFSETTO:-0500
TZNAME:CDT
DTSTART:20260308T080000
END:DAYLIGHT
BEGIN:STANDARD
TZOFFSETFROM:-0500
TZOFFSETTO:-0600
TZNAME:CST
DTSTART:20261101T070000
END:STANDARD
BEGIN:DAYLIGHT
TZOFFSETFROM:-0600
TZOFFSETTO:-0500
TZNAME:CDT
DTSTART:20270314T080000
END:DAYLIGHT
BEGIN:STANDARD
TZOFFSETFROM:-0500
TZOFFSETTO:-0600
TZNAME:CST
DTSTART:20271107T070000
END:STANDARD
END:VTIMEZONE
BEGIN:VEVENT
DTSTART;TZID=America/Chicago:20260225T080000
DTEND;TZID=America/Chicago:20260225T170000
DTSTAMP:20260420T200302
CREATED:20260225T222353Z
LAST-MODIFIED:20260225T222353Z
UID:10006024-1772006400-1772038800@visitjacksontn.com
SUMMARY:Weekly Music Events
DESCRIPTION:WEDNESDAY – FEBRUARY 25th\nPiano After Work\, The Blacksmith\, 4:00\, Jackson \nKickin’ It w/ Karleigh\, The Tap\, 8:30\, Jackson\n\n\n\n\n\n\n\n\n\n\n\n\n\n\n\n\n\n\n\nTHURSDAY – FEBRUARY 26th\n  \nPiano After Work\, The Blacksmith\, 4:00\, Jackson \nIzzy Arthurs & Mason Henson\, Room 208\, 6:00\, Jackson \nSingo (w/ Barry Summer)\, Hub City Brewing\, 7:00\, Jackson \nJohnny Mac\, Blues Landing\, 7:00\, Buchanan \nKaraoke (w/ DJ Chuck Gee)\, Cadillac’s\, 7:00\, Martin \nOpen Jam (w/ Adam Johnson)\, The Downtown Tavern\, 8:00\, Jackson \nKaraoke (w/ ATL Karaoke)\, The Tap\, 9:30\, Jackson\n\n\n\n\n\n\n\n\n\n\n\n\n\n\n\n\n\n\n\nFRIDAY – FEBRUARY 27th\nPiano After Work\, The Blacksmith\, 4:00\, Jackson \nStacy Mitchhart\, Main & Monroe\, 5:30\, Lexington \nHarpDawg Bluesman\, Baker Bros. BBQ\, 6:00\, Jackson \nLive Music\, The Blacksmith\, 6:00\, Jackson \nDylan Jordan (acoustic)\, Tekila\, 6:00\, Jackson \nChelsea Rhodes\, El Palomino\, 6:00\, Selmer \nThe Awake Experience (Jo$ton & Friends w/ Vonda Peet)\, Northside Assembly Church\, 6:00\, Jackson \nLew Jetton (acoustic)\, Square Tavern\, 7:00\, Trenton \nJace Allen\, Saw Dawg\, & Fisher Stokes\, Blues Landing\, 7:00\, Buchanan \nKaraoke (w/ Musical Mayhem)\, The SPOT Eatery\, 7:00\, Bells \nKaraoke (w/ Travis)\, The Southern State\, 7:00\, South Fulton \nBryan Moffitt\, Mulligan’s\, 7:00\, Jackson \nThe Groove Band\, Redbone’s\, 8:00\, Jackson \nJohn Sutton\, Mojo’s\, 8:00\, Dyersburg \nKaraoke (w/ DJ Chuck Gee)\, Rotten’s Bar & Grill\, 8:00\, Dresden \nKaraoke\, Darlin’s\, 8:00\, Sharon \nKaraoke\, Busby’s Bar & Grill\, 8:00\, Jackson \nKaraoke (w/ Barry Summer)\, Hub City Brewing\, 8:30\, Jackson \nKaraoke (w/ Debbie Honey)\, Ricochet Bar\, 9:00\, Jackson \nKaraoke (w/ Kobra Karaoke)\, The Ponds\, 9:00\, Jackson \nLindsey Russell & Brandon Kirk\, The Downtown Tavern\, 9:00\, Jackson \nDJ Leslie\, The Tap\, 9:00\, Jackson \nKaraoke\, Midway Bar\, 10:00\, Dyersburg\n\n\n\n\n\n\n\n\n\n\n\n\n\n\n\n\n\n\n\nSATURDAY – FEBRUARY 28th\nLive Music\, Crown Winery\, 1:00\, Humboldt \nDavid Thomas & Bobby Stokely\, Livingston’s Soda Fountain and Grill\, 5:00\, Brownsville \nCross + Wren\, Main & Monroe\, 5:00\, Lexington \nLive Music\, The Blacksmith\, 6:00\, Jackson \nBen T. Colling (acoustic)\, Simon’s\, 6:00\, Bolivar \nChelsea Rhodes\, Selmer Country Club\, 7:00\, Selmer \nLakewood Drive\, Paris Station\, 7:00\, Paris \nJohnny Mac & Friends\, Blues Landing\, 7:00\, Buchanan \nThe Travelers\, Community Center\, 7:00\, Reagan \nWallace & Company\, Bootsie’s Barn Dance\, 7:00\, Gadsden \nKaraoke (w/ ATL Karaoke)\, Art’s Lounge\, 7:00\, Jackson \nSingo\, Redbone’s\, 8:00\, Jackson \nThe Allen Warren Band\, Southern State\, 8:00\, South Fulton \nKelso Mojo\, The Rusty Nail\, 8:00\, Guys \nMoxy Drive\, The Bar\, 8:00\, Humboldt \nAngela Hollowell\, Mojo’s\, 8:00\, Dyersburg \nKaraoke Contest (w/ Kobra Karaoke)\, The Ponds\, 8:00\, Medon \nKaraoke (w/ Debbie Honey)\, The City Limits Bar\, 8:00\, Trenton \nKaraoke (w/ DJ Chuck Gee)\, MT Bottles\, 8:00\, Trezevant \nKaraoke (w/ Bobby & Laurie)\, Mark N Sharon’s Sport Bar\, 8:00\, Dyersburg \n Blue Suede Concert Feat. Sixwire\, Carl Perkins Civic Center\, 8:30\, Jackson  \nKaraoke (w/ Kev)\, Ricochet Bar\, 9:00\, Jackson \nToneheads\, Bub’s Place\, 9:00\, Dyersburg \nCosmic Coyotes Band\, The Pine Ridge Club\, 9:00\, Medon \nLindsey Russell Band\, Slide and Ride Rodeo\, 9:00\, Jackson \nJustin Wright\, The Tap\, 9:00\, Jackson \nGoat City & Cross + Wren\, The Downtown Tavern\, 9:00\, Jackson \nKaraoke\, Midway Bar\, 10:00\, Dyersburg\n\n\n\n\n\n\n\n\n\n\n\n\n\n\n\n\n\n\n\nSUNDAY – MARCH 1st\n  \nScott Myatt\, Crown Winery\, 1:00\, Humboldt \nDJ Leslie\, The Tap\, 9:30\, Jackson\n\n\n\n\n\n\n\n\n\n\n\n\n\n\n\n\n\n\n\nMONDAY – MARCH 2nd\nLive Music\, VFW on Airways\, 7:00\, Jackson\n\n\n\n\n\n\n\n\n\n\n\n\n\n\n\n\n\n\n\nTUESDAY – MARCH 3rd\nKaraoke (w/ ATL Karaoke)\, JT’s Sports Bar & Patio\, 7:00\, Jackson \nThe Country Connection Band\, Bootsie’s Barn Dance\, 7:00\, Gadsden \nKaraoke (w/ Debbie Honey)\, Backwoods of Bolivar\, 8:00\, Bolivar
URL:https://visitjacksontn.com/event/weekly-music-events-38/
CATEGORIES:Events,Music
ATTACH;FMTTYPE=image/jpeg:https://visitjacksontn.com/wp-content/uploads/642219596_1389476773192850_1757887631584973989_n.jpg
END:VEVENT
END:VCALENDAR