BEGIN:VCALENDAR
VERSION:2.0
PRODID:-//Jackson Tourism - ECPv6.15.18//NONSGML v1.0//EN
CALSCALE:GREGORIAN
METHOD:PUBLISH
X-ORIGINAL-URL:https://visitjacksontn.com
X-WR-CALDESC:Events for Jackson Tourism
REFRESH-INTERVAL;VALUE=DURATION:PT1H
X-Robots-Tag:noindex
X-PUBLISHED-TTL:PT1H
BEGIN:VTIMEZONE
TZID:America/Chicago
BEGIN:DAYLIGHT
TZOFFSETFROM:-0600
TZOFFSETTO:-0500
TZNAME:CDT
DTSTART:20250309T080000
END:DAYLIGHT
BEGIN:STANDARD
TZOFFSETFROM:-0500
TZOFFSETTO:-0600
TZNAME:CST
DTSTART:20251102T070000
END:STANDARD
BEGIN:DAYLIGHT
TZOFFSETFROM:-0600
TZOFFSETTO:-0500
TZNAME:CDT
DTSTART:20260308T080000
END:DAYLIGHT
BEGIN:STANDARD
TZOFFSETFROM:-0500
TZOFFSETTO:-0600
TZNAME:CST
DTSTART:20261101T070000
END:STANDARD
BEGIN:DAYLIGHT
TZOFFSETFROM:-0600
TZOFFSETTO:-0500
TZNAME:CDT
DTSTART:20270314T080000
END:DAYLIGHT
BEGIN:STANDARD
TZOFFSETFROM:-0500
TZOFFSETTO:-0600
TZNAME:CST
DTSTART:20271107T070000
END:STANDARD
END:VTIMEZONE
BEGIN:VEVENT
DTSTART;VALUE=DATE:20260211
DTEND;VALUE=DATE:20260218
DTSTAMP:20260420T200444
CREATED:20260213T190803Z
LAST-MODIFIED:20260213T190803Z
UID:10005999-1770768000-1771372799@visitjacksontn.com
SUMMARY:Weekly Music Events
DESCRIPTION:WEDNESDAY – FEBRUARY 11th\nPiano After Work\, The Blacksmith\, 4:00\, Jackson \nJosh Smith & Bill Cross\, Mulligan’s\, 6:30\, Jackson \nKickin’ It w/ Karleigh\, The Tap\, 8:30\, Jackson\n\n\n\n\n\n\n\n\n\n\n\n\n\n\n\n\n\n\n\nTHURSDAY – FEBRUARY 12th\n  \nPiano After Work\, The Blacksmith\, 4:00\, Jackson \nIzzy Arthurs & Mason Henson\, Room 208\, 6:00\, Jackson \nOpen Jam (w/ Adam Johnson)\, Baker Bros BBQ\, 6:30\, Jackson \nSingo (w/ Barry Summer)\, Hub City Brewing\, 7:00\, Jackson \nJohnny Mac\, Blues Landing\, 7:00\, Buchanan \nWallace & Company\, ALA Dance at the Carroll County Civic Center\, 7:00\, Huntingdon \nKaraoke (w/ DJ Chuck Gee)\, Cadillac’s\, 7:00\, Martin \nOpen Jam (w/ Adam Johnson)\, The Downtown Tavern\, 8:30\, Jackson \nKaraoke (w/ ATL Karaoke)\, The Tap\, 9:30\, Jackson\n\n\n\n\n\n\n\n\n\n\n\n\n\n\n\n\n\n\n\nFRIDAY – FEBRUARY 13th\nPiano After Work\, The Blacksmith\, 4:00\, Jackson \nMatt Boone (acoustic)\, Passantino’s\, 5:00\, Medina \nBrook Cagle\, Main & Monroe\, 5:30\, Lexington \nJackson’s Hubtet\, The Blacksmith\, 6:00\, Jackson \nKelso Mojo (acoustic)\, Tekila\, 6:00\, Jackson \nGoat City\, Baker Bros. BBQ\, 6:30\, Jackson \nBeast & Beauty\, El Potrillo\, 6:30\, Lexington \nRev. Jessie and the Holy Smokes\, Mulligan’s\, 7:00\, Jackson \nHope MacGregor\, Icehouse of Jackson\, 7:00\, Jackson \nChelsea Rhodes\, Rage n Axe\, 7:00\, Clarksville \nTommy Akers\, Blues Landing\, 7:00\, Buchanan \nThe Willie and George Show\, Elk’s Lodge\, 7:00\, Henderson \nKaraoke\, Southern State\, 7:00\, South Fulton \nKaraoke (w/ Musical Mayhem)\, The SPOT Eatery\, 7:00\, Bells \nCool Daddy Trio\, Elks Lodge #192\, 7:30\, Jackson \nLindsey Russell\, Elks Lodge\, 7:30\, Trenton \nKimberlie Helton Band\, Redbone’s\, 8:00\, Jackson \nKaraoke (w/ Ray & The Party Nation)\, Mojo’s\, 8:00\, Dyersburg \nKaraoke (w/ DJ Chuck Gee)\, Rotten’s Bar & Grill\, 8:00\, Dresden \nCole Moore (acoustic)\, The Bar\, 8:00\, Humboldt \nKaraoke\, Darlin’s\, 8:00\, Sharon \nKaraoke\, Busby’s Bar & Grill\, 8:00\, Jackson \nKaraoke (w/ Barry Summer)\, Hub City Brewing\, 8:30\, Jackson \nKaraoke (w/ Debbie Honey)\, Ricochet Bar\, 9:00\, Jackson \nKaraoke (w/ Kobra Karaoke)\, The Ponds\, 9:00\, Jackson \nLive Music\, The Downtown Tavern\, 9:00\, Jackson \nLive Music\, The Tap\, 9:00\, Jackson \nKaraoke\, Midway Bar\, 10:00\, Dyersburg\n\n\n\n\n\n\n\n\n\n\n\n\n\n\n\n\n\n\n\nSATURDAY – FEBRUARY 14th\nHarrison Wilson\, Crafted Coffee\, 10:00\, Covington \nLive Music\, Crown Winery\, 1:00\, Humboldt \nLindsey Russell & Bobby Stokely\, Livingston’s Soda Fountain and Grill\, 5:00\, Brownsville \nTim Moore & Alex Hodge\, Main & Monroe\,  5:30\, Lexington \nBen T. Colling\, The Blacksmith\, 6:00\, Jackson \nJason Vales (acoustic)\, Simon’s\, 6:00\, Bolivar \nChelsea Rhodes\, McKenzie Taproom & Restaurant\, 6:00\, McKenzie \nMacy Mitchell & Dawson Steagall\, The Mic Stand\, 7:00\, Huntingdon \nThe Allen Warren Band\, Blues Landing\, 7:00\, Buchanan \nFour Wheel Drive\, Community Center\, 7:00\, Reagan \nThe Will Beyer Band\, Bootsie’s Barn Dance\, 7:00\, Gadsden \nCool Daddy Trio\, McKenzie Senior Citizens Center\, 7:00\, McKenzie \nKaraoke (w/ ATL Karaoke)\, Art’s Lounge\, 7:00\, Jackson \n The Doo Wop Project\, Dixie PAC\, 7:30\, Huntingdon  \n The Jackson Symphony: Symphony Soiree\, Carl Perkins Civic Center\, 7:30\, Jackson  \n 80’s Prom Night\, Elks Lodge #192\, 8:00\, Jackson  \nMoxy Drive\, Square Tavern\, 8:00\, Trenton \nSouthern Rose\, Mojo’s\, 8:00\, Dyersburg \nKaraoke (w/ Debbie Honey)\, The City Limits Bar\, 8:00\, Trenton \nKaraoke (w/ DJ Chuck Gee)\, MT Bottles\, 8:00\, Trezevant \nSingo\, Redbone’s\, 8:30\, Jackson \nKaraoke Contest (w/ Kobra Karaoke)\, The Ponds\, 9:00\, Medon \nKaraoke (w/ Kev)\, Ricochet Bar\, 9:00\, Jackson \nRedneck Country\, The Pine Ridge Club\, 9:00\, Medon \nMatt Boone Band\, Slide and Ride Rodeo\, 9:00\, Jackson \nBen & the Boys\, The Tap\, 9:00\, Jackson \nAdam Johnson\, The Downtown Tavern\, 9:00\, Jackson \nKaraoke\, Midway Bar\, 10:00\, Dyersburg\n\n\n\n\n\n\n\n\n\n\n\n\n\n\n\n\n\n\n\nSUNDAY – FEBRUARY 15th\n  \nScott Myatt\, Crown Winery\, 1:00\, Humboldt \nDJ Leslie\, The Tap\, 9:30\, Jackson\n\n\n\n\n\n\n\n\n\n\n\n\n\n\n\n\n\n\n\nMONDAY – FEBRUARY 16th\nLive Music\, VFW on Airways\, 7:00\, Jackson\n\n\n\n\n\n\n\n\n\n\n\n\n\n\n\n\n\n\n\nTUESDAY – FEBRUARY 17th\nKaraoke (w/ ATL Karaoke)\, JT’s Sports Bar & Patio\, 7:00\, Jackson \nThe Country Connection Band\, Bootsie’s Barn Dance\, 7:00\, Gadsden
URL:https://visitjacksontn.com/event/weekly-music-events-36/
CATEGORIES:Events,Music
ATTACH;FMTTYPE=image/jpeg:https://visitjacksontn.com/wp-content/uploads/633892482_1377303537743507_8126917493856618795_n.jpg
END:VEVENT
END:VCALENDAR