BEGIN:VCALENDAR
VERSION:2.0
PRODID:-//Jackson Tourism - ECPv6.15.20//NONSGML v1.0//EN
CALSCALE:GREGORIAN
METHOD:PUBLISH
X-WR-CALNAME:Jackson Tourism
X-ORIGINAL-URL:https://visitjacksontn.com
X-WR-CALDESC:Events for Jackson Tourism
REFRESH-INTERVAL;VALUE=DURATION:PT1H
X-Robots-Tag:noindex
X-PUBLISHED-TTL:PT1H
BEGIN:VTIMEZONE
TZID:America/Chicago
BEGIN:DAYLIGHT
TZOFFSETFROM:-0600
TZOFFSETTO:-0500
TZNAME:CDT
DTSTART:20240310T080000
END:DAYLIGHT
BEGIN:STANDARD
TZOFFSETFROM:-0500
TZOFFSETTO:-0600
TZNAME:CST
DTSTART:20241103T070000
END:STANDARD
BEGIN:DAYLIGHT
TZOFFSETFROM:-0600
TZOFFSETTO:-0500
TZNAME:CDT
DTSTART:20250309T080000
END:DAYLIGHT
BEGIN:STANDARD
TZOFFSETFROM:-0500
TZOFFSETTO:-0600
TZNAME:CST
DTSTART:20251102T070000
END:STANDARD
BEGIN:DAYLIGHT
TZOFFSETFROM:-0600
TZOFFSETTO:-0500
TZNAME:CDT
DTSTART:20260308T080000
END:DAYLIGHT
BEGIN:STANDARD
TZOFFSETFROM:-0500
TZOFFSETTO:-0600
TZNAME:CST
DTSTART:20261101T070000
END:STANDARD
END:VTIMEZONE
BEGIN:VEVENT
DTSTART;VALUE=DATE:20250522
DTEND;VALUE=DATE:20250525
DTSTAMP:20260424T015255
CREATED:20250422T150416Z
LAST-MODIFIED:20250422T151559Z
UID:10005521-1747872000-1748131199@visitjacksontn.com
SUMMARY:Bufford Pusser Festival
DESCRIPTION:Come celebrate the legacy of Buford Pusser at the Buford Pusser Festival! \nEnjoy a big carnival starting at 5 PM on Thursday and Friday\, and 3 PM on Saturday\, plus a weekend full of live entertainment including Elvis tribute artist Steve Warren\, the Bigbee Ramblers\, Dwight Wadkins Band\, David Timms\, Wayne Jerrolds Band\, Bo Jack\, Lloyd Watkins\, karaoke\, wrestling\, and more. The festivities kick off with a special Praise & Worship night on Thursday\, May 22\, and a guided bus tour on Saturday\, May 24. \nFor vendor information\, contact Sarah Mote at (256) 300-1113. For general questions\, call the Buford Pusser Museum at (731) 632-4080 or City Hall at (731) 632-1401.
URL:https://visitjacksontn.com/event/bufford-pusser-festival/
LOCATION:Adamsville City Park\, 215 Crowe St\, Adamsville\, TN\, 38310\, United States
CATEGORIES:Arts & Culture,Events,History & Civil War,Music
ATTACH;FMTTYPE=image/jpeg:https://visitjacksontn.com/wp-content/uploads/487777759_1082313623934210_3425255949021406553_n.jpg
END:VEVENT
BEGIN:VEVENT
DTSTART;VALUE=DATE:20250524
DTEND;VALUE=DATE:20250526
DTSTAMP:20260424T015255
CREATED:20250103T162311Z
LAST-MODIFIED:20250103T162311Z
UID:10005169-1748044800-1748217599@visitjacksontn.com
SUMMARY:Exit 56 Blues Fest
DESCRIPTION:Get ready for great music\, delicious food\, and plenty of fun at the Exit 56 Blues Fest! \nDon’t miss two days of live blues music over Memorial Day Weekend. In addition to fantastic performances\, the event will feature a Corvette Car Show\, food trucks\, and arts and crafts. Best of all\, admission is free! The festival is conveniently located right off of Interstate 40 at Exit 56\, right behind McDonald’s. \nFor more information or any questions\, feel free to contact 731-779-9000.
URL:https://visitjacksontn.com/event/exit-56-blues-fest-3/
LOCATION:West Tennessee Delta Heritage Center\, 121 Sunny Hill Cove\, Brownsville\, TN\, 38012\, United States
CATEGORIES:Events,Music
ATTACH;FMTTYPE=image/jpeg:https://visitjacksontn.com/wp-content/uploads/470230286_1151566920302314_4558393326595319969_n.jpg
END:VEVENT
BEGIN:VEVENT
DTSTART;TZID=America/Chicago:20250524T190000
DTEND;TZID=America/Chicago:20250524T220000
DTSTAMP:20260424T015255
CREATED:20250310T160111Z
LAST-MODIFIED:20250310T172712Z
UID:10005373-1748113200-1748124000@visitjacksontn.com
SUMMARY:Voices in the Vineyard
DESCRIPTION:Experience live music under the stars with the Voices in the Vineyard concert series! \nKick off the season with Stokely and the Bandits\, and enjoy great wine and a welcoming atmosphere. Admission is free\, so bring your friends\, relax\, and let the music set the tone for a perfect evening in the vineyard. \n 
URL:https://visitjacksontn.com/event/voices-in-the-vineyard/
LOCATION:Century Farm Winery\, 1548 Lower Brownsville Rd.\, Jackson\, TN\, 38301\, United States
CATEGORIES:Events,Music
ATTACH;FMTTYPE=image/jpeg:https://visitjacksontn.com/wp-content/uploads/482057626_1188564106607562_3194305577673548934_n.jpg
END:VEVENT
END:VCALENDAR