BEGIN:VCALENDAR
VERSION:2.0
PRODID:-//Jackson Tourism - ECPv6.15.18//NONSGML v1.0//EN
CALSCALE:GREGORIAN
METHOD:PUBLISH
X-WR-CALNAME:Jackson Tourism
X-ORIGINAL-URL:https://visitjacksontn.com
X-WR-CALDESC:Events for Jackson Tourism
REFRESH-INTERVAL;VALUE=DURATION:PT1H
X-Robots-Tag:noindex
X-PUBLISHED-TTL:PT1H
BEGIN:VTIMEZONE
TZID:America/Chicago
BEGIN:DAYLIGHT
TZOFFSETFROM:-0600
TZOFFSETTO:-0500
TZNAME:CDT
DTSTART:20240310T080000
END:DAYLIGHT
BEGIN:STANDARD
TZOFFSETFROM:-0500
TZOFFSETTO:-0600
TZNAME:CST
DTSTART:20241103T070000
END:STANDARD
BEGIN:DAYLIGHT
TZOFFSETFROM:-0600
TZOFFSETTO:-0500
TZNAME:CDT
DTSTART:20250309T080000
END:DAYLIGHT
BEGIN:STANDARD
TZOFFSETFROM:-0500
TZOFFSETTO:-0600
TZNAME:CST
DTSTART:20251102T070000
END:STANDARD
BEGIN:DAYLIGHT
TZOFFSETFROM:-0600
TZOFFSETTO:-0500
TZNAME:CDT
DTSTART:20260308T080000
END:DAYLIGHT
BEGIN:STANDARD
TZOFFSETFROM:-0500
TZOFFSETTO:-0600
TZNAME:CST
DTSTART:20261101T070000
END:STANDARD
END:VTIMEZONE
BEGIN:VEVENT
DTSTART;VALUE=DATE:20250430
DTEND;VALUE=DATE:20250507
DTSTAMP:20260420T071633
CREATED:20250430T215505Z
LAST-MODIFIED:20250430T215505Z
UID:10005534-1745971200-1746575999@visitjacksontn.com
SUMMARY:Weekly Music Events
DESCRIPTION:Enjoy live music throughout the week in Jackson and West Tennessee! \nSign up here to have the weekly newsletter delivered to your inbox every Wednesday. \n\n\n\n\n\n\n\n\nWEDNESDAY – APRIL 30th\nPiano After Work\, The Blacksmith\, 4:00\, Jackson \nSupergroup\, The Tap\, 8:30\, Jackson\n\n\n\n\n\n\n\n\n\n\n\nTHURSDAY – MAY 1st\nPiano After Work\, The Blacksmith\, 4:00\, Jackson \nKarleigh Anne Fagan and Cade Doyle\, Redbone’s\, 6:00\, Jackson \nOpen Mic Night\, Hub City Hemp\, 6:00\, Lexington \nOpen Mic (w/ Adam Johnson)\, Baker Bros. BBQ\, 6:30\, Jackson \nRev. Jessie & The Holy Smokes\, Cody’s Sports Bar & Grill\, 7:00\, Jackson \nSongwriting Round\, The Downtown Tavern\, 7:00\, Jackson \nSingo\, Hub City Brewing\, 7:00\, Jackson \nJohnny Mac\, Blues Landing\, 7:00\, Buchanan \nATL Karaoke\, The Tap\, 9:30\, Jackson\n\n\n\n\n\n\n\n\n\n\n\nFRIDAY – MAY 2nd\nPiano After Work\, The Blacksmith\, 4:00\, Jackson \nVonda Peet\, Groovy Roots\, 5:30\, Jackson \nKarliegh Anne Fagan & Adam Johnson\, Art Walk\, 6:00\, Jackson \nLive Music\, Tekila\, 6:00\, Jackson \nLive Music\, The Blacksmith\, 6:00\, Jackson \nLive Music\, Doe’s Eat Place\, 6:00\, Jackson \nDerrick Brantley\, El Portillo\, 6:00\, Lexington \nLive Music\, The Blacksmith\, 6:00\, Dyersburg \nCool Daddy Trio\, Reagan Cafe\, 6:00\, Reagan \nLive Music\, Freddy T’s Dining Room\, 6:00\, Counce \nCinco de Mayo Celebration: Blue-Eyed Sun\, Tulum (Union)\, 6:00\, Jackson \nTennessee Iris Festival Music Fest\, Downtown Dresden Court Square\, 6:30\, Dresden \nJackson’s Hubtet\, Turntable Coffee\, 6:30\, Jackson \nRev. Jessie & The Holy Smokes\, Baker Bros. BBQ\, 6:30\, Jackson \nThe Bullet Town Trio\, Main and Monroe\, 6:30\, Lexington \nATL Karaoke\, Red Dog Bar & Grill\, 7:00\, Jackson \n🎟️ Wine Down: Kimberlie Helton and Eric Wood\, Crown Winery\, 7:00\, Humboldt 🎟️ \nBobby and Sue Bates\, Music on the Square\, 7:00\, Bolivar \nChelsea Rhodes\, Clifton Marina\, 7:00\, Clifton \nLive Music\, Freddy T’s Rooftop\, 7:00\, Counce \nMario Kee Jazz Collective\, Magnolia Manor\, 7:00\, Humboldt \nKaraoke (w/ Musical Mayhem)\, The Spot Eatery\, 7:00\, Bells \n🎟️ The Inspirations\, Sanford Hill Baptist Church\, 7:00\, Henderson 🎟️ \nDanny Gokey & Tasha Layton\, Love & Truth Church\, 7:00\, Jackson \nLindsey Russell\, Elks Lodge\, 7:30\, Trenton \nBrothers Windham\, Redbone’s\, 8:00\, Jackson \nMatt Boone Band\, Cody’s Sport Bar\, 8:00\, Jackson \nLive Music\, Elks #192\, 8:00\, Jackson \nSmall Shack\, Music on the Square\, 8:00\, Bolivar \nKelso Mojo (acoustic)\, Blues Landing\, 8:00\, Buchanan \nLive Music\, Mojo’s\, 8:00\, Dyersburg \nKaraoke\, The Office Lounge\, 8:00\, Jackson \nKaraoke\, Darlin’s\, 8:00\, Sharon \nKaraoke (w/ Gray Hilmerson)\, Hub City Brewing\, 8:30\, Jackson \nKaraoke (w/ DJ Chuck Gee)\, Bub’s Place\, 9:00\, Dyersburg \nKaraoke (w/ Kobra Karaoke)\, The Ponds\, 9:00\, Medon \nTypsy Gypsy\, The Downtown Tavern\, 9:00\, Jackson \nKarleigh Anne Fagan\, Adam Johnson\, & Cade Doyle\, The Tap\, 9:00\, Jackson \nKaraoke\, Ricochet Bar\, 9:00\, Jackson\n\n\n\n\n\n\n\n\n\n\n\nSATURDAY – MAY 3rd\nBen T. Colling\, Crown Winery\, 1:00\, Humboldt \nJackson’s Hubtet\, The Blacksmith\, 6:00\, Jackson \nKenny Little\, The Icehouse of Jackson\, 6:00\, Jackson \nTypsy Gypsy\, Bling’s Memorial Butt Run Afterparty at Vanguard MC Clubhouse\, 6:00\, Bradford \nLive Music\, The Blacksmith\, 6:00\, Dyersburg \nLive Music\, Freddy T’s Dining Room\, 6:00\, Counce \nTennessee Iris Festival Community Night\, Wilson Park\, 6:00\, Dresden \nLyLo\, Doe’s Eat Place\, 6:30\, Jackson \nWayne & Jeanne\, Main & Monroe\, 6:30\, Lexington \nLive Music\, VFW Airways\, 7:00\, Jackson \nLive Music\, Freddy T’s Rooftop\, 7:00\, Counce \nCool Daddy Trio\, Community Center\, 7:00\, Reagan \nMike Anthony and The Classics\, Bootsie’s Barn Dance\, 7:00\, Gadsden \nThe Will Beyer Band\, Magnolia Manor\, 7:00\, Humboldt \nKaraoke (w/ Kobra Karaoke)\, Red Dog Bar & Grill\, 7:00\, Jackson \nATL Karaoke\, Art’s Lounge\, 7:00\, Jackson \nKaraoke (w/ Bobby & Laurie)\, Moose Lodge\, 7:00\, Newbern \n🎟 Lee Rocker of The Stray Cats\, The Dixie Carter PAC\, 7:30\, Huntingdon 🎟️ \nKimberlie Helton Band\, Redbone’s\, 8:00\, Jackson \nThe Underdogs\, Southern State\, 8:00\, South Fulton \nLive Music\, Blues Landing\, 8:00\, Buchanan \nHunt Pearson Band\, 3-Way Hawg Bar\, 8:00\, Counce \nThe LUNAR Band\, Bub’s\, 8:00\, Dyersburg \nLive Music\, Mojo’s\, 8:00\, Dyersburg \nKaraoke (w/ Debbie Honey)\, The City Limits Bar\, 8:00\, Trenton \nKaraoke (w/ Christian Jones)\, The Ponds\, 9:00\, Medon \nKaraoke (w/ Bobby & Laurie)\, Slicks Bar\, 9:00\, Halls \nLive Music\, Slide & Ride Rodeo\, 9:00\, Jackson \nKobra Karaoke\, Red Dog Saloon\, 9:00\, Jackson \nKaraoke\, Ricochet Bar\, 9:00\, Jackson \nTR Kane\, The Pine Ridge Club\, 9:00\, Medon \nGrape\, The Downtown Tavern\, 9:00\, Jackson \nLive Music\, The Tap\, 9:00\, Jackson\n\n\n\n\n\n\n\n\n\n\n\nSUNDAY – MAY 4th\nLive Music\, Crown Winery\, 1:00\, Humboldt \nATL Karaoke\, Cody’s Sports Bar & Grill\, 7:30\, Jackson \nDJ Leslie\, The Tap\, 9:30\, Jackson\n\n\n\n\n\n\n\n\n\n\n\nMONDAY – MAY 5th\nCinco de Mayo: Live Music All Day\, Tekila\, 12:00\, Jackson \nRev. Jessie & The Holy Smokes\, Tekila\, 3:30\, Jackson \nKelso Mojo (acoustic)\, Tekila\, 6:30\, Jackson \nLive Music\, VFW Airways\, 7:00\, Jackson \nJackson Area Community Bands Spring Concert\, Union University’s G.M. Savage Chapel\, 7:00\, Jackson \nOpen Mic (w/ Mark Williams)\, Ricochet Bar\, 7:30\, Jackson\n\n\n\n\n\n\n\n\n\n\n\nTUESDAY – MAY 6th\nKarleigh Anne Fagan & Adam Johnson\, Tekila\, 6:00\, Jackson \nLive Music\, Doe’s Eat Place\, 6:00\, Jackson
URL:https://visitjacksontn.com/event/weekly-music-events-23/
CATEGORIES:Events,Music
ATTACH;FMTTYPE=image/jpeg:https://visitjacksontn.com/wp-content/uploads/494530702_1138629328277597_4343646123840602158_n.jpg
END:VEVENT
BEGIN:VEVENT
DTSTART;VALUE=DATE:20250502
DTEND;VALUE=DATE:20250508
DTSTAMP:20260420T071633
CREATED:20250227T201857Z
LAST-MODIFIED:20250227T201857Z
UID:10005323-1746144000-1746662399@visitjacksontn.com
SUMMARY:Tennessee Iris Festival
DESCRIPTION:Save the date for the 2025 Tennessee Iris Festival! \nFirst begun by the Dresden Business Association in 1980 as an annual community Easter Parade\, the Festival has grown into an event with a year-round influence in the heart of Weakley County. Whether showcasing the brightest talents in local art and music\, playing host to well-known public figures\, or featuring the best of area businesses\, the Tennessee Iris Festival has built a tradition of excellence spanning four decades. \nStay tuned for more information.
URL:https://visitjacksontn.com/event/tennessee-iris-festival-2/
LOCATION:Downtown Dresden\, Dresden\, TN\, Dresden\, TN\, 38225
CATEGORIES:Arts & Culture,Events,Music
ATTACH;FMTTYPE=image/png:https://visitjacksontn.com/wp-content/uploads/276096254_333831072106683_2840564814799364582_n-1.png
END:VEVENT
BEGIN:VEVENT
DTSTART;TZID=America/Chicago:20250503T100000
DTEND;TZID=America/Chicago:20250503T100000
DTSTAMP:20260420T071633
CREATED:20250127T154241Z
LAST-MODIFIED:20250127T154259Z
UID:10005236-1746266400-1746266400@visitjacksontn.com
SUMMARY:2025 Bling's Memorial Butt Run
DESCRIPTION:Gear up for the 2025 Bling’s Memorial Butt Run\, an annual benefit supporting St. Jude Children’s Hospital in West Tennessee. \nFormerly known as the Patriot Butt Run\, this event gets its name from delicious pork butt meals and is packed with fun for a great cause. Enjoy a scenic dice run through the countryside\, starting at Bumpus Harley-Davidson of Jackson and finishing at the Vanguard MC Clubhouse. The day will also feature live music (lineup TBA)\, tasty food\, door prizes\, auctions\, and raffles. \nDon’t miss this exciting day of community and camaraderie while helping a worthy cause!
URL:https://visitjacksontn.com/event/2025blings-memorial-butt-run/
LOCATION:Bumpus Harley Davidson\, 326 Carriage House Drive.\, Jackson\, TN\, 38305\, United States
CATEGORIES:Events,Music,Sports & Outdoor
ATTACH;FMTTYPE=image/jpeg:https://visitjacksontn.com/wp-content/uploads/474623328_613335184680688_8822885318913968804_n.jpg
END:VEVENT
END:VCALENDAR