BEGIN:VCALENDAR
VERSION:2.0
PRODID:-//Jackson Tourism - ECPv6.15.18//NONSGML v1.0//EN
CALSCALE:GREGORIAN
METHOD:PUBLISH
X-WR-CALNAME:Jackson Tourism
X-ORIGINAL-URL:https://visitjacksontn.com
X-WR-CALDESC:Events for Jackson Tourism
REFRESH-INTERVAL;VALUE=DURATION:PT1H
X-Robots-Tag:noindex
X-PUBLISHED-TTL:PT1H
BEGIN:VTIMEZONE
TZID:America/Chicago
BEGIN:DAYLIGHT
TZOFFSETFROM:-0600
TZOFFSETTO:-0500
TZNAME:CDT
DTSTART:20240310T080000
END:DAYLIGHT
BEGIN:STANDARD
TZOFFSETFROM:-0500
TZOFFSETTO:-0600
TZNAME:CST
DTSTART:20241103T070000
END:STANDARD
BEGIN:DAYLIGHT
TZOFFSETFROM:-0600
TZOFFSETTO:-0500
TZNAME:CDT
DTSTART:20250309T080000
END:DAYLIGHT
BEGIN:STANDARD
TZOFFSETFROM:-0500
TZOFFSETTO:-0600
TZNAME:CST
DTSTART:20251102T070000
END:STANDARD
BEGIN:DAYLIGHT
TZOFFSETFROM:-0600
TZOFFSETTO:-0500
TZNAME:CDT
DTSTART:20260308T080000
END:DAYLIGHT
BEGIN:STANDARD
TZOFFSETFROM:-0500
TZOFFSETTO:-0600
TZNAME:CST
DTSTART:20261101T070000
END:STANDARD
END:VTIMEZONE
BEGIN:VEVENT
DTSTART;VALUE=DATE:20250416
DTEND;VALUE=DATE:20250423
DTSTAMP:20260420T191940
CREATED:20250416T215149Z
LAST-MODIFIED:20250416T215149Z
UID:10005516-1744761600-1745366399@visitjacksontn.com
SUMMARY:Weekly Music Events
DESCRIPTION:Enjoy live music throughout the week in Jackson and West Tennessee! \nSign up here to have the weekly newsletter delivered to your inbox every Wednesday. \n\n\n\n\n\n\n\n\nWEDNESDAY – APRIL 16th\nPiano After Work\, The Blacksmith\, 4:00\, Jackson \nAdam + Karleigh\, Homesoule Wine Bar Grand Opening\, 5:00\, Jackson \nKickin’ It w/ Karleigh\, The Tap\, 8:30\, Jackson\n\n\n\n\n\n\n\n\n\n\n\nTHURSDAY – APRIL 17th\nPiano After Work\, The Blacksmith\, 4:00\, Jackson \nSOS Write Night\, The Idea Factory\, 6:00\, Jackson \nLive Music\, Redbone’s\, 6:00\, Jackson \nOpen Mic Night\, Hub City Hemp\, 6:00\, Lexington \nChelsea Rhodes\, Sombreros\, 6:00\, Crump \nOpen Mic (w/ Adam Johnson)\, Baker Bros. BBQ\, 6:30\, Jackson \nSingo\, Hub City Brewing\, 7:00\, Jackson \nJohnny Mac\, Blues Landing\, 7:00\, Buchanan \nOpen Mic (w/ Justin Wright)\, Mojo’s\, 7:00\, Dyersburg \nKobra Karaoke\, Red Dog Saloon\, 7:00\, Jackson \nATL Karaoke\, The Tap\, 9:30\, Jackson\n\n\n\n\n\n\n\n\n\n\n\nFRIDAY – APRIL 18th\nPiano After Work\, The Blacksmith\, 4:00\, Jackson \nKelso Mojo (acoustic)\, Tekila\, 6:00\, Jackson \nHands & Hearts for Selmer: Nathan Applegate\, Honky Tonk Hollar\, 6:00\, Bethel Springs \nLive Music\, The Blacksmith\, 6:00\, Jackson \nLive Music\, The Blacksmith\, 6:00\, Dyersburg \nMitch Mann\, Freddy T’s Dining Room\, 6:00\, Counce \nKarleigh & Cade\, Baker Bros. BBQ\, 6:30\, Jackson \nLive Music\, Doe’s Eat Place\, 6:30\, Jackson \nMadison Hughes\, Main and Monroe\, 6:30\, Lexington \n🎟️ Tenor Madness feat. The Art Edmaiston and Gregory Tardy Quartets\, The Ned\, 7:00\, Jackson 🎟️ \nMichael Mayes w/ Mitch Harris\, Spring Street Cigars\, 7:00\, Jackson \nATL Karaoke\, Red Dog Bar & Grill\, 7:00\, Jackson \nMichael Breedlove\, Freddy T’s Rooftop\, 7:00\, Counce \nLive Music\, Twin Oaks Sport bar\, 7:00\, Brownsville \nJackson’s Hubtet/Dixieland Jazz Trio\, Magnolia Manor\, 7:00\, Humboldt \nKaraoke (w/ Musical Mayhem)\, The Spot Eatery\, 7:00\, Bells \nLindsey Russell Band\, Redbone’s\, 8:00\, Jackson \nMakayla Collins\, Elks #192\, 8:00\, Jackson \nStronghold\, Blues Landing\, 8:00\, Buchanan \nJoe and Friends\, Mojo’s\, 8:00\, Dyersburg \nChelsea Rhodes\, House of Brews\, 8:00\, Dickson \nKaraoke\, The Office Lounge\, 8:00\, Jackson \nKaraoke\, Darlin’s\, 8:00\, Sharon \nKaraoke (w/ Gray Hilmerson)\, Hub City Brewing\, 8:30\, Jackson \nKaraoke\, Bub’s Place\, 9:00\, Dyersburg \nKaraoke (w/ Kobra Karaoke)\, The Ponds\, 9:00\, Medon \nBizzy B\, JW Brewskies Sports Bar\, 9:00\, Gleason \nKimberlie Helton Band\, The Tap\, 9:00\, Jackson \nKaraoke\, Ricochet Bar\, 9:00\, Jackson\n\n\n\n\n\n\n\n\n\n\n\nSATURDAY – APRIL 19th\nOld Time Bluegrass and Fiddlers’ Jamboree\, Holladay Elementary School\, 10:30am\, Holladay \n420 Hemp Festival\, Jackson’s AMP at the Market\, 11:00am\, Jackson \nRiot\, and Goat City\, The AMP\, 11:00 am\, Jackson \nKaraoke (w/ Christian Jones)\, The Ponds\, 12:00\, Medon \nLive Music\, Crown Winery\, 1:00\, Humboldt \n🎟️ Crawfest\, Hub City Brewing\, 3:00\, Jackson 🎟️ \nKenny Little\, The Icehouse of Jackson\, 6:00\, Jackson \nLive Music\, Doe’s Eat Place\, 6:00\, Jackson \nLive Music\, The Blacksmith\, 6:00\, Jackson \nLive Music\, The Blacksmith\, 6:00\, Dyersburg \nTosha Hill Band\, Freddy T’s Dining Room\, 6:00\, Counce \nAshley Jordan\, Passantino’s Concert Cafe\, 6:00\, Medina \nDerrick Brantley\, Main and Monroe\, 6:30\, Lexington \nEmily McGill & LOLO\, The Downtown Tavern (Rebirth)\, 7:00\, Jackson \nLive Music\, VFW Airways\, 7:00\, Jackson \nDouble Edge\, Community Center\, 7:00\, Reagan \nThe Will Beyer Band\, Bootsie’s Barn Dance\, 7:00\, Gadsden \nKaraoke (w/ Kobra Karaoke)\, Red Dog Bar & Grill\, 7:00\, Jackson \nJustUs\, Magnolia Manor\, 7:00\, Humboldt \n🎟 Forever Motown: So Good for the Soul\, The Dixie Carter PAC\, 7:30\, Huntingdon 🎟️ \nAndy K Avery\, Redbone’s\, 8:00\, Jackson \nMatt Boone Band\, Mar & Sharon’s Sports Bar\, 8:00\, Dyersburg \nThe Derrick Cole Band\, Southern State\, 8:00\, South Fulton \nRay Lewis\, Blues Landing\, 8:00\, Buchanan \nHunt Pearson\, Mojo’s\, 8:00\, Dyersburg \nKaraoke (w/ Debbie Honey)\, The City Limits Bar\, 8:00\, Trenton \nKaraoke (w/ DJ Chuck Gee)\, MT Bottles\, 8:00\, Trezevant \nKaraoke (w/ Bobby & Laurie)\, Slicks Bar\, 9:00\, Halls \nBizzy B\, JW Brewskies Sports Bar\, 9:00\, Gleason \nSky Blu Band\, Slide & Ride Rodeo\, 9:00\, Jackson \nLive Music\, The Tap\, 9:00\, Jackson \nKobra Karaoke\, Red Dog Saloon\, 9:00\, Jackson \nKaraoke\, Ricochet Bar\, 9:00\, Jackson\n\n\n\n\n\n\n\n\n\n\n\nSUNDAY – APRIL 20th\nLive Music\, Crown Winery\, 11:00\, Humboldt \nLindsey Russell\, The Downtown Tavern\, 7:00\, Jackson \nATL Karaoke\, Cody’s Sports Bar & Grill\, 7:30\, Jackson \nDJ Leslie\, The Tap\, 9:30\, Jackson\n\n\n\n\n\n\n\n\n\n\n\nMONDAY – APRIL 21st\nLive Music\, VFW Airways\, 7:00\, Jackson \nWorld’s Biggest Fish Fry: Kick-Off Street Dance\, Downtown Paris\, 7:00\, Paris\n\n\n\n\n\n\n\n\n\n\n\nTUESDAY – APRIL 22nd\nLindsey Russell\, Tekila\, 6:00\, Jackson \nLive Music\, Doe’s Eat Place\, 6:00\, Jackson \nUofM Lambuth Pop Ensemble\, HPAC at Lambuth\, 7:00\, Jackson \nWorld’s Biggest Fish Fry: Country Dance\, Henry County Fairgrounds\, 7:00\, Paris \nDJ Von\, Hub City Brewing\, 9:00\, Jackson
URL:https://visitjacksontn.com/event/weekly-music-events-21/
CATEGORIES:Events,Music
ATTACH;FMTTYPE=image/jpeg:https://visitjacksontn.com/wp-content/uploads/492151706_1127336916073505_6022839750091905510_n.jpg
END:VEVENT
BEGIN:VEVENT
DTSTART;VALUE=DATE:20250419
DTEND;VALUE=DATE:20250428
DTSTAMP:20260420T191940
CREATED:20250225T172258Z
LAST-MODIFIED:20250225T172354Z
UID:10005296-1745020800-1745798399@visitjacksontn.com
SUMMARY:World's Biggest Fish Fry
DESCRIPTION:The World’s Biggest Fish Fry is a must-experience spring tradition\, serving up 12\,000 pounds of crispy\, golden fried catfish alongside a week of parades\, dancing\, rodeo nights\, carnival rides\, fishing\, and even catfish races! What started as Mule Day in 1938 has evolved into a full-fledged celebration of fishing\, food\, and fun. \nThis week-long festival features concerts\, a carnival\, grand parade\, rodeo\, and catfish races\, yes\, you read that correctly! Check the event schedule for a full list of event details and locations.
URL:https://visitjacksontn.com/event/worlds-biggest-fish-fry-2/
LOCATION:Henry County Fairgrounds\, 517 Royal Oak Dr.\, Paris\, TN\, 38242\, United States
CATEGORIES:Arts & Culture,Events,Music,Sports & Outdoor
ATTACH;FMTTYPE=image/png:https://visitjacksontn.com/wp-content/uploads/fishfry-logo-3.png
END:VEVENT
END:VCALENDAR