BEGIN:VCALENDAR
VERSION:2.0
PRODID:-//Jackson Tourism - ECPv6.15.18//NONSGML v1.0//EN
CALSCALE:GREGORIAN
METHOD:PUBLISH
X-ORIGINAL-URL:https://visitjacksontn.com
X-WR-CALDESC:Events for Jackson Tourism
REFRESH-INTERVAL;VALUE=DURATION:PT1H
X-Robots-Tag:noindex
X-PUBLISHED-TTL:PT1H
BEGIN:VTIMEZONE
TZID:America/Chicago
BEGIN:DAYLIGHT
TZOFFSETFROM:-0600
TZOFFSETTO:-0500
TZNAME:CDT
DTSTART:20240310T080000
END:DAYLIGHT
BEGIN:STANDARD
TZOFFSETFROM:-0500
TZOFFSETTO:-0600
TZNAME:CST
DTSTART:20241103T070000
END:STANDARD
BEGIN:DAYLIGHT
TZOFFSETFROM:-0600
TZOFFSETTO:-0500
TZNAME:CDT
DTSTART:20250309T080000
END:DAYLIGHT
BEGIN:STANDARD
TZOFFSETFROM:-0500
TZOFFSETTO:-0600
TZNAME:CST
DTSTART:20251102T070000
END:STANDARD
BEGIN:DAYLIGHT
TZOFFSETFROM:-0600
TZOFFSETTO:-0500
TZNAME:CDT
DTSTART:20260308T080000
END:DAYLIGHT
BEGIN:STANDARD
TZOFFSETFROM:-0500
TZOFFSETTO:-0600
TZNAME:CST
DTSTART:20261101T070000
END:STANDARD
END:VTIMEZONE
BEGIN:VEVENT
DTSTART;VALUE=DATE:20250416
DTEND;VALUE=DATE:20250423
DTSTAMP:20260420T140240
CREATED:20250416T215149Z
LAST-MODIFIED:20250416T215149Z
UID:10005516-1744761600-1745366399@visitjacksontn.com
SUMMARY:Weekly Music Events
DESCRIPTION:Enjoy live music throughout the week in Jackson and West Tennessee! \nSign up here to have the weekly newsletter delivered to your inbox every Wednesday. \n\n\n\n\n\n\n\n\nWEDNESDAY – APRIL 16th\nPiano After Work\, The Blacksmith\, 4:00\, Jackson \nAdam + Karleigh\, Homesoule Wine Bar Grand Opening\, 5:00\, Jackson \nKickin’ It w/ Karleigh\, The Tap\, 8:30\, Jackson\n\n\n\n\n\n\n\n\n\n\n\nTHURSDAY – APRIL 17th\nPiano After Work\, The Blacksmith\, 4:00\, Jackson \nSOS Write Night\, The Idea Factory\, 6:00\, Jackson \nLive Music\, Redbone’s\, 6:00\, Jackson \nOpen Mic Night\, Hub City Hemp\, 6:00\, Lexington \nChelsea Rhodes\, Sombreros\, 6:00\, Crump \nOpen Mic (w/ Adam Johnson)\, Baker Bros. BBQ\, 6:30\, Jackson \nSingo\, Hub City Brewing\, 7:00\, Jackson \nJohnny Mac\, Blues Landing\, 7:00\, Buchanan \nOpen Mic (w/ Justin Wright)\, Mojo’s\, 7:00\, Dyersburg \nKobra Karaoke\, Red Dog Saloon\, 7:00\, Jackson \nATL Karaoke\, The Tap\, 9:30\, Jackson\n\n\n\n\n\n\n\n\n\n\n\nFRIDAY – APRIL 18th\nPiano After Work\, The Blacksmith\, 4:00\, Jackson \nKelso Mojo (acoustic)\, Tekila\, 6:00\, Jackson \nHands & Hearts for Selmer: Nathan Applegate\, Honky Tonk Hollar\, 6:00\, Bethel Springs \nLive Music\, The Blacksmith\, 6:00\, Jackson \nLive Music\, The Blacksmith\, 6:00\, Dyersburg \nMitch Mann\, Freddy T’s Dining Room\, 6:00\, Counce \nKarleigh & Cade\, Baker Bros. BBQ\, 6:30\, Jackson \nLive Music\, Doe’s Eat Place\, 6:30\, Jackson \nMadison Hughes\, Main and Monroe\, 6:30\, Lexington \n🎟️ Tenor Madness feat. The Art Edmaiston and Gregory Tardy Quartets\, The Ned\, 7:00\, Jackson 🎟️ \nMichael Mayes w/ Mitch Harris\, Spring Street Cigars\, 7:00\, Jackson \nATL Karaoke\, Red Dog Bar & Grill\, 7:00\, Jackson \nMichael Breedlove\, Freddy T’s Rooftop\, 7:00\, Counce \nLive Music\, Twin Oaks Sport bar\, 7:00\, Brownsville \nJackson’s Hubtet/Dixieland Jazz Trio\, Magnolia Manor\, 7:00\, Humboldt \nKaraoke (w/ Musical Mayhem)\, The Spot Eatery\, 7:00\, Bells \nLindsey Russell Band\, Redbone’s\, 8:00\, Jackson \nMakayla Collins\, Elks #192\, 8:00\, Jackson \nStronghold\, Blues Landing\, 8:00\, Buchanan \nJoe and Friends\, Mojo’s\, 8:00\, Dyersburg \nChelsea Rhodes\, House of Brews\, 8:00\, Dickson \nKaraoke\, The Office Lounge\, 8:00\, Jackson \nKaraoke\, Darlin’s\, 8:00\, Sharon \nKaraoke (w/ Gray Hilmerson)\, Hub City Brewing\, 8:30\, Jackson \nKaraoke\, Bub’s Place\, 9:00\, Dyersburg \nKaraoke (w/ Kobra Karaoke)\, The Ponds\, 9:00\, Medon \nBizzy B\, JW Brewskies Sports Bar\, 9:00\, Gleason \nKimberlie Helton Band\, The Tap\, 9:00\, Jackson \nKaraoke\, Ricochet Bar\, 9:00\, Jackson\n\n\n\n\n\n\n\n\n\n\n\nSATURDAY – APRIL 19th\nOld Time Bluegrass and Fiddlers’ Jamboree\, Holladay Elementary School\, 10:30am\, Holladay \n420 Hemp Festival\, Jackson’s AMP at the Market\, 11:00am\, Jackson \nRiot\, and Goat City\, The AMP\, 11:00 am\, Jackson \nKaraoke (w/ Christian Jones)\, The Ponds\, 12:00\, Medon \nLive Music\, Crown Winery\, 1:00\, Humboldt \n🎟️ Crawfest\, Hub City Brewing\, 3:00\, Jackson 🎟️ \nKenny Little\, The Icehouse of Jackson\, 6:00\, Jackson \nLive Music\, Doe’s Eat Place\, 6:00\, Jackson \nLive Music\, The Blacksmith\, 6:00\, Jackson \nLive Music\, The Blacksmith\, 6:00\, Dyersburg \nTosha Hill Band\, Freddy T’s Dining Room\, 6:00\, Counce \nAshley Jordan\, Passantino’s Concert Cafe\, 6:00\, Medina \nDerrick Brantley\, Main and Monroe\, 6:30\, Lexington \nEmily McGill & LOLO\, The Downtown Tavern (Rebirth)\, 7:00\, Jackson \nLive Music\, VFW Airways\, 7:00\, Jackson \nDouble Edge\, Community Center\, 7:00\, Reagan \nThe Will Beyer Band\, Bootsie’s Barn Dance\, 7:00\, Gadsden \nKaraoke (w/ Kobra Karaoke)\, Red Dog Bar & Grill\, 7:00\, Jackson \nJustUs\, Magnolia Manor\, 7:00\, Humboldt \n🎟 Forever Motown: So Good for the Soul\, The Dixie Carter PAC\, 7:30\, Huntingdon 🎟️ \nAndy K Avery\, Redbone’s\, 8:00\, Jackson \nMatt Boone Band\, Mar & Sharon’s Sports Bar\, 8:00\, Dyersburg \nThe Derrick Cole Band\, Southern State\, 8:00\, South Fulton \nRay Lewis\, Blues Landing\, 8:00\, Buchanan \nHunt Pearson\, Mojo’s\, 8:00\, Dyersburg \nKaraoke (w/ Debbie Honey)\, The City Limits Bar\, 8:00\, Trenton \nKaraoke (w/ DJ Chuck Gee)\, MT Bottles\, 8:00\, Trezevant \nKaraoke (w/ Bobby & Laurie)\, Slicks Bar\, 9:00\, Halls \nBizzy B\, JW Brewskies Sports Bar\, 9:00\, Gleason \nSky Blu Band\, Slide & Ride Rodeo\, 9:00\, Jackson \nLive Music\, The Tap\, 9:00\, Jackson \nKobra Karaoke\, Red Dog Saloon\, 9:00\, Jackson \nKaraoke\, Ricochet Bar\, 9:00\, Jackson\n\n\n\n\n\n\n\n\n\n\n\nSUNDAY – APRIL 20th\nLive Music\, Crown Winery\, 11:00\, Humboldt \nLindsey Russell\, The Downtown Tavern\, 7:00\, Jackson \nATL Karaoke\, Cody’s Sports Bar & Grill\, 7:30\, Jackson \nDJ Leslie\, The Tap\, 9:30\, Jackson\n\n\n\n\n\n\n\n\n\n\n\nMONDAY – APRIL 21st\nLive Music\, VFW Airways\, 7:00\, Jackson \nWorld’s Biggest Fish Fry: Kick-Off Street Dance\, Downtown Paris\, 7:00\, Paris\n\n\n\n\n\n\n\n\n\n\n\nTUESDAY – APRIL 22nd\nLindsey Russell\, Tekila\, 6:00\, Jackson \nLive Music\, Doe’s Eat Place\, 6:00\, Jackson \nUofM Lambuth Pop Ensemble\, HPAC at Lambuth\, 7:00\, Jackson \nWorld’s Biggest Fish Fry: Country Dance\, Henry County Fairgrounds\, 7:00\, Paris \nDJ Von\, Hub City Brewing\, 9:00\, Jackson
URL:https://visitjacksontn.com/event/weekly-music-events-21/
CATEGORIES:Events,Music
ATTACH;FMTTYPE=image/jpeg:https://visitjacksontn.com/wp-content/uploads/492151706_1127336916073505_6022839750091905510_n.jpg
END:VEVENT
BEGIN:VEVENT
DTSTART;VALUE=DATE:20250419
DTEND;VALUE=DATE:20250428
DTSTAMP:20260420T140240
CREATED:20250225T172258Z
LAST-MODIFIED:20250225T172354Z
UID:10005296-1745020800-1745798399@visitjacksontn.com
SUMMARY:World's Biggest Fish Fry
DESCRIPTION:The World’s Biggest Fish Fry is a must-experience spring tradition\, serving up 12\,000 pounds of crispy\, golden fried catfish alongside a week of parades\, dancing\, rodeo nights\, carnival rides\, fishing\, and even catfish races! What started as Mule Day in 1938 has evolved into a full-fledged celebration of fishing\, food\, and fun. \nThis week-long festival features concerts\, a carnival\, grand parade\, rodeo\, and catfish races\, yes\, you read that correctly! Check the event schedule for a full list of event details and locations.
URL:https://visitjacksontn.com/event/worlds-biggest-fish-fry-2/
LOCATION:Henry County Fairgrounds\, 517 Royal Oak Dr.\, Paris\, TN\, 38242\, United States
CATEGORIES:Arts & Culture,Events,Music,Sports & Outdoor
ATTACH;FMTTYPE=image/png:https://visitjacksontn.com/wp-content/uploads/fishfry-logo-3.png
END:VEVENT
BEGIN:VEVENT
DTSTART;TZID=America/Chicago:20250419T103000
DTEND;TZID=America/Chicago:20250419T103000
DTSTAMP:20260420T140240
CREATED:20250225T170915Z
LAST-MODIFIED:20250225T170921Z
UID:10005295-1745058600-1745058600@visitjacksontn.com
SUMMARY:67th Annual Old Time Bluegrass and Fiddlers' Jamboree
DESCRIPTION:Get ready for a toe-tapping good time at the 67th Annual Old Time Bluegrass & Fiddlers’ Jamboree! \nEnjoy a lively day filled with fiddlers’ contests\, buck dancing\, square dancing\, and top-tier bluegrass bands. The fun kicks off with a parade at 10:30 AM\, followed by delicious BBQ at 11:30 AM\, and the contest beginning at 1 PM. Bring the whole family for a day of music\, tradition\, and Southern charm!
URL:https://visitjacksontn.com/event/67th-annual-old-time-bluegrass-and-fiddlers-jamboree/
LOCATION:Holladay Elementary School\, 148 Stokes Rd\, Holladay\, TN\, 38341\, United States
CATEGORIES:Arts & Culture,Events,Music
ATTACH;FMTTYPE=image/png:https://visitjacksontn.com/wp-content/uploads/475701974_1128429782411229_7776864335328050850_n.png
END:VEVENT
BEGIN:VEVENT
DTSTART;TZID=America/Chicago:20250419T110000
DTEND;TZID=America/Chicago:20250419T180000
DTSTAMP:20260420T140240
CREATED:20250122T162029Z
LAST-MODIFIED:20250122T162514Z
UID:10005222-1745060400-1745085600@visitjacksontn.com
SUMMARY:420 Hemp Festival
DESCRIPTION:Celebrate progress and join the excitement at the 4th Annual 420 Hemp Festival! \nThis vibrant event honors legalization with a day full of education\, entertainment\, and fun at The AMP. Explore local Hemp/CBD stores\, creative vendors\, and voter registration opportunities while enjoying live music\, games\, food trucks\, and more. Be part of the movement to grow awareness for Hemp/CBD as a thriving industry in West Tennessee. \nVendor applications and sponsorship opportunities are now available here—don’t miss your chance to connect with an engaged audience and support this cause.
URL:https://visitjacksontn.com/event/420-hemp-festival-3/
LOCATION:Jackson’s Amp at The Market\, 91 New Market Street\, Jackson\, TN\, 38301\, United States
CATEGORIES:Arts & Culture,Events,Music
ATTACH;FMTTYPE=image/jpeg:https://visitjacksontn.com/wp-content/uploads/473359751_597731119670581_8005376200415120358_n.jpg
END:VEVENT
BEGIN:VEVENT
DTSTART;TZID=America/Chicago:20250419T150000
DTEND;TZID=America/Chicago:20250419T200000
DTSTAMP:20260420T140240
CREATED:20241002T170653Z
LAST-MODIFIED:20250115T154040Z
UID:10002638-1745074800-1745092800@visitjacksontn.com
SUMMARY:Crawfest 2025
DESCRIPTION:Mark your calendars for Crawfest 2025! \nJoin the Scarlet Rope Project at Hub City to experience a fun atmosphere with all your family and friends while enjoying crawfish\, shrimp\, and all the fixins’. Crawfest is family-friendly and will feature a children’s area for all your little’uns to run around!
URL:https://visitjacksontn.com/event/crawfest-2025/
LOCATION:Hub City Brewing\, 250 West Main Street\, Jackson\, TN\, 38301\, United States
CATEGORIES:Events,Music
ATTACH;FMTTYPE=image/jpeg:https://visitjacksontn.com/wp-content/uploads/473066318_989320479895851_6684843919870089707_n.jpg
END:VEVENT
BEGIN:VEVENT
DTSTART;TZID=America/Chicago:20250419T180000
DTEND;TZID=America/Chicago:20250419T180000
DTSTAMP:20260420T140240
CREATED:20250218T163807Z
LAST-MODIFIED:20250218T163824Z
UID:10005274-1745085600-1745085600@visitjacksontn.com
SUMMARY:4th Annual Fur Ball - A Night at the Oscars
DESCRIPTION:Step into the spotlight for a night of glitz\, glamour\, and giving back at the 4th Annual Fur Ball – A Night at the Oscars! \nDon’t miss an unforgettable evening benefitting the Jackson Animal Care Center. Walk the red carpet\, enjoy delicious food\, specialty cocktails\, a cigar bar by Big Willie Cigars\, and a whiskey pull by C&C Liquor\, all set to the beats of DJ Brandon Easley. The highlight of the night? The Oscars presentation featuring the true STARS—the beloved rescue pets! \n 
URL:https://visitjacksontn.com/event/4th-annual-fur-ball-a-night-at-the-oscars/
LOCATION:the Stella\, Venue & Events\, 209 N Church St\, Jackson\, TN\, 38301\, United States
CATEGORIES:Events,Music
ATTACH;FMTTYPE=image/jpeg:https://visitjacksontn.com/wp-content/uploads/477045194_1169499461845233_3672888604430578665_n.jpg
END:VEVENT
BEGIN:VEVENT
DTSTART;TZID=America/Chicago:20250419T193000
DTEND;TZID=America/Chicago:20250419T210000
DTSTAMP:20260420T140240
CREATED:20240624T171731Z
LAST-MODIFIED:20240624T171908Z
UID:10002354-1745091000-1745096400@visitjacksontn.com
SUMMARY:Forever Motown: So Good for the Soul
DESCRIPTION:Imagine seeing the greatest Motown groups of all time\, all on one stage together again! That’s Forever Motown and it’s so good for the soul. Hitsville churned out all the #1 hits back in the 60s and 70s…and this show celebrates the best of the best from Berry Gordy’s Detroit hit-making factory. A fabulous cast\, backed by a band of incredible musicians\, represents Motown royalty — performing the beloved songs from the greatest groups\, artists\, and songwriters of all time: The Four Tops\, The Temptations\, The Supremes\, Smokey Robinson\, Mary Wells\, Marvin Gaye\, Tammi Terrell\, Stevie Wonder. \nTickets to this show are on sale soon! Purchase tickets by clicking the BUY TICKETS button below or via The Dixie’s Box Office in person or by phone at 731.986.2100\, M-F\, 10-4p. \nTickets are on sale:\n• Mon\, July 29\, 10 A CT – Previous 18th Season Ticket Holders via The Dixie’s Box Office\n• Mon\, Aug 12\, 10 A CT – New 19th Season Ticket Holders via The Dixie’s Box Office\n• Mon\, Dec 16\, 10 A CT – Individual Show Tickets via DixiePAC.net and The Dixie’s Box Office \nClick here for tickets and more information.
URL:https://visitjacksontn.com/event/forever-motown-so-good-for-the-soul/
LOCATION:Dixie Carter Performing Arts Center\, 191 Court Square\, Huntingdon\, TN\, 38344\, United States
CATEGORIES:Events,Music
ATTACH;FMTTYPE=image/jpeg:https://visitjacksontn.com/wp-content/uploads/D19_ForeverMotown.jpg
END:VEVENT
BEGIN:VEVENT
DTSTART;TZID=America/Chicago:20250419T193000
DTEND;TZID=America/Chicago:20250419T210000
DTSTAMP:20260420T140240
CREATED:20240624T173843Z
LAST-MODIFIED:20240624T173843Z
UID:10002355-1745091000-1745096400@visitjacksontn.com
SUMMARY:Lee Rocker of the Stray Cats
DESCRIPTION:End the 19th season with a bang\, while rocking out to iconic hits like\, “Stray Cat Strut” and “Rock This Town”\, plus Lee will perform some of his latest collaborations with music legends like Ringo Starr and The Rolling Stones. Rocker made his mark singing\, playing\, standing on\, spinning\, and rocking his giant upright bass as a founding member (along with Brian Setzer and Slim Jim Phantom)\, of the Grammy-nominated music group\, The Stray Cats\, who sold over 10 million albums and garnered 23 gold and platinum certified records worldwide. \nTickets to this show are on sale soon! Purchase tickets by clicking the BUY TICKETS button below or via The Dixie’s Box Office in person or by phone at 731.986.2100\, M-F\, 10-4p. \nTickets are on sale:\n• Mon\, July 29\, 10A CT – Previous 18th Season Ticket Holders via The Dixie’s Box Office\n• Mon\, Aug 12\, 10A CT – New 19th Season Ticket Holders via The Dixie’s Box Office\n• Mon\, Dec 16\, 10A CT – Individual Show Tickets via DixiePAC.net and The Dixie’s Box Office \nClick here for tickets and more information.
URL:https://visitjacksontn.com/event/lee-rocker-of-the-stray-cats/
LOCATION:Dixie Carter Performing Arts Center\, 191 Court Square\, Huntingdon\, TN\, 38344\, United States
CATEGORIES:Events,Music
ATTACH;FMTTYPE=image/jpeg:https://visitjacksontn.com/wp-content/uploads/D19_LeeRocker.jpg
END:VEVENT
END:VCALENDAR