BEGIN:VCALENDAR
VERSION:2.0
PRODID:-//Jackson Tourism - ECPv6.15.18//NONSGML v1.0//EN
CALSCALE:GREGORIAN
METHOD:PUBLISH
X-WR-CALNAME:Jackson Tourism
X-ORIGINAL-URL:https://visitjacksontn.com
X-WR-CALDESC:Events for Jackson Tourism
REFRESH-INTERVAL;VALUE=DURATION:PT1H
X-Robots-Tag:noindex
X-PUBLISHED-TTL:PT1H
BEGIN:VTIMEZONE
TZID:America/Chicago
BEGIN:DAYLIGHT
TZOFFSETFROM:-0600
TZOFFSETTO:-0500
TZNAME:CDT
DTSTART:20240310T080000
END:DAYLIGHT
BEGIN:STANDARD
TZOFFSETFROM:-0500
TZOFFSETTO:-0600
TZNAME:CST
DTSTART:20241103T070000
END:STANDARD
BEGIN:DAYLIGHT
TZOFFSETFROM:-0600
TZOFFSETTO:-0500
TZNAME:CDT
DTSTART:20250309T080000
END:DAYLIGHT
BEGIN:STANDARD
TZOFFSETFROM:-0500
TZOFFSETTO:-0600
TZNAME:CST
DTSTART:20251102T070000
END:STANDARD
BEGIN:DAYLIGHT
TZOFFSETFROM:-0600
TZOFFSETTO:-0500
TZNAME:CDT
DTSTART:20260308T080000
END:DAYLIGHT
BEGIN:STANDARD
TZOFFSETFROM:-0500
TZOFFSETTO:-0600
TZNAME:CST
DTSTART:20261101T070000
END:STANDARD
END:VTIMEZONE
BEGIN:VEVENT
DTSTART;VALUE=DATE:20250409
DTEND;VALUE=DATE:20250416
DTSTAMP:20260420T124909
CREATED:20250409T204043Z
LAST-MODIFIED:20250409T204043Z
UID:10005498-1744156800-1744761599@visitjacksontn.com
SUMMARY:Weekly Music Events
DESCRIPTION:Enjoy live music throughout the week in Jackson and West Tennessee! \nSign up here to have the weekly newsletter delivered to your inbox every Wednesday. \n\n\n\n\n\n\n\n\nWEDNESDAY – APRIL 9th\nPiano After Work\, The Blacksmith\, 4:00\, Jackson \nCaleb Kelley\, Redbone’s\, 6:00\, Jackson \nKickin’ It w/ Karleigh\, The Tap\, 8:30\, Jackson\n\n\n\n\n\n\n\n\n\n\n\nTHURSDAY – APRIL 10th\nPiano After Work\, The Blacksmith\, 4:00\, Jackson \nShannon Cooke & Chris Turnage\, Redbone’s\, 6:00\, Jackson \nOpen Mic Night\, Hub City Hemp\, 6:00\, Lexington \nOpen Mic (w/ Adam Johnson)\, Baker Bros. BBQ\, 6:30\, Jackson \nSingo\, Hub City Brewing\, 7:00\, Jackson \nJohnny Mac\, Blues Landing\, 7:00\, Buchanan \nKobra Karaoke\, Red Dog Saloon\, 7:00\, Jackson \nWallace & Company\, American Legion ALA Dance: Civic Center\, 7:00\, Huntingdon \nATL Karaoke\, The Tap\, 9:30\, Jackson\n\n\n\n\n\n\n\n\n\n\n\nFRIDAY – APRIL 11th\nPiano After Work\, The Blacksmith\, 4:00\, Jackson \nMakayla Collins (acoustic)\, Tekila\, 6:00\, Jackson \nLive Music\, The Blacksmith\, 6:00\, Jackson \nEmily Ann Mealoe & Joseph Montgomery\, El Portillo\, 6:00\, Lexington \nJustin Butler\, Randal Butler\, & Matt Boals\, The Blacksmith\, 6:00\, Dyersburg \nAndy Tanas\, Main and Monroe\, 6:00\, Lexington \nMichael Breedlove & Joseph Baldwin\, Freddy T’s Dining Room\, 6:00\, Counce \nBryan Dinkins (acoustic)\, Baker Bros. BBQ\, 6:30\, Jackson \nMegan Jordan\, Doe’s Eat Place\, 6:30\, Jackson \nATL Karaoke\, Red Dog Bar & Grill\, 7:00\, Jackson \nBryan Hayes & Bobby Stokely\, Twin Oaks Sport bar\, 7:00\, Brownsville \nJackson’s Hubtet\, Speakeasy IYKYK at Magnolia Manor\, 7:00\, Humboldt \nKaraoke (w/ Musical Mayhem)\, The Spot Eatery\, 7:00\, Bells \nTR Kane\, Redbone’s\, 8:00\, Jackson \nJustUs\, Elks #192\, 8:00\, Jackson \nHunt Pearson Band\, Blues Landing\, 8:00\, Buchanan \nForever Young\, Mojo’s\, 8:00\, Dyersburg \nKaraoke\, The Office Lounge\, 8:00\, Jackson \nKaraoke\, Darlin’s\, 8:00\, Sharon \nKaraoke (w/ Gray Hilmerson)\, Hub City Brewing\, 8:30\, Jackson \nKaraoke (w/ DJ Chuck Gee)\, Bub’s Place\, 9:00\, Dyersburg \nKaraoke (w/ Kobra Karaoke)\, The Ponds\, 9:00\, Medon \nKarleigh\, Adam\, and Friends\, The Tap\, 9:00\, Jackson \nKaraoke\, Ricochet Bar\, 9:00\, Jackson\n\n\n\n\n\n\n\n\n\n\n\nSATURDAY – APRIL 12th\nJustUs\, Crown Winery\, 1:00\, Humboldt \nJackson Choral Society’s “Hope and Deliverance\,” First Baptist Church\, 4:00\, Jackson \nPrine Time\, Chickasaw Country Store\, 4:30\, Chickasaw \n🎟️ Bobby Tomberlin & Tess Frizzell (1st show)\, Main and Monroe\, 5:30\, Lexington 🎟️ \nChelsea Rhodes\, Jacy’s Wagon Music Festival (Michie Park)\, 5:30\, Michie \nLive Music\, Doe’s Eat Place\, 6:00\, Jackson \nLive Music\, The Blacksmith\, 6:00\, Jackson \nLive Music\, The Blacksmith\, 6:00\, Dyersburg \nNick Bentley & Mitch Mann\, Freddy T’s Dining Room\, 6:00\, Counce \nKaraoke: The DJ Red Experience\, 6:00\, Passantino’s Concert Cafe\, Medina \n🎟️ Jackson’s Got Talent\, The Ned\, 7:00\, Jackson 🎟️ \nWallace & Company\, VFW Airways\, 7:00\, Jackson \nFour Wheel Drive\, Community Center\, 7:00\, Reagan \nDouble Edge Band\, Bootsie’s Barn Dance\, 7:00\, Gadsden \nKaraoke (w/ Kobra Karaoke)\, Red Dog Bar & Grill\, 7:00\, Jackson \nNAtheband\, Magnolia Manor\, 7:00\, Humboldt \nOpen Mic Night\, Catbird Studio\, 7:00\, Jackson \n🎟️ Bobby Tomberlin & Tess Frizzell (2nd show)\, Main and Monroe\, 7:30\, Lexington 🎟️ \nBryan Dinkins (acoustic)\, Dana’s Place\, 8:00\, Humboldt \nKelso Mojo\, Redbone’s\, 8:00\, Jackson \nHunt Pearson Band\, Cody’s Sports Bar and Grill\, 8:00\, Jackson \nLUNAR Band\, Southern State\, 8:00\, South Fulton \n24/Seven\, Blues Landing\, 8:00\, Buchanan \nEthan Torsak\, Mojo’s\, 8:00\, Dyersburg \nKaraoke (w/ Debbie Honey)\, The City Limits Bar\, 8:00\, Trenton \nMatt Boone Band\, Hales Water N Hole Bar\, 8:30\, Rigley \nKaraoke (w/ Christian Jones)\, The Ponds\, 9:00\, Medon \nKaraoke (w/ Bobby & Laurie)\, Slicks Bar\, 9:00\, Halls \nCade Doyle Band\, Slide & Ride Rodeo\, 9:00\, Jackson \nLakewood Drive\, The Tap\, 9:00\, Jackson \nKobra Karaoke\, Red Dog Saloon\, 9:00\, Jackson \nKaraoke\, Ricochet Bar\, 9:00\, Jackson\n\n\n\n\n\n\n\n\n\n\n\nSUNDAY – APRIL 13th\nLive Music\, Crown Winery\, 11:00\, Humboldt \nATL Karaoke\, Cody’s Sports Bar & Grill\, 7:30\, Jackson \nDJ Leslie\, The Tap\, 9:30\, Jackson\n\n\n\n\n\n\n\n\n\n\n\nMONDAY – APRIL 14th\nLive Music\, VFW Airways\, 7:00\, Jackson\n\n\n\n\n\n\n\n\n\n\n\nTUESDAY – APRIL 15th\nKarleigh Fagan & Adam Johnson\, Tekila\, 6:00\, Jackson \nLindsey Russell\, Doe’s Eat Place\, 6:00\, Jackson \nDJ Von\, Hub City Brewing\, 9:00\, Jackson
URL:https://visitjacksontn.com/event/weekly-music-events-20/
CATEGORIES:Events,Music
ATTACH;FMTTYPE=image/jpeg:https://visitjacksontn.com/wp-content/uploads/489955634_1121469789993551_6976659819946665192_n.jpg
END:VEVENT
BEGIN:VEVENT
DTSTART;TZID=America/Chicago:20250415T183000
DTEND;TZID=America/Chicago:20250415T183000
DTSTAMP:20260420T124909
CREATED:20250415T172851Z
LAST-MODIFIED:20250415T172859Z
UID:10005508-1744741800-1744741800@visitjacksontn.com
SUMMARY:Luna Nova Music Ensemble at Jackson State
DESCRIPTION:Don’t miss a free\, and open to the West TN community\, evening of French Classics by Memphis’ own Luna Nova Music during the college’s “Arts Week.” \nMusic will include classics dating back to the 1800’s performed by the renowned artist of the Luna Music ensemble that has performed over 400 concerts at home in Memphis and around the country. Its focus is masterworks of the last 150 years as well as new works by emerging contemporary composers.
URL:https://visitjacksontn.com/event/luna-nova-music-ensemble-at-jackson-state/
LOCATION:Ayers Auditorium\, 2046 North Pkwy\, Jackson\, TN\, 38301\, United States
CATEGORIES:Events,Music
ATTACH;FMTTYPE=image/jpeg:https://visitjacksontn.com/wp-content/uploads/490296058_1094892232682471_5796640937876913679_n.jpg
END:VEVENT
END:VCALENDAR