BEGIN:VCALENDAR
VERSION:2.0
PRODID:-//Jackson Tourism - ECPv6.15.18//NONSGML v1.0//EN
CALSCALE:GREGORIAN
METHOD:PUBLISH
X-ORIGINAL-URL:https://visitjacksontn.com
X-WR-CALDESC:Events for Jackson Tourism
REFRESH-INTERVAL;VALUE=DURATION:PT1H
X-Robots-Tag:noindex
X-PUBLISHED-TTL:PT1H
BEGIN:VTIMEZONE
TZID:America/Chicago
BEGIN:DAYLIGHT
TZOFFSETFROM:-0600
TZOFFSETTO:-0500
TZNAME:CDT
DTSTART:20240310T080000
END:DAYLIGHT
BEGIN:STANDARD
TZOFFSETFROM:-0500
TZOFFSETTO:-0600
TZNAME:CST
DTSTART:20241103T070000
END:STANDARD
BEGIN:DAYLIGHT
TZOFFSETFROM:-0600
TZOFFSETTO:-0500
TZNAME:CDT
DTSTART:20250309T080000
END:DAYLIGHT
BEGIN:STANDARD
TZOFFSETFROM:-0500
TZOFFSETTO:-0600
TZNAME:CST
DTSTART:20251102T070000
END:STANDARD
BEGIN:DAYLIGHT
TZOFFSETFROM:-0600
TZOFFSETTO:-0500
TZNAME:CDT
DTSTART:20260308T080000
END:DAYLIGHT
BEGIN:STANDARD
TZOFFSETFROM:-0500
TZOFFSETTO:-0600
TZNAME:CST
DTSTART:20261101T070000
END:STANDARD
END:VTIMEZONE
BEGIN:VEVENT
DTSTART;VALUE=DATE:20250402
DTEND;VALUE=DATE:20250409
DTSTAMP:20260419T231527
CREATED:20250403T134618Z
LAST-MODIFIED:20250403T134640Z
UID:10005472-1743552000-1744156799@visitjacksontn.com
SUMMARY:Weekly Music Events
DESCRIPTION:Enjoy live music throughout the week in Jackson and West Tennessee! \nSign up here to have the weekly newsletter delivered to your inbox every Wednesday. \n\n\n\n\n\n\n\n\nWEDNESDAY – APRIL 2nd\nPiano After Work\, The Blacksmith\, 4:00\, Jackson \nKickin’ It w/ Karleigh\, The Tap\, 8:30\, Jackson\n\n\n\n\n\n\n\n\n\n\n\nTHURSDAY – APRIL 3rd\nPiano After Work\, The Blacksmith\, 4:00\, Jackson \nKarleigh & Cade\, Redbone’s\, 6:00\, Jackson \nChelsea Rhodes\, Los Aztecas\, 6:00\, Selmer \nOpen Mic Night\, Hub City Hemp\, 6:00\, Lexington \nOpen Mic (w/ Adam Johnson)\, Baker Bros. BBQ\, 6:30\, Jackson \nSingo\, Hub City Brewing\, 7:00\, Jackson \nJohnny Mac\, Blues Landing\, 7:00\, Buchanan \nLady Folk Guitar Circle\, The Carnegie\, 7:00\, Jackson \nKobra Karaoke\, Red Dog Saloon\, 7:00\, Jackson \nWallace & Company\, American Legion ALA Dance: Civic Center\, 7:00\, Huntingdon \nATL Karaoke\, The Tap\, 9:30\, Jackson\n\n\n\n\n\n\n\n\n\n\n\nFRIDAY – APRIL 4th\nPiano After Work\, The Blacksmith\, 4:00\, Jackson \nHarp Dawg Bluesman\, Downtown Jackson Arts Walk\, 5:00\, Jackson \nMichael Avery\, First Fridays Downtown\, 5:00\, Jackson \nAdam Johnson\, First Fridays Downtown\, 5:30\, Jackson \nHip Hop w/ Noah\, First Fridays Downtown\, 6:00\, Jackson \nCade Doyle (acoustic)\, Tekila\, 6:00\, Jackson \nThe Company Band\, Doe’s Eat Place\, 6:30\, Jackson \nLive Music\, The Blacksmith\, 6:00\, Jackson \nLive Music\, The Blacksmith\, 6:00\, Dyersburg \nKelso Mojo (acoustic)\, Main and Monroe\, 6:00\, Lexington \nSteve Hopper\, Freddy T’s Dining Room\, 6:00\, Counce \n🎟 Cabin Fever Reliever\, Crown Winery\, 6:00\, Humboldt 🎟 \nHubtet\, First Fridays Downtown\, 6:30\, Jackson \nKenny Little\, Baker Bros. BBQ\, 6:30\, Jackson \nMatt Boone (acoustic)\, Green Frog (Carl Perkins Event)\, 6:30\, Bells \nBreeska Cooper\, First Fridays Downtown\, 7:00\, Jackson \n🎟 Penelope Road w/ Music by KOTA\, Hub City Brewing\, 7:00\, Jackson 🎟 \nATL Karaoke\, Red Dog Bar & Grill\, 7:00\, Jackson \nChelsea Rhodes\, Clifton Marina\, 7:00\, Clifton \nSuper Mario Jazz Collective\, Magnolia Manor\, 7:00\, Humboldt \nKaraoke (w/ Musical Mayhem)\, The Spot Eatery\, 7:00\, Bells \nLindsey Russell\, Elks Lodge\, 7:30\, Trenton \nRev. Jessie & The Holy Smokes\, Redbone’s\, 8:00\, Jackson \nLive Music\, Elks #192\, 8:00\, Jackson \nStokely and the Bandits\, Twin Oaks\, 8:00\, Brownsville \nRay Lewis\, Blues Landing\, 8:00\, Buchanan \nRay and the Party Nation\, Mojo’s\, 8:00\, Dyersburg \nKaraoke\, The Office Lounge\, 8:00\, Jackson \nKaraoke\, Darlin’s\, 8:00\, Sharon \nKaraoke\, Ricochet Bar\, 9:00\, Jackson \nKaraoke\, Slicks Hideaway Bar\, 9:00\, Dyersburg \nKaraoke (w/ Bobby & Laurie)\, Bub’s Place\, 9:00\, Brownsville \nKaraoke (w/ DJ Chuck Gee)\, Bub’s Place\, 9:00\, Dyersburg \nKaraoke (w/ Kobra Karaoke)\, The Ponds\, 9:00\, Medon \nHunt Pearson Band\, The Tap\, 9:00\, Jackson\n\n\n\n\n\n\n\n\n\n\n\nSATURDAY – APRIL 5th\nLive Music\, Crown Winery\, 1:00\, Humboldt \nRita Mac & Jeff\, Chickasaw Country Store\, 4:30\, Chickasaw \nMatt Boone Band\, Passantino’s Concert Cafe\, 5:00\, Medina \nLive Music\, The Blacksmith\, 6:00\, Jackson \nLive Music\, The Blacksmith\, 6:00\, Dyersburg \nTatum Shappley\, Freddy T’s Dining Room\, 6:00\, Counce \nLive Music\, Doe’s Eat Place\, 6:00\, Jackson \nEast2West\, VFW Airways\, 7:00\, Jackson \nJustUs\, Magnolia Manor\, 7:00\, Humboldt \nHunt Pearson Band\, Community Center\, 7:00\, Reagan \nMike & The Classics\, Bootsie’s Barn Dance\, 7:00\, Gadsden \nKaraoke (w/ Kobra Karaoke)\, Red Dog Bar & Grill\, 7:00\, Jackson \nTim Atwood\, Passantino’s Concert Cafe\, 7:00\, Medina \n🎟 TCG’s The Music of Led Zeppelin\, Carl Perkins Civic Center\, 7:30\, Jackson 🎟 \n🎟 Chi-Town Transit Authority\, The Dixie Carter PAC\, 7:30\, Huntingdon 🎟️ \nKimberlie Helton Band\, Redbone’s\, 8:00\, Jackson \nCade Doyle Band\, The Church Street Pool Room\, 8:00\, Union City \nEmily Ann & Church St.\, The Mic Stand\, 8:00\, Huntingdon \nProwler\, 3 Way Hawg Bar\, 8:00\, Counce \nThe Dirty Strings\, The Red Door\, 8:00 \nMemphis Yahoos\, Southern State\, 8:00\, South Fulton \nAndy Lundberg\, Blues Landing\, 8:00\, Buchanan \nLindsey Russell\, Mojo’s\, 8:00\, Dyersburg \nKaraoke (w/ Bobby & Laurie)\, Mark N Sharons\, 8:00\, Dyersburg \nKaraoke (w/ Debbie Honey)\, The City Limits Bar\, 8:00\, Trenton \nKaraoke (w/ Gray Hilmerson)\, Hub City Brewing\, 8:30\, Jackson \nKobra Karaoke\, Red Dog Saloon\, 9:00\, Jackson \nKaraoke\, Ricochet Bar\, 9:00\, Jackson \nKaraoke (w/ Christian Jones)\, The Ponds\, 9:00\, Medon \nThe LUNAR Band\, Slicks Bar\, 9:00\, Halls \nDEEP ROOTS\, Slide & Ride Rodeo\, 9:00\, Jackson \nLive Music\, The Tap\, 9:00\, Jackson\n\n\n\n\n\n\n\n\n\n\n\nSUNDAY – APRIL 6th\nLive Music\, Crown Winery\, 1:00\, Humboldt \nATL Karaoke\, Cody’s\, 7:30\, Jackson \nDJ Leslie\, The Tap\, 9:30\, Jackson\n\n\n\n\n\n\n\n\n\n\n\nMONDAY – APRIL 7th\nLive Music\, VFW Airways\, 7:00\, Jackson\n\n\n\n\n\n\n\n\n\n\n\nTUESDAY – APRIL 8th\nRev. Jessie & The Holy Smokes\, Tekila\, 6:00\, Jackson \nLindsey Russell\, Doe’s Eat Place\, 6:00\, Jackson \nDJ Von\, Hub City Brewing\, 9:00\, Jackson
URL:https://visitjacksontn.com/event/weekly-music-events-19/
CATEGORIES:Events,Music
ATTACH;FMTTYPE=image/jpeg:https://visitjacksontn.com/wp-content/uploads/487789276_1114969693976894_4877861269669130753_n.jpg
END:VEVENT
BEGIN:VEVENT
DTSTART;VALUE=DATE:20250403
DTEND;VALUE=DATE:20250406
DTSTAMP:20260419T231527
CREATED:20250331T160309Z
LAST-MODIFIED:20250331T160309Z
UID:10005457-1743638400-1743897599@visitjacksontn.com
SUMMARY:Chitty Chitty Bang Bang
DESCRIPTION:You’re invited to join Union University for a musical production of Chitty Chitty Bang Bang! \nTickets are available online at https://www.uu.edu/dept/music/events/ or in the music department. Don’t miss this exciting performance!
URL:https://visitjacksontn.com/event/chitty-chitty-bang-bang/
LOCATION:Penick Academic Complex\, 1050 Union University Dr.\, Jackson\, TN\, 38305\, United States
CATEGORIES:Events,Music
ATTACH;FMTTYPE=image/jpeg:https://visitjacksontn.com/wp-content/uploads/panel-ChittyChitty-1.jpg
END:VEVENT
BEGIN:VEVENT
DTSTART;TZID=America/Chicago:20250405T193000
DTEND;TZID=America/Chicago:20250405T210000
DTSTAMP:20260419T231527
CREATED:20240624T170505Z
LAST-MODIFIED:20240624T170505Z
UID:10002353-1743881400-1743886800@visitjacksontn.com
SUMMARY:Chi-Town Transit Authority
DESCRIPTION:Get ready for a night of electrifying music as this 8-piece group from Atlanta\, Georgia\, takes the stage. Established in 2017\, Chi-Town is dedicated to reproducing the iconic “Chicago” concert experience. As a tribute band\, Chi-Town features a tight horn section and dynamic vocal harmonies\, capturing the essence of Chicago’s famous sound. They perform all the beloved hits spanning over four decades of Chicago’s music. \nTickets to this show are on sale soon! Purchase tickets by clicking the BUY TICKETS button below or via The Dixie’s Box Office in person or by phone at 731.986.2100\, M-F\, 10-4p. \nTickets are on sale:\n• Mon\, July 29\, 10A CT – Previous 18th Season Ticket Holders via The Dixie’s Box Office\n• Mon\, Aug 12\, 10A CT – New 19th Season Ticket Holders via The Dixie’s Box Office\n• Mon\, Dec 16\, 10A CT – Individual Show Tickets via DixiePAC.net and The Dixie’s Box Office \nClick here for tickets and more information.
URL:https://visitjacksontn.com/event/chi-town-transit-authority/
LOCATION:Dixie Carter Performing Arts Center\, 191 Court Square\, Huntingdon\, TN\, 38344\, United States
CATEGORIES:Events,Music
ATTACH;FMTTYPE=image/png:https://visitjacksontn.com/wp-content/uploads/Screenshot-2024-06-24-120430.png
END:VEVENT
BEGIN:VEVENT
DTSTART;TZID=America/Chicago:20250405T193000
DTEND;TZID=America/Chicago:20250405T220000
DTSTAMP:20260419T231527
CREATED:20240520T184408Z
LAST-MODIFIED:20240520T184430Z
UID:10002235-1743881400-1743890400@visitjacksontn.com
SUMMARY:TCG's "The Music of Led Zeppelin"
DESCRIPTION:The Jackson Symphony presents its 64th season. \nA symphonic rock adventure that bridges the gulf between rock’n roll and classical music \nJoin the Symphony on Saturday\, April 5 at 7:30 pm at the Carl Perkins Civic Center. \nTo purchase season tickets\, click here. \n 
URL:https://visitjacksontn.com/event/tcgs-the-music-of-led-zeppelin/
LOCATION:Carl Perkins Civic Center\, 400 South Highland Avenue\, Jackson\, TN\, 38301\, United States
CATEGORIES:Arts & Culture,Events,Music
ATTACH;FMTTYPE=image/jpeg:https://visitjacksontn.com/wp-content/uploads/jackson-symphony.jpg
END:VEVENT
END:VCALENDAR