BEGIN:VCALENDAR
VERSION:2.0
PRODID:-//Jackson Tourism - ECPv6.15.18//NONSGML v1.0//EN
CALSCALE:GREGORIAN
METHOD:PUBLISH
X-ORIGINAL-URL:https://visitjacksontn.com
X-WR-CALDESC:Events for Jackson Tourism
REFRESH-INTERVAL;VALUE=DURATION:PT1H
X-Robots-Tag:noindex
X-PUBLISHED-TTL:PT1H
BEGIN:VTIMEZONE
TZID:America/Chicago
BEGIN:DAYLIGHT
TZOFFSETFROM:-0600
TZOFFSETTO:-0500
TZNAME:CDT
DTSTART:20240310T080000
END:DAYLIGHT
BEGIN:STANDARD
TZOFFSETFROM:-0500
TZOFFSETTO:-0600
TZNAME:CST
DTSTART:20241103T070000
END:STANDARD
BEGIN:DAYLIGHT
TZOFFSETFROM:-0600
TZOFFSETTO:-0500
TZNAME:CDT
DTSTART:20250309T080000
END:DAYLIGHT
BEGIN:STANDARD
TZOFFSETFROM:-0500
TZOFFSETTO:-0600
TZNAME:CST
DTSTART:20251102T070000
END:STANDARD
BEGIN:DAYLIGHT
TZOFFSETFROM:-0600
TZOFFSETTO:-0500
TZNAME:CDT
DTSTART:20260308T080000
END:DAYLIGHT
BEGIN:STANDARD
TZOFFSETFROM:-0500
TZOFFSETTO:-0600
TZNAME:CST
DTSTART:20261101T070000
END:STANDARD
END:VTIMEZONE
BEGIN:VEVENT
DTSTART;VALUE=DATE:20250319
DTEND;VALUE=DATE:20250326
DTSTAMP:20260419T200733
CREATED:20250319T210929Z
LAST-MODIFIED:20250319T211310Z
UID:10005416-1742342400-1742947199@visitjacksontn.com
SUMMARY:Weekly Music Events
DESCRIPTION:Enjoy live music throughout the week in Jackson and West Tennessee! \nSign up here to have the weekly newsletter delivered to your inbox every Wednesday. \n\n\n\n\n\n\n\n\nWEDNESDAY – MARCH 19th\nPiano After Work\, The Blacksmith\, 4:00\, Jackson \nSingo\, Hub City Brewing\, 7:00\, Jackson \nKickin’ It w/ Karleigh\, The Tap\, 8:30\, Jackson\n\n\n\n\n\n\n\n\n\n\n\nTHURSDAY – MARCH 20th\nPiano After Work\, The Blacksmith\, 4:00\, Jackson \nLive Music\, Redbone’s\, 6:00\, Jackson \nKaraoke\, The Hollar\, 6:00\, Bethel Springs \nOpen Mic Night\, Hub City Hemp\, 6:00\, Lexington \nJohnny Mac\, Blues Landing\, 7:00\, Buchanan \nLady Folk Guitar Circle\, The Carnegie\, 7:00\, Jackson \nKobra Karaoke\, Red Dog Saloon\, 7:00\, Jackson \n🎟️ Big/Gun #1 AC/DC Tribute\, Luez Theater\, 7:00\, Bolivar 🎟️ \nATL Karaoke\, The Tap\, 9:30\, Jackson\n\n\n\n\n\n\n\n\n\n\n\nFRIDAY – MARCH 21st\nPiano After Work\, The Blacksmith\, 4:00\, Jackson \nDinosaur Hippies\, Sadie Lou’s\, 4:00\, Bemis \nKelso Mojo (acoustic)\, Tekila\, 6:00\, Jackson \nLive Music\, The Blacksmith\, 6:00\, Jackson \nTatum Shappley\, Freddy T’s Dining Room\, 6:00\, Counce \nChelsea Rhodes\, Bistro 931\, 6:00\, Loretta \nLindsey Russell\, Doe’s Eat Place\, 6:30\, Jackson \nGoat City\, Baker Bros. BBQ\, 6:30\, Jackson \nJ. Edwards\, Main and Monroe\, 6:30\, Lexington \nBallads & Boots\, Jackson Regional Airport\, 6:30\, Jackson \nRev. Jessie & The Holy Smokes\, Mulligan’s\, 7:00\, Jackson \nLive Music\, Redbone’s\, 8:00\, Jackson \nKimberlie Helton (acoustic)\, Elks #192\, 8:00\, Jackson \nCade Doyle Band\, The City Limits\, 8:00\, Trenton \nStokely and the Bandits\, Twin Oak Sports Bar\, 8:00\, Bronwsville \nRockin’ Randall\, Blues Landing\, 8:00\, Buchanan \nJeff Caughron\, Mojo’s\, 8:00\, Dyersburg \nKaraoke\, The Office Lounge\, 8:00\, Jackson \nKaraoke (w/ Debbie Honey)\, Darlin’s\, 8:00\, Sharon \nKaraoke\, Hub City Brewing\, 8:30\, Jackson \nKaraoke\, Ricochet Bar\, 9:00\, Jackson \nKaraoke (w/ Bobby & Laurie)\, Bub’s Place\, 9:00\, Dyersburg \nKaraoke (w/ Kobra Karaoke)\, The Ponds\, 9:00\, Medon \nHunt Pearson\, Karleigh Anne Fagan\, & Friends\, The Tap\, 9:00\, Jackson\n\n\n\n\n\n\n\n\n\n\n\nSATURDAY – MARCH 22nd\nJustUs\, Crown Winery\, 1:00\, Humboldt \nAdam Johnson & Karleigh Anne Fagan\, The Icehouse\, 6:00\, Jackson \nLive Music\, The Blacksmith\, 6:00\, Jackson \nLive Music\, The Blacksmith\, 6:00\, Dyersburg \nSydney Rickman\, Main and Monroe\, 6:00\, Lexington \nRev. Jessie & The Holy Smokes\, Freddy T’s Dining Room\, 6:00\, Counce \nAll Ages Vocal Competition\, Passantino’s\, 6:00\, Medina \nCadence & Karley\, The Hollar\, 6:00\, Bethel Springs \nThe Will Beyer Band\, Community Center\, 7:00\, Reagan \nCrooked Creek Band\, Bootsie’s Barn Dance\, 7:00\, Gadsden \nKaraoke (w/ Kobra Karaoke)\, Red Dog\, 7:00\, Jackson \nLindsey Russell\, Turntable Coffee Counter\, 7:30\, Jackson \nJustin Wright & Bobby Stokely\, Redbone’s\, 8:00\, Jackson \nDwight Watkins\, The Rusty Nail\, 8:00\, Guys \nKelso Mojo\, T-Bones\, 8:00\, Paris \nHunt Pearson Band\, Pickwick Sports Bar\, 8:00\, Pickwick \nMatt Boone Band\, Hales Water N Hole\, 8:00\, Ridgley \nThe LUNAR Band\, Mark and Sharon’s\, 8:00\, Dyersburg \nHutcheson Bros.\, Bub’s Place\, 8:00\, Dyersburg \nVelvet Chord The Mic Stand\, 8:00\, Huntingdon \nThe Allen Warren Band\, Southern State\, 8:00\, South Fulton \nNeil Brock & The Cover Up\, Blues Landing\, 8:00\, Buchanan \nJohnny Mac\, Mojo’s\, 8:00\, Dyersburg \nKaraoke (w/ Debbie Honey)\, The City Limits Bar\, 8:00\, Trenton \nKaraoke (w/ DJ Chuck Gee)\, MT Bottles\, 8:00\, Trezevant \nKaraoke (w/ Christian Jones)\, The Ponds\, 9:00\, Medon \nCade Doyle Band\, The Pine Ridge Club\, 9:00\, Medon \nLive Music\, Slide & Ride Rodeo\, 9:00\, Jackson \nLive Music\, The Tap\, 9:00\, Jackson \nKobra Karaoke\, Red Dog Saloon\, 9:00\, Jackson \nKaraoke\, Ricochet Bar\, 9:00\, Jackson\n\n\n\n\n\n\n\n\n\n\n\nSUNDAY – MARCH 23rd\nLive Music\, Crown Winery\, 1:00\, Humboldt \nATL Karaoke\, Cody’s\, 7:30\, Jackson \nDJ Leslie\, The Tap\, 9:30\, Jackson\n\n\n\n\n\n\n\n\n\n\n\nMONDAY – MARCH 24th\nLive Music\, VFW Airways\, 7:00\, Jackson\n\n\n\n\n\n\n\n\n\n\n\nTUESDAY – MARCH 25th\nMitch Harris\, Tekila\, 6:00\, Jackson \nDJ Von\, Hub City Brewing\, 9:00\, Jackson \nDJ Leslie\, The Tap\, 9:30\, Jackson
URL:https://visitjacksontn.com/event/weekly-music-events-17/
CATEGORIES:Events,Music
ATTACH;FMTTYPE=image/jpeg:https://visitjacksontn.com/wp-content/uploads/484770513_1102392158567981_7191581911794614035_n.jpg
END:VEVENT
BEGIN:VEVENT
DTSTART;TZID=America/Chicago:20250321T183000
DTEND;TZID=America/Chicago:20250321T220000
DTSTAMP:20260419T200733
CREATED:20250311T201800Z
LAST-MODIFIED:20250311T205704Z
UID:10005389-1742581800-1742594400@visitjacksontn.com
SUMMARY:Ballads & Boots
DESCRIPTION:Get ready for an unforgettable evening of music at Ballads & Boots\, presented by the Jackson Symphony and the Smith Campbell Group of Raymond James! \nEnjoy a night with Nashville’s hitmakers and live performances by some of Nashville’s top songwriters and musicians in a unique and exciting venue. \nWith great music\, lively atmosphere\, and fantastic company\, this is a night you won’t want to miss!
URL:https://visitjacksontn.com/event/ballads-boots/
LOCATION:Jackson Regional Airport\, 308 Grady Montgomery Drive\, Jackson\, TN\, 38301
CATEGORIES:Events,Music
ATTACH;FMTTYPE=image/png:https://visitjacksontn.com/wp-content/uploads/Screenshot-2025-03-11-151021.png
END:VEVENT
END:VCALENDAR