BEGIN:VCALENDAR
VERSION:2.0
PRODID:-//Jackson Tourism - ECPv6.15.18//NONSGML v1.0//EN
CALSCALE:GREGORIAN
METHOD:PUBLISH
X-ORIGINAL-URL:https://visitjacksontn.com
X-WR-CALDESC:Events for Jackson Tourism
REFRESH-INTERVAL;VALUE=DURATION:PT1H
X-Robots-Tag:noindex
X-PUBLISHED-TTL:PT1H
BEGIN:VTIMEZONE
TZID:America/Chicago
BEGIN:DAYLIGHT
TZOFFSETFROM:-0600
TZOFFSETTO:-0500
TZNAME:CDT
DTSTART:20240310T080000
END:DAYLIGHT
BEGIN:STANDARD
TZOFFSETFROM:-0500
TZOFFSETTO:-0600
TZNAME:CST
DTSTART:20241103T070000
END:STANDARD
BEGIN:DAYLIGHT
TZOFFSETFROM:-0600
TZOFFSETTO:-0500
TZNAME:CDT
DTSTART:20250309T080000
END:DAYLIGHT
BEGIN:STANDARD
TZOFFSETFROM:-0500
TZOFFSETTO:-0600
TZNAME:CST
DTSTART:20251102T070000
END:STANDARD
BEGIN:DAYLIGHT
TZOFFSETFROM:-0600
TZOFFSETTO:-0500
TZNAME:CDT
DTSTART:20260308T080000
END:DAYLIGHT
BEGIN:STANDARD
TZOFFSETFROM:-0500
TZOFFSETTO:-0600
TZNAME:CST
DTSTART:20261101T070000
END:STANDARD
END:VTIMEZONE
BEGIN:VEVENT
DTSTART;VALUE=DATE:20250219
DTEND;VALUE=DATE:20250226
DTSTAMP:20260419T195441
CREATED:20250221T150111Z
LAST-MODIFIED:20250221T150111Z
UID:10005279-1739923200-1740527999@visitjacksontn.com
SUMMARY:Weekly Music Events
DESCRIPTION:Enjoy live music throughout the week in Jackson and West Tennessee! \nSign up here to have the weekly newsletter delivered to your inbox every Wednesday. \n\n\n\n\n\n\n\n\nWEDNESDAY – FEBRUARY 19th\nPiano After Work\, The Blacksmith\, 4:00\, Jackson \nLive Music\, The Downtown Tavern\, 7:00\, Jackson \nSingo\, Hub City Brewing\, 7:00\, Jackson \nKickin’ It w/ Karleigh\, The Tap\, 8:30\, Jackson\n\n\n\n\n\n\n\n\n\n\n\nTHURSDAY – FEBRUARY 20th\nPiano After Work\, The Blacksmith\, 4:00\, Jackson \nHunt Pipkin\, Redbone’s\, 6:00\, Jackson \nOpen Mic Night\, Hub City Hemp\, 6:00\, Lexington \nKaraoke\, The Hollar\, 6:00\, Bethel Springs \nOpen Mic (w/ Adam Johnson)\, Baker Bros. BBQ\, 6:30\, Jackson \nLive Music\, The Downtown Tavern\, 6:30\, Jackson \nJohnny Mac\, Blues Landing\, 7:00\, Buchanan \nKobra Karaoke\, Red Dog Saloon\, 7:00\, Jackson \nOpen Mic (w/ Justin Hinson)\, Mojo’s\, 8:00\, Dyersburg \nATL Karaoke\, The Tap\, 9:30\, Jackson\n\n\n\n\n\n\n\n\n\n\n\nFRIDAY – FEBRUARY 21st\nPiano After Work\, The Blacksmith\, 4:00\, Jackson \nKelso Mojo (acoustic)\, Tekila\, 6:00\, Jackson \nEmily Ann & Joseph Montgomery\, El Portillo\, 6:00\, Lexington \nLive Music\, The Blacksmith\, 6:00\, Jackson \nRhegan Skelton\, Freddy T’s Dining Room\, 6:00\, Counce \nJ-Wes Walker\, The Blacksmith\, 6:00\, Dyersburg \n🎟️ Candlelight: Tribute to Whitney Houston on Strings\, The Ned\, 6:30\, Jackson 🎟️ \nKenny Little\, Baker Bros. BBQ\, 6:30\, Jackson \nSyndey Rickman\, Main and Monroe\, 6:30\, Lexington \nKaraoke (w/ Musical Mayhem)\, The Spot Eatery\, 7:00\, Bells \nCade Doyle Band\, Redbone’s\, 8:00\, Jackson \nJustUs\, Elks #192\, 8:00\, Jackson \nEthan Torsak\, Blues Landing\, 8:00\, Buchanan \nColton Flanagan\, Mojo’s\, 8:00\, Dyersburg \nKaraoke (w/ Bobby & Laurie)\, Twin Oaks\, 8:00\, Brownsville \nKaraoke\, The Office Lounge\, 8:00\, Jackson \nKaraoke\, Darlin’s\, 8:00\, Sharon \nKaraoke\, Hub City Brewing\, 8:30\, Jackson \n🎟️ Candlelight: Vivaldi’s Four Seasons & More\, The Ned\, 8:45\, Jackson 🎟️ \nKaraoke\, Ricochet Bar\, 9:00\, Jackson \nKaraoke (w/ Kobra Karaoke)\, The Ponds\, 9:00\, Medon \nThe Matt Boone Band\, The City Limits\, 9:00\, Trenton \nMichael L. King\, The Downtown Tavern\, 9:00\, Jackson \nLindsey Russell Band\, The Tap\, 9:00\, Jackson\n\n\n\n\n\n\n\n\n\n\n\nSATURDAY – FEBRUARY 22nd\nJustUs (Winterfest)\, Crown Winery\, 11:00am\, Humboldt \nPrine TIme w/ Steve & Jeff\, Chickasaw Country Store\, 4:30\, Henderson \nHarp Dawg Bluesman\, Icehouse of Jackson\, 6:00\, Jackson \nKenny Little\, The Blacksmith\, 6:00\, Jackson \nThe Delta Project (acoustic)\, El Mezcal\, 6:00\, Bartlett \nLive Music\, The Blacksmith\, 6:00\, Dyersburg \nLive Music\, Main and Monroe\, 6:00\, Lexington \nTatum Shappley\, Freddy T’s Dining Room\, 6:00\, Counce \nLindsey Russell\, Doe’s Eat Place\, 6:30\, Jackson \n🎟 Wade Hayes w/ Lakelin Lemmings\, Horseshoe Lake Venue\, 6:30\, Huron 🎟 \nHutcheson Brothers\, Hales Water N Hole\, 7:00\, Ridgley \nBack Road Truckers\, Community Center\, 7:00\, Reagan \nTracy Dotson & Friends\, Bootsie’s Barn Dance\, 7:00\, Gadsden \nKaraoke (w/ Kobra Karaoke)\, Red Dog\, 7:00\, Jackson \n🎟 An Evening with Anders Osborne\, The Dixie Carter PAC\, 7:30\, Huntingdon 🎟️ \nEmily Ann & Church St.\, Redbone’s\, 8:00\, Jackson \nKelso Mojo\, Southern State\, 8:00\, South Fulton \nCade Doyle Band\, Blues Landing\, 8:00\, Buchanan \nJohnny Mac\, Mojo’s\, 8:00\, Dyersburg \nKaraoke (w/ Christian Jones)\, The Ponds\, 9:00\, Medon \nTR KANE\, Hawk’s Nest\, 9:00\, Martin \nThe Hunt Pearson Band\, Slide & Ride Rodeo\, 9:00\, Jackson \nLive Music\, The Tap\, 9:00\, Jackson \nGoat City\, Midlife Riot\, & Kinda Mad (Goat City EP Release)\, The Downtown Tavern\, 9:00\, Jackson \nKobra Karaoke\, Red Dog Saloon\, 9:00\, Jackson \nKaraoke\, Ricochet Bar\, 9:00\, Jackson\n\n\n\n\n\n\n\n\n\n\n\nSUNDAY – FEBRUARY 23rd\nLive Music\, Crown Winery\, 1:00\, Humboldt \nATL Karaoke\, Cody’s\, 9:00\, Jackson \nDJ Leslie\, The Tap\, 9:30\, Jackson\n\n\n\n\n\n\n\n\n\n\n\nMONDAY – FEBRUARY 24th\nLive Music\, The Downtown Tavern\, 7:00\, Jackson \nLive Music\, VFW Airways\, 7:00\, Jackson\n\n\n\n\n\n\n\n\n\n\n\nTUESDAY – FEBRUARY 25th\nRev. Jessie & The Holy Smokes (Trio)\, Tekila\, 6:00\, Jackson \nDJ Von\, Hub City Brewing\, 9:00\, Jackson
URL:https://visitjacksontn.com/event/weekly-music-events-13/
CATEGORIES:Events,Music
ATTACH;FMTTYPE=image/jpeg:https://visitjacksontn.com/wp-content/uploads/480198645_1079725057501358_3644120723046920972_n.jpg
END:VEVENT
BEGIN:VEVENT
DTSTART;TZID=America/Chicago:20250222T193000
DTEND;TZID=America/Chicago:20250222T210000
DTSTAMP:20260419T195441
CREATED:20240624T165415Z
LAST-MODIFIED:20240624T165415Z
UID:10002351-1740252600-1740258000@visitjacksontn.com
SUMMARY:An Evening with Anders Osborne
DESCRIPTION:Known for his soulful blues\, Anders Osborne’s latest album\, “Picasso’s Villa\,” is a profound reflection on life in America from 2018-2021. Having spent nearly four decades in New Orleans\, Osborne is a celebrated figure in the music scene. He has been honored by New Orleans’ Gambit Weekly as Entertainer of The Year and named Best Guitarist and Songwriter by OffBeat multiple times. With performances alongside legends like Toots and the Maytals\, John Scofield\, Tab Benoit\, and Bonnie Raitt\, Osborne’s music resonates with audiences worldwide. \nTickets to this show are on sale soon! Purchase tickets by clicking the BUY TICKETS button below or via The Dixie’s Box Office in person or by phone at 731.986.2100\, M-F\, 10-4p. \nTickets are on sale:\n• Mon\, July 29\, 10A CT – Previous 18th Season Ticket Holders via The Dixie’s Box Office\n• Mon\, Aug 12\, 10A CT – New 19th Season Ticket Holders via The Dixie’s Box Office\n• Mon\, Dec 16\, 10A CT – Individual Show Tickets via DixiePAC.net and The Dixie’s Box Office \nClick here for tickets and more information.
URL:https://visitjacksontn.com/event/an-evening-with-anders-osborne/
CATEGORIES:Events,Music
ATTACH;FMTTYPE=image/png:https://visitjacksontn.com/wp-content/uploads/D19_AndersOsbourne.png
END:VEVENT
END:VCALENDAR