BEGIN:VCALENDAR
VERSION:2.0
PRODID:-//Jackson Tourism - ECPv6.15.18//NONSGML v1.0//EN
CALSCALE:GREGORIAN
METHOD:PUBLISH
X-ORIGINAL-URL:https://visitjacksontn.com
X-WR-CALDESC:Events for Jackson Tourism
REFRESH-INTERVAL;VALUE=DURATION:PT1H
X-Robots-Tag:noindex
X-PUBLISHED-TTL:PT1H
BEGIN:VTIMEZONE
TZID:America/Chicago
BEGIN:DAYLIGHT
TZOFFSETFROM:-0600
TZOFFSETTO:-0500
TZNAME:CDT
DTSTART:20240310T080000
END:DAYLIGHT
BEGIN:STANDARD
TZOFFSETFROM:-0500
TZOFFSETTO:-0600
TZNAME:CST
DTSTART:20241103T070000
END:STANDARD
BEGIN:DAYLIGHT
TZOFFSETFROM:-0600
TZOFFSETTO:-0500
TZNAME:CDT
DTSTART:20250309T080000
END:DAYLIGHT
BEGIN:STANDARD
TZOFFSETFROM:-0500
TZOFFSETTO:-0600
TZNAME:CST
DTSTART:20251102T070000
END:STANDARD
BEGIN:DAYLIGHT
TZOFFSETFROM:-0600
TZOFFSETTO:-0500
TZNAME:CDT
DTSTART:20260308T080000
END:DAYLIGHT
BEGIN:STANDARD
TZOFFSETFROM:-0500
TZOFFSETTO:-0600
TZNAME:CST
DTSTART:20261101T070000
END:STANDARD
END:VTIMEZONE
BEGIN:VEVENT
DTSTART;TZID=America/Chicago:20250215T160000
DTEND;TZID=America/Chicago:20250215T200000
DTSTAMP:20260419T191628
CREATED:20250117T155532Z
LAST-MODIFIED:20250117T161644Z
UID:10005206-1739635200-1739649600@visitjacksontn.com
SUMMARY:Sip & Paint
DESCRIPTION:Get ready for an unforgettable evening of creativity\, relaxation\, and fun at Sip & Paint! \nEnjoy sipping your favorite beverage\, savoring delicious food\, and unleashing your inner artist—all supplies are provided to guide your creative journey. Dance to live DJ music\, capture memories at the photo area\, and enjoy exciting giveaways while indulging in a delightful menu. \nThis event is 21+ only\, making it the perfect outing for adults to unwind and explore their artistic side. For tickets\, click here.
URL:https://visitjacksontn.com/event/sip-paint/
LOCATION:Country Inn & Suites by Radisson\, 1935 Emporium Dr\, Jackson\, TN\, 38305\, United States
CATEGORIES:Arts & Culture,Events,Music
ATTACH;FMTTYPE=image/jpeg:https://visitjacksontn.com/wp-content/uploads/472039771_1124910362972356_1131275517907768426_n.jpg
END:VEVENT
END:VCALENDAR