BEGIN:VCALENDAR
VERSION:2.0
PRODID:-//Jackson Tourism - ECPv6.15.18//NONSGML v1.0//EN
CALSCALE:GREGORIAN
METHOD:PUBLISH
X-ORIGINAL-URL:https://visitjacksontn.com
X-WR-CALDESC:Events for Jackson Tourism
REFRESH-INTERVAL;VALUE=DURATION:PT1H
X-Robots-Tag:noindex
X-PUBLISHED-TTL:PT1H
BEGIN:VTIMEZONE
TZID:America/Chicago
BEGIN:DAYLIGHT
TZOFFSETFROM:-0600
TZOFFSETTO:-0500
TZNAME:CDT
DTSTART:20240310T080000
END:DAYLIGHT
BEGIN:STANDARD
TZOFFSETFROM:-0500
TZOFFSETTO:-0600
TZNAME:CST
DTSTART:20241103T070000
END:STANDARD
BEGIN:DAYLIGHT
TZOFFSETFROM:-0600
TZOFFSETTO:-0500
TZNAME:CDT
DTSTART:20250309T080000
END:DAYLIGHT
BEGIN:STANDARD
TZOFFSETFROM:-0500
TZOFFSETTO:-0600
TZNAME:CST
DTSTART:20251102T070000
END:STANDARD
BEGIN:DAYLIGHT
TZOFFSETFROM:-0600
TZOFFSETTO:-0500
TZNAME:CDT
DTSTART:20260308T080000
END:DAYLIGHT
BEGIN:STANDARD
TZOFFSETFROM:-0500
TZOFFSETTO:-0600
TZNAME:CST
DTSTART:20261101T070000
END:STANDARD
END:VTIMEZONE
BEGIN:VEVENT
DTSTART;VALUE=DATE:20250129
DTEND;VALUE=DATE:20250205
DTSTAMP:20260420T013002
CREATED:20250129T214028Z
LAST-MODIFIED:20250129T230603Z
UID:10005245-1738108800-1738713599@visitjacksontn.com
SUMMARY:Weekly Music Events
DESCRIPTION:Enjoy live music throughout the week in Jackson and West Tennessee! \nSign up here to have the weekly newsletter delivered to your inbox every Wednesday. \n\n\n\n\n\n\n\n\nWEDNESDAY – JANUARY 29th\nPiano After Work\, The Blacksmith\, 4:00\, Jackson \nAustin Gray\, Icehouse of Jackson\, 6:00\, Jackson \nLive Music\, The Downtown Tavern\, 7:00\, Jackson \nSingo\, Hub City Brewing\, 7:00\, Jackson \nLive Music Showcase\, The Tap\, 8:30\, Jackson\n\n\n\n\n\n\n\n\n\n\n\nTHURSDAY – JANUARY 30th\nPiano After Work\, The Blacksmith\, 4:00\, Jackson \nThe Will Beyer Band\, Redbone’s\, 6:00\, Jackson \nT Bone McCaslin & Friends\, Dana’s Place\, 6:00\, Humboldt \nKaraoke\, The Hollar\, 6:00\, Bethel Springs \nOpen Mic (w/ Adam Johnson)\, Baker Bros. BBQ\, 6:30\, Jackson \nLive Music\, The Downtown Tavern\, 6:30\, Jackson \nJohnny Mac\, Blues Landing\, 7:00\, Buchanan \nATL Karaoke\, The Tap\, 9:30\, Jackson\n\n\n\n\n\n\n\n\n\n\n\nFRIDAY – JANUARY 31st\nPiano After Work\, The Blacksmith\, 4:00\, Jackson \nMatt Boone & Sammy Flagg\, Passantino’s\, 5:00\, Medina \nMichael Mayes\, Doe’s Eat Place\, 5:30\, Jackson \nMitch Harris\, Adam Bain\, John Lovelace\, & Jake Davis\, Tekila’s\, 6:00\, Jackson \nLive Music\, The Blacksmith\, 6:00\, Jackson \nWildfire\, The Hollar\, 6:00\, Bethel Springs \nLive Music\, Freddy T’s Dining Room\, 6:00\, Counce \nKarleigh Fagan\, Adam Johnson\, Alxander Cavaness\, Baker Bros. BBQ\, 6:30\, Jackson \nTaylor Hughes\, Main and Monroe\, 6:30\, Lexington \nMike Anthony & The Classics\, Bootsie’s Barn Dance\, 7:00\, Gadsden \nJackie Austin and Friends\, Redbone’s\, 8:00\, Jackson \nRickey Godfrey and Willi X\, Elks #192\, 8:00\, Jackson \nKaraoke\, The Office Lounge\, 8:00\, Jackson \nKaraoke\, Darlin’s\, 8:00\, Sharon \nKimberlie Helton\, Mojo’s\, 8:00\, Dyersburg \nKaraoke\, Hub City Brewing\, 8:30\, Jackson \nCade Doyle Band\, The Downtown Tavern\, 9:00\, Jackson \nStokely & The Bandits w/ Steven Stewart\, The Tap\, 9:00\, Jackson \nKaraoke (w/ Bobby & Laurie)\, Bub’s Place\, 9:00\, Dyersburg \nATL Karaoke\, Slide and Ride Rodeo\, 10:00\, Jackson\n\n\n\n\n\n\n\n\n\n\n\nSATURDAY – FEBRUARY 1st\nTN Songwriter’s Week Qualifying Round\, Main & Monroe\, 11:00\, Lexington \nLive Music\, Crown Winery\, 1:00\, Humboldt \nTN Songwriter’s Week Qualifying Round\, Delta Heritage Museum\, 1:00\, Brownsville \nAlxander Cavaness & Adam Johnson\, Homesoule Grand Opening\, 6:00\, Jackson \nBrian Mabry & Jason Walker\, The Blacksmith\, 6:00\, Jackson \nBobby Stokely\, The Blacksmith\, 6:00\, Dyersburg \nLive Music\, Freddy T’s Dining Room\, 6:00\, Counce \nLive Music\, Doe’s Eat Place\, 6:30\, Jackson \n🎟️ Ken Mellons\, Sydney Rickman\, Horseshoe Lake Venue\, 6:30\, Huron 🎟️ \nLive Music\, VFW Airways\, 7:00\, Jackson \nThe Hunt Pearson Band\, Community Center\, 7:00\, Reagan \nLive Music\, Main Street Country\, 7:00\, Humboldt \nKobra Karaoke\, Red Dog\, 7:00\, Jackson \nKimberlie Helton Band\, Redbone’s\, 8:00\, Jackson \nTypsy Gypsy\, Southern State\, 8:00\, South Fulton \nNick Bentley\, Mojo’s\, 8:00\, Dyersburg \nKaraoke Contest (w/ Christian Jones)\, The Ponds\, 8:00\, Medon \nKaraoke (w/ Debbie Honey)\, The City Limits\, 8:00\, Trenton \nKaraoke (w/ Christian Jones)\, The Ponds\, 9:00\, Medon \nMatt Lomax\, Slide & Ride Rodeo\, 9:00\, Jackson \nKelso Mojo\, The Pine Ridge Club\, 9:00\, Medon \nLakewood Drive\, The Tap\, 9:00\, Jackson \nMichael L. King\, The Downtown Tavern\, 9:00\, Jackson\n\n\n\n\n\n\n\n\n\n\n\nSUNDAY – FEBRUARY 2nd\nLive Music\, Crown Winery\, 1:00\, Humboldt \nDJ Leslie\, The Tap\, 9:30\, Jackson\n\n\n\n\n\n\n\n\n\n\n\nMONDAY – FEBRUARY 3rd\nJustin White\, The Downtown Tavern\, 7:00\, Jackson \nLive Music\, VFW Airways\, 7:00\, Jackson\n\n\n\n\n\n\n\n\n\n\n\nTUESDAY – FEBRUARY 4th\nLindsey Russell\, Doe’s Eat Place\, 6:00\, Jackson \nLive Music\, Tekila\, 6:00\, Jackson \nSteven Stewart\, The Downtown Tavern\, 7:00\, Jackson \nLive Music\, The Tap\, 9:00\, Jackson
URL:https://visitjacksontn.com/event/weekly-music-events-11/
CATEGORIES:Events,Music
ATTACH;FMTTYPE=image/jpeg:https://visitjacksontn.com/wp-content/uploads/475392134_1063450165795514_783911398077360311_n.jpg
END:VEVENT
BEGIN:VEVENT
DTSTART;TZID=America/Chicago:20250201T183000
DTEND;TZID=America/Chicago:20250201T183000
DTSTAMP:20260420T013002
CREATED:20250109T163101Z
LAST-MODIFIED:20250109T163127Z
UID:10005184-1738434600-1738434600@visitjacksontn.com
SUMMARY:Ken Mellons - Huron\, TN
DESCRIPTION:Get ready for an unforgettable night of country music with Ken Mellons! \nBest known for his award-winning hit “Jukebox Junkie\,” Ken Mellons dominated the 90s with chart-topping hits like “I Can Bring Her Back\,” “Rubba Dubbin’\,” “Lookin’ In The Same Direction\,” and “Workin’ For The Weekend.” A gifted songwriter\, Ken has over 50 cuts to his name\, with songs recorded by legends like George Jones\, George Strait\, and Hank Williams Jr. \nDoors open at 5:30 PM\, and the music kicks off at 6:30 PM\, with a special guest Sydney Rickman. Don’t miss this incredible evening of authentic country music and storytelling!
URL:https://visitjacksontn.com/event/ken-mellons-huron-tn/
LOCATION:Horseshoe Lake Venue\, 2615 Laster Road\, Huron\, TN\, 38345\, United States
CATEGORIES:Events,Music
ATTACH;FMTTYPE=image/jpeg:https://visitjacksontn.com/wp-content/uploads/event_flyer_54_861c43f4-400px.jpg
END:VEVENT
END:VCALENDAR