BEGIN:VCALENDAR
VERSION:2.0
PRODID:-//Jackson Tourism - ECPv6.15.18//NONSGML v1.0//EN
CALSCALE:GREGORIAN
METHOD:PUBLISH
X-WR-CALNAME:Jackson Tourism
X-ORIGINAL-URL:https://visitjacksontn.com
X-WR-CALDESC:Events for Jackson Tourism
REFRESH-INTERVAL;VALUE=DURATION:PT1H
X-Robots-Tag:noindex
X-PUBLISHED-TTL:PT1H
BEGIN:VTIMEZONE
TZID:America/Chicago
BEGIN:DAYLIGHT
TZOFFSETFROM:-0600
TZOFFSETTO:-0500
TZNAME:CDT
DTSTART:20230312T080000
END:DAYLIGHT
BEGIN:STANDARD
TZOFFSETFROM:-0500
TZOFFSETTO:-0600
TZNAME:CST
DTSTART:20231105T070000
END:STANDARD
BEGIN:DAYLIGHT
TZOFFSETFROM:-0600
TZOFFSETTO:-0500
TZNAME:CDT
DTSTART:20240310T080000
END:DAYLIGHT
BEGIN:STANDARD
TZOFFSETFROM:-0500
TZOFFSETTO:-0600
TZNAME:CST
DTSTART:20241103T070000
END:STANDARD
BEGIN:DAYLIGHT
TZOFFSETFROM:-0600
TZOFFSETTO:-0500
TZNAME:CDT
DTSTART:20250309T080000
END:DAYLIGHT
BEGIN:STANDARD
TZOFFSETFROM:-0500
TZOFFSETTO:-0600
TZNAME:CST
DTSTART:20251102T070000
END:STANDARD
END:VTIMEZONE
BEGIN:VEVENT
DTSTART;VALUE=DATE:20241218
DTEND;VALUE=DATE:20241225
DTSTAMP:20260420T013659
CREATED:20241218T181940Z
LAST-MODIFIED:20241218T181940Z
UID:10005163-1734480000-1735084799@visitjacksontn.com
SUMMARY:Weekly Music Events
DESCRIPTION:Enjoy live music throughout the week in Jackson and West Tennessee! \nSign up here to have the weekly newsletter delivered to your inbox every Wednesday. \n\n\n\n\n\n\n\n\nWEDNESDAY – DECEMBER 18th\nPiano After Work\, The Blacksmith\, 4:00\, Jackson \nSteven Stewart\, The Downtown Tavern\, 7:00\, Jackson \nSingo\, Hub City Brewing\, 7:00\, Jackson \nLive Music Showcase\, The Tap\, 8:30\, Jackson\n\n\n\n\n\n\n\n\n\n\n\nTHURSDAY – DECEMBER 19th\nPiano After Work\, The Blacksmith\, 4:00\, Jackson \nKelso Mojo (acoustic)\, Redbone’s\, 6:00\, Jackson \nOpen Mic (w/ Adam Johnson)\, Baker Bros. BBQ\, 6:30\, Jackson \nOpen Mic\, The Downtown Tavern\, 6:30\, Jackson \nRev. Jessie & The Holy Smokes\, Icehouse of Jackson’s Christmas Party\, 7:00\, Jackson \nKobra Karaoke\, Red Dog Saloon\, 7:00\, Jackson \n 🎟️ Christmas with Elvis\, Hardeman County Arts Center\, 7:00\, Bolivar 🎟️ \nATL Karaoke\, The Tap\, 9:30\, Jackson\n\n\n\n\n\n\n\n\n\n\n\nFRIDAY -DECEMBER 20th\nPiano After Work\, The Blacksmith\, 4:00\, Jackson \nDavid Michael Thomas & Bobby Stokely\, Doe’s Eat Place\, 5:30\, Jackson \nMitch Harris\, Tekila’s\, 6:00\, Jackson \nBizzy B\, Mosbys\, 6:00\, Bradford \nCool Daddy Trio\, Blacksmith\, 6:00\, Dyersburg \nDaniel W. McClain\, Blacksmith\, 6:00\, Jackson \nLive Music\, Freddy T’s Dining Room\, 6:00\, Counce \nBen Clayton\, Honky Tonk Hollar\, 6:00\, Bethel Springs \nSydney Rickman\, Main & Monroe\, 6:30\, Lexington \nEmily Ann Meaole\, El Potrilla\, 6:30\, Lexington \nAlxander\, Karleigh\, and Adam\, Baker Bros. BBQ\, 6:30\, Jackson \n🎟️ The Bellamy Brothers\, Williams Auditorium\, 7:00\, Henderson 🎟️ \nKreston Smith\, The Cellar\, 7:30\, Covington \nJacksons Hubtet\, Redbone’s\, 8:00\, Jackson \nKimberlie Helton (Solo)\, Elks\, 8:00\, Trenton \nTypsy Gypsy\, Moose Lodge\, 8:00\, Brownsville \nHaleigh Martin\, Blues Landing\, 8:00\, Buchanan \nJustin Hinson\, Mojo’s\, 8:00\, Dyersburg \nKaraoke (w/ Debbie Honey)\, Lil Darlin’s\, 8:00\, Sharon \nKaraoke\, The Office Lounge\, 8:00\, Jackson \nKaraoke\, Hub City Brewing\, 8:30\, Jackson \nKaraoke\, Ricochet Bar\, 9:00\, Jackson \nHunt Pearson Band\, The Downtown Tavern\, 9:00\, Jackson \nMinus the Queen\, The Tap\, 9:00\, Jackson\n\n\n\n\n\n\n\n\n\n\n\nSATURDAY – DECEMBER 21st\nLive Music\, Crown Winery\, 1:00\, Humboldt \n🎟️ Christmas Special with Kellye Cash & Steve Cothran\, Main & Monroe\, 4:00\, Lexington (Show 1) 🎟️ \nPrine Time Band\, Chickasaw Country Store\, 4:30\, Henderson \nLive Music\, Arrow Athletics\, 5:00\, Jackson \nLive Music\, The Blacksmith\, 6:00\, Jackson \nLive Music\, Freddy T’s Dining Room\, 6:00\, Counce \n🎟️ Christmas Special with Kellye Cash & Steve Cothran\, Main & Monroe\, 6:30\, Lexington (Show 2) 🎟️ \nDouble Edge\, Community Center\, 7:00\, Reagan \nKobra Karaoke\, Red Dog\, 7:00\, Jackson \nKreston Smith\, The Cellar\, 7:30\, Covington \n🎟️ Mandy Barnett “Winter Wonderland\,” The Dixie Carter PAC\, 7:30\, Huntingdon 🎟️ \nLive Music\, Redbone’s\, 8:00\, Jackson \nStokely and the Bandits\, Twin Oaks\, 8:00\, Brownsville \nVelvet Chord\, Reds Place\, 8:00\, New Johnsonville \nCade Doyle Band\, The Church St Pool House\, 8:00\, Union City \nKelso Mojo\, Blues Landing\, 8:00\, Buchanan \nJohnny Mac\, Mojo’s\, 8:00\, Dyersburg \nKaroake (DJ Chuck Gee)\, MT Bottles\, 8:00\, Trezevent \nKaraoke (w/ Debbie Honey)\, The City Limits\, 8:00\, Trenton \nMike Sons x NRKO\, The Hilltop\, 9:00\, Rutherford \nKaraoke and Christmas Party\, The Ponds\, 9:00\, Medon \nRandy D. Rutherford\, The Deuce\, 9:00\, Lexington \nLive Music\, Slide & Ride Rodeo\, 9:00\, Jackson \nLakewood Drive\, The Tap\, 9:00\, Jackson \nLive Music\, The Downtown Tavern\, 9:00\, Jackson \nKobra Karaoke\, Red Dog Saloon\, 9:00\, Jackson\n\n\n\n\n\n\n\n\n\n\n\nSUNDAY – DECEMBER 22nd\nLive Music\, Crown Winery\, 1:00\, Humboldt \nDJ Leslie\, The Tap\, 9:30\, Jackson\n\n\n\n\n\n\n\n\n\n\n\nMONDAY – DECEMBER 23rd\nHappy Holidays!\n\n\n\n\n\n\n\n\n\n\n\nTUESDAY – DECEMBER 24th\n🎅 Merry Christmas Eve! 🎅
URL:https://visitjacksontn.com/event/weekly-music-events-6/
CATEGORIES:Events,Music
ATTACH;FMTTYPE=image/jpeg:https://visitjacksontn.com/wp-content/uploads/470816925_1032551178885413_5933244175872307076_n.jpg
END:VEVENT
BEGIN:VEVENT
DTSTART;VALUE=DATE:20241219
DTEND;VALUE=DATE:20241222
DTSTAMP:20260420T013659
CREATED:20241029T143104Z
LAST-MODIFIED:20241213T143925Z
UID:10002680-1734566400-1734825599@visitjacksontn.com
SUMMARY:Annie the Musical
DESCRIPTION:Get ready to experience the classic story of Annie with the Jackson community. \nJoin the Jackson Theatre Guild for an unforgettable show! Click here to purchase tickets. \nDates & Times: \nDecember 19: 7:30 PM \nDecember 20: 2:00 PM & 7:30 PM \nDecember 21: 2:00 PM & 7:30 PM
URL:https://visitjacksontn.com/event/annie-the-musical-2/
LOCATION:The Ned McWherter West TN Cultural Arts Center\, 314 E. Main St.\, Jackson\, TN\, 38301\, United States
CATEGORIES:Arts & Culture,Events,Music
ATTACH;FMTTYPE=image/avif:https://visitjacksontn.com/wp-content/uploads/annies-bk-to-bk-logo-8.avif
END:VEVENT
BEGIN:VEVENT
DTSTART;TZID=America/Chicago:20241219T190000
DTEND;TZID=America/Chicago:20241219T190000
DTSTAMP:20260420T013659
CREATED:20241217T152506Z
LAST-MODIFIED:20241217T152512Z
UID:10005162-1734634800-1734634800@visitjacksontn.com
SUMMARY:Christmas with ELVIS
DESCRIPTION:Get ready to rock around the Christmas tree with Christmas with ELVIS! \nFeaturing Hardeman County’s very own Brian Lee Howell and his incredible 5-piece show band\, this unforgettable evening will blend holiday cheer with the iconic hits of Elvis Presley. General admission tickets are $15 each. Don’t wait—grab your tickets online at www.ticketsource.us/hcac and make this holiday season unforgettable! \n  \n 
URL:https://visitjacksontn.com/event/christmas-with-elvis/
LOCATION:Hardeman County Arts Council\, 1580 West Market Street\, Bolivar\, TN\, 38008\, United States
CATEGORIES:Events,Music
ATTACH;FMTTYPE=image/jpeg:https://visitjacksontn.com/wp-content/uploads/470553061_1012172750943571_8419121046476313074_n.jpg
END:VEVENT
BEGIN:VEVENT
DTSTART;TZID=America/Chicago:20241219T190000
DTEND;TZID=America/Chicago:20241219T220000
DTSTAMP:20260420T013659
CREATED:20241112T165657Z
LAST-MODIFIED:20241112T165721Z
UID:10002865-1734634800-1734645600@visitjacksontn.com
SUMMARY:Icehouse of Jackson's Christmas Party
DESCRIPTION:Join the Icehouse of Jackson for their Christmas party! \nCelebrate with food\, drinks\, beer\, and live music from Rev Jessie & the Holy Smokes Band! Enjoy dancing\, a raffle with gifts\, and a holly jolly good time in the lobby of the New Southern Hotel. \nBring your family and friends for a festive night to remember!
URL:https://visitjacksontn.com/event/icehouse-of-jacksons-christmas-party/
LOCATION:Icehouse of Jackson\, 112 E Baltimore Street\, Jackson\, TN\, 38301\, United States
CATEGORIES:Events,Music
ATTACH;FMTTYPE=image/jpeg:https://visitjacksontn.com/wp-content/uploads/466420190_122138961746337728_1112900866941383305_n.jpg
END:VEVENT
END:VCALENDAR