BEGIN:VCALENDAR
VERSION:2.0
PRODID:-//Jackson Tourism - ECPv6.15.18//NONSGML v1.0//EN
CALSCALE:GREGORIAN
METHOD:PUBLISH
X-ORIGINAL-URL:https://visitjacksontn.com
X-WR-CALDESC:Events for Jackson Tourism
REFRESH-INTERVAL;VALUE=DURATION:PT1H
X-Robots-Tag:noindex
X-PUBLISHED-TTL:PT1H
BEGIN:VTIMEZONE
TZID:America/Chicago
BEGIN:DAYLIGHT
TZOFFSETFROM:-0600
TZOFFSETTO:-0500
TZNAME:CDT
DTSTART:20230312T080000
END:DAYLIGHT
BEGIN:STANDARD
TZOFFSETFROM:-0500
TZOFFSETTO:-0600
TZNAME:CST
DTSTART:20231105T070000
END:STANDARD
BEGIN:DAYLIGHT
TZOFFSETFROM:-0600
TZOFFSETTO:-0500
TZNAME:CDT
DTSTART:20240310T080000
END:DAYLIGHT
BEGIN:STANDARD
TZOFFSETFROM:-0500
TZOFFSETTO:-0600
TZNAME:CST
DTSTART:20241103T070000
END:STANDARD
BEGIN:DAYLIGHT
TZOFFSETFROM:-0600
TZOFFSETTO:-0500
TZNAME:CDT
DTSTART:20250309T080000
END:DAYLIGHT
BEGIN:STANDARD
TZOFFSETFROM:-0500
TZOFFSETTO:-0600
TZNAME:CST
DTSTART:20251102T070000
END:STANDARD
END:VTIMEZONE
BEGIN:VEVENT
DTSTART;VALUE=DATE:20241211
DTEND;VALUE=DATE:20241218
DTSTAMP:20260420T032139
CREATED:20241211T225901Z
LAST-MODIFIED:20241212T150142Z
UID:10005156-1733875200-1734479999@visitjacksontn.com
SUMMARY:Weekly Music Events
DESCRIPTION:Enjoy live music throughout the week in Jackson and West Tennessee! \nSign up here to have the weekly newsletter delivered to your inbox every Wednesday. \n\n\n\n\n\n\n\n\nWEDNESDAY – DECEMBER 11th\nPiano After Work\, The Blacksmith\, 4:00\, Jackson \nMichael L. King\, The Downtown Tavern\, 7:00\, Jackson \nSingo\, Hub City Brewing\, 7:00\, Jackson \nLive Music Showcase\, The Tap\, 8:30\, Jackson\n\n\n\n\n\n\n\n\n\n\n\nTHURSDAY – DECEMBER 12th\nPiano After Work\, The Blacksmith\, 4:00\, Jackson \nLive Music\, Redbone’s\, 6:00\, Jackson \nOpen Mic (w/ Adam Johnson)\, Baker Bros. BBQ\, 6:30\, Jackson \nOpen Mic\, The Downtown Tavern\, 6:30\, Jackson \nWallace & Company\, American Legion Aux\, 7:00\, Huntingdon \nJohnny Mac\, Blues Landing\, 7:00\, Buchanan \nKobra Karaoke\, Red Dog Saloon\, 7:00\, Jackson \nATL Karaoke\, The Tap\, 9:30\, Jackson\n\n\n\n\n\n\n\n\n\n\n\nFRIDAY -DECEMBER 13th\nPiano After Work\, The Blacksmith\, 4:00\, Jackson \nMichael Mayes\, Doe’s Eat Place\, 5:30\, Jackson \nAdam Johnson\, Tekila\, 6:00\, Jackson \nCade Doyle (acoustic)\, The Blacksmith\, 6:00\, Jackson \nLive Music\, Freddy T’s Dining Room\, 6:00\, Counce \nChristmas at the Carnegie\, The Carnegie\, 6:00\, Jackson \nTosh Newman & Patrick O’Connor\, Main & Monroe\, 6:30\, Lexington \nWallace & Company\, 641 Dance Barn\, 7:00\, Camden \nLarry Frye Band\, Bootsie’s Barn Dance\, 7:00\, Gadsden \n🎟️ Catbird Christmas Show\, Catbird Studio\, 7:00\, Jackson 🎟️ \nHunt Pearson Band\, Redbone’s\, 8:00\, Jackson \nLive Music\, Elks #192\, 8:00\, Jackson \nKimberlie Helton Band\, Blues Landing\, 8:00\, Buchanan \nEthan Torsak\, Mojo’s\, 8:00\, Dyersburg \nKaraoke (w/ Debbie Honey)\, Lil Darlin’s\, 8:00\, Sharon \nKaraoke\, The Office Lounge\, 8:00\, Jackson \nKaraoke\, Ricochet Bar\, 9:00\, Jackson \nLindsey Russell Band\, The Downtown Tavern\, 9:00\, Jackson \nKelso Mojo\, The Tap\, 9:00\, Jackson \nATL Karaoke\, Slide and Ride Rodeo\, 10:00\, Jackson\n\n\n\n\n\n\n\n\n\n\n\nSATURDAY – DECEMBER 14th\nMusic With Alice\, Christmas Open House at theLOCAL\, 10:00am\, Jackson \nJustUs\, Crown Winery\, 1:00\, Humboldt \nLive Music\, Arrow Athletics\, 5:00\, Jackson \nLive Music\, The Blacksmith\, 6:00\, Jackson \nLive Music\, Freddy T’s Dining Room\, 6:00\, Counce \nA Chester County Country Christmas\, Williams Auditorium\, 6:00\, Henderson \nSeth Vincent Flake\, Doe’s Eat Place\, 6:30\, Jackson \nThe Bullet Town Trio\, Main & Monroe\, 6:30\, Lexington \n🎟️ LOLO Christmas Show: “Not So Silent Night\,” Hub City Brewing\, 7:00\, Jackson 🎟️ \nLive Music\, VFW Airways\, 7:00\, Jackson \nFour Wheel Drive\, Community Center\, 7:00\, Reagan \nLive Music\, Main Street Country\, 7:00\, Humboldt \nKobra Karaoke\, Red Dog\, 7:00\, Jackson \nProwler\, Redbone’s\, 8:00\, Jackson \nCade Doyle Band\, Pine Ridge Club\, 8:00\, Medon \nAndy Avery\, Mark-n-Sharon’s Sports Bar\, 8:00\, Dyersburg \nJohnny Mac & Friends\, Blues Landing\, 8:00\, Buchanan \nThe River Dust Duo\, Mojo’s\, 8:00\, Dyersburg \nKaraoke (w/ Debbie Honey)\, The City Limits\, 8:00\, Trenton \nKaraoke (w/ Christian Jones)\, The Ponds\, 9:00\, Medon \nKaraoke (w/ Bobby & Laurie)\, Slick’s Bar\, 9:00\, Halls \nLindsey Russell Band\, The Deuce\, 9:00\, Lexington \nLive Music\, Slide & Ride Rodeo\, 9:00\, Jackson \nHerz\, The Tap\, 9:00\, Jackson \nLive Music\, The Downtown Tavern\, 9:00\, Jackson\n\n\n\n\n\n\n\n\n\n\n\nSUNDAY – DECEMBER 15th\nScott Myatt\, Crown Winery\, 1:00\, Humboldt \nChristmas Jam\, The Ledge at Spring Creek\, 4:00\, Jackson \nDJ Leslie\, The Tap\, 9:30\, Jackson\n\n\n\n\n\n\n\n\n\n\n\nMONDAY – DECEMBER 16th\nJustin White\, The Downtown Tavern\, 7:00\, Jackson \nWallace & Company\, VFW Airways\, 7:00\, Jackson\n\n\n\n\n\n\n\n\n\n\n\nTUESDAY – DECEMBER 17th\nLindsey Russell\, Doe’s Eat Place\, 6:00\, Jackson \nLive Music\, Tekila\, 6:00\, Jackson \nSteven Stewart\, The Downtown Tavern\, 7:00\, Jackson \nLive Music\, The Tap\, 9:00\, Jackson
URL:https://visitjacksontn.com/event/weekly-music-events-5/
CATEGORIES:Events,Music
ATTACH;FMTTYPE=image/jpeg:https://visitjacksontn.com/wp-content/uploads/469940040_1027465129394018_147871581759520558_n.jpg
END:VEVENT
BEGIN:VEVENT
DTSTART;VALUE=DATE:20241213
DTEND;VALUE=DATE:20241216
DTSTAMP:20260420T032139
CREATED:20241104T213826Z
LAST-MODIFIED:20241203T153336Z
UID:10002796-1734048000-1734307199@visitjacksontn.com
SUMMARY:The Nutcracker
DESCRIPTION:Ballet Arts is thrilled to continue your favorite holiday tradition with an in-person performance of The Nutcracker. Come experience the magic of The Nutcracker with Clara\, Mouse Queen and Sugarplum Fairy as they go on an enchanting adventure on Christmas Eve. \nAdvanced tickets will be available for purchase online only in early November or at the box office the day of the show. The Nutcracker will have three performances on Friday\, December 13 at 7 p.m.\, Saturday\, December 14 at 7 p.m.\, and Sunday\, December 15 at 2 p.m. \nSelect seating is $25\, choice seating is $30\, and premium seating is $35. \nThere are also limited seats available for the exclusive Tea Party option. \nFor more information on the performance\, or for any questions regarding ticket sales\, please call or text (731) 410-7123 or email balletartsmktg@gmail.com. Advanced ticket sales are online only.
URL:https://visitjacksontn.com/event/the-nutcracker/
LOCATION:Carl Perkins Civic Center\, 400 South Highland Avenue\, Jackson\, TN\, 38301\, United States
CATEGORIES:Arts & Culture,Events,Music
ATTACH;FMTTYPE=image/jpeg:https://visitjacksontn.com/wp-content/uploads/466125353_1132975471751081_226213817672829410_n.jpg
END:VEVENT
BEGIN:VEVENT
DTSTART;VALUE=DATE:20241214
DTEND;VALUE=DATE:20241216
DTSTAMP:20260420T032139
CREATED:20240926T163252Z
LAST-MODIFIED:20241107T182005Z
UID:10002626-1734134400-1734307199@visitjacksontn.com
SUMMARY:The 9th Annual LOLO Christmas Show & Gospel Brunch
DESCRIPTION:The LOLO Christmas Show and Gospel Brunch is an annual event\, held at Hub City Brewing in Historic Downtown Jackson\, TN\, to benefit RIFA’s Snack Backpack ministry. LOLO\, is a Grammy-nominated recording artist and Broadway veteran who was born and raised in Jackson. The event originated because of LOLO’s heart for her hometown and its children in need. \nThe Snack Backpack ministry fights childhood food insecurity by providing consistent access to food on the weekends to Jackson-Madison County’s elementary school students. Through the ministry\, children who depend on free school breakfasts and lunches receive a Snack Backpack to take home each Friday. Each week\, over 1\,300 students throughout the county receive a Snack Backpack from RIFA. \nThis year\, for the 9th annual LOLO Christmas Show and Gospel Brunch\, there will be three shows in one weekend. Saturday morning\, December 14th and Sunday morning\, December 15th\, the Gospel Brunch performances will begin serving food at 11AM and the live show will begin at 12:00PM. The Gospel Brunch performance is full of holiday spirit\, praise and worship! The Brunch events also feature a raffle\, silent auction and a live auction. Saturday night\, December 14th\, the ‘Not So Silent Night’ evening performance will be a general admission ticket with limited seating and rock n’ roll Christmas songs that will make you wanna deck the halls and dance the night away! In addition to performances by LOLO\, many other artists make guest appearances. The LOLO Christmas Show events are open to people of all ages. \nTickets go on sale on September 27 at 10 AM!
URL:https://visitjacksontn.com/event/the-9th-annual-lolo-christmas-show-gospel-brunch/
LOCATION:Hub City Brewing\, 250 West Main Street\, Jackson\, TN\, 38301\, United States
CATEGORIES:Events,Music
ATTACH;FMTTYPE=image/jpeg:https://visitjacksontn.com/wp-content/uploads/461183826_122167416674100752_4334057502144637076_n.jpg
END:VEVENT
BEGIN:VEVENT
DTSTART;VALUE=DATE:20241214
DTEND;VALUE=DATE:20241216
DTSTAMP:20260420T032139
CREATED:20241213T143816Z
LAST-MODIFIED:20241213T143905Z
UID:10005157-1734134400-1734307199@visitjacksontn.com
SUMMARY:Annie the Musical
DESCRIPTION:Get ready to experience the classic story of Annie with the Jackson community. \nJoin the Jackson Theatre Guild for an unforgettable show! Click here to purchase tickets. \nDates & Times: \nDecember 14: 7:30 PM \nDecember 15: 2:00 PM
URL:https://visitjacksontn.com/event/annie-the-musical/
LOCATION:The Ned McWherter West TN Cultural Arts Center\, 314 E. Main St.\, Jackson\, TN\, 38301\, United States
CATEGORIES:Arts & Culture,Events,Music
ATTACH;FMTTYPE=image/avif:https://visitjacksontn.com/wp-content/uploads/annies-bk-to-bk-logo-8.avif
END:VEVENT
BEGIN:VEVENT
DTSTART;TZID=America/Chicago:20241214T100000
DTEND;TZID=America/Chicago:20241214T140000
DTSTAMP:20260420T032139
CREATED:20241121T150300Z
LAST-MODIFIED:20241121T150314Z
UID:10002919-1734170400-1734184800@visitjacksontn.com
SUMMARY:Christmas Open House at theLOCAL
DESCRIPTION:Step into the magic of the holidays at the Christmas Open House at theLOCAL! \nEnjoy a day filled with festive cheer\, family fun\, and creative activities. Start the day with holiday tunes from Music with Alice\, enjoy Storytime with Mrs. Claus at 11:00 AM\, and meet Santa & Mrs. Claus from 11:30 AM to 2:00 PM for a magical meet-and-greet. Get crafty at the Holiday Bookmark Workshops with Patricia and Ricky Santos\, creating unique watercolor and leather-stamped designs ($5-$10). Shop local artisan vendors\, savor sweet treats\, and soak in the holiday vibes. \nBring your family and friends to celebrate the season and make unforgettable memories—RSVP today!
URL:https://visitjacksontn.com/event/christmas-open-house-at-thelocal/
LOCATION:The LOCAL\, 202 West Lafayette Street\, Jackson\, TN\, 38301\, United States
CATEGORIES:Arts & Culture,Events,Music
ATTACH;FMTTYPE=image/jpeg:https://visitjacksontn.com/wp-content/uploads/467586593_494186880304960_3717894215518478054_n.jpg
END:VEVENT
BEGIN:VEVENT
DTSTART;TZID=America/Chicago:20241214T180000
DTEND;TZID=America/Chicago:20241214T180000
DTSTAMP:20260420T032139
CREATED:20241118T151416Z
LAST-MODIFIED:20241118T151426Z
UID:10002892-1734199200-1734199200@visitjacksontn.com
SUMMARY:A Chester County Country Christmas
DESCRIPTION:Get into the holiday spirit with A Chester County Country Christmas\, a heartwarming celebration of community and Christmas cheer! \nEnjoy an evening of festive fun featuring local talent—including singers\, musicians\, and cherished members of the community—coming together to perform timeless holiday classics and share treasured Christmas memories. \nThis special gathering is the perfect way to celebrate the season while embracing the rich traditions of Chester County.
URL:https://visitjacksontn.com/event/a-chester-county-country-christmas/
LOCATION:Williams Auditorium\, 634 E. Main St.\, Henderson\, TN\, 38340\, United States
CATEGORIES:Events,Music
ATTACH;FMTTYPE=image/jpeg:https://visitjacksontn.com/wp-content/uploads/465841949_979019090933728_6812221962561983557_n.jpg
END:VEVENT
END:VCALENDAR