BEGIN:VCALENDAR
VERSION:2.0
PRODID:-//Jackson Tourism - ECPv6.15.18//NONSGML v1.0//EN
CALSCALE:GREGORIAN
METHOD:PUBLISH
X-ORIGINAL-URL:https://visitjacksontn.com
X-WR-CALDESC:Events for Jackson Tourism
REFRESH-INTERVAL;VALUE=DURATION:PT1H
X-Robots-Tag:noindex
X-PUBLISHED-TTL:PT1H
BEGIN:VTIMEZONE
TZID:America/Chicago
BEGIN:DAYLIGHT
TZOFFSETFROM:-0600
TZOFFSETTO:-0500
TZNAME:CDT
DTSTART:20230312T080000
END:DAYLIGHT
BEGIN:STANDARD
TZOFFSETFROM:-0500
TZOFFSETTO:-0600
TZNAME:CST
DTSTART:20231105T070000
END:STANDARD
BEGIN:DAYLIGHT
TZOFFSETFROM:-0600
TZOFFSETTO:-0500
TZNAME:CDT
DTSTART:20240310T080000
END:DAYLIGHT
BEGIN:STANDARD
TZOFFSETFROM:-0500
TZOFFSETTO:-0600
TZNAME:CST
DTSTART:20241103T070000
END:STANDARD
BEGIN:DAYLIGHT
TZOFFSETFROM:-0600
TZOFFSETTO:-0500
TZNAME:CDT
DTSTART:20250309T080000
END:DAYLIGHT
BEGIN:STANDARD
TZOFFSETFROM:-0500
TZOFFSETTO:-0600
TZNAME:CST
DTSTART:20251102T070000
END:STANDARD
END:VTIMEZONE
BEGIN:VEVENT
DTSTART;VALUE=DATE:20241204
DTEND;VALUE=DATE:20241211
DTSTAMP:20260420T015822
CREATED:20241204T205420Z
LAST-MODIFIED:20241204T224804Z
UID:10005136-1733270400-1733875199@visitjacksontn.com
SUMMARY:Weekly Music Events
DESCRIPTION:Enjoy live music throughout the week in Jackson and West Tennessee! \nSign up here to have the weekly newsletter delivered to your inbox every Wednesday! \n\n\n\n\n\n\n\n\nWEDNESDAY – DECEMBER 4th\nPiano After Work\, The Blacksmith\, 4:00\, Jackson \nSteven Stewart\, The Downtown Tavern\, 7:00\, Jackson \nSingo\, Hub City Brewing\, 7:00\, Jackson \nLive Music Showcase\, The Tap\, 8:30\, Jackson\n\n\n\n\n\n\n\n\n\n\n\nTHURSDAY – DECEMBER 5th\nPiano After Work\, The Blacksmith\, 4:00\, Jackson \nBoggy and Buds\, Redbone’s\, 6:00\, Jackson \nLindsey Russell\, Hillbilly’s Wing Shack\, 6:00\, Crump \nOpen Mic (w/ Adam Johnson)\, Baker Bros. BBQ\, 6:30\, Jackson \nOpen Mic\, The Downtown Tavern\, 6:30\, Jackson \nStep Into Christmas (Kincaid Gooch Voice Studio)\, Alamo First Christian Church\, 7:00\, Alamo \nJohnny Mac\, Blues Landing\, 7:00\, Buchanan \nKobra Karaoke\, Red Dog Saloon\, 7:00\, Jackson \nATL Karaoke\, The Tap\, 9:30\, Jackson\n\n\n\n\n\n\n\n\n\n\n\nFRIDAY -DECEMBER 6th\nPiano After Work\, The Blacksmith\, 4:00\, Jackson \nDavid Thomas & Bobby Stokely\, Tekila\, 6:00\, Jackson \nLive Music\, The Blacksmith\, 6:00\, Jackson \nRhegan Skelton\, Freddy T’s Dining Room\, 6:00\, Counce \nKobra Karaoke\, Art’s Lounge\, 6:00\, Jackson \nAge of Elegance: 55 & Up Talent Showcase\, The Ned\, 6:00\, Jackson \nBen Jessie & Bill Criss (The Mechanix Duo)\, Baker Bros. BBQ\, 6:30\, Jackson \nJustUs\, Doe’s Eat Place\, 6:30\, Jackson \nKelso Mojo (acoustic)\, Main & Monroe\, 6:30\, Lexington \nThe Tracy Dotson Band\, Bootsie’s Barn Dance\, 7:00\, Gadsden \nStep Into Christmas (Kincaid Gooch Voice Studio)\, Alamo First Christian Church\, 7:00\, Alamo \nA Union Christmas\, Union University Chapel\, 7:30\, Jackson \n🎟️ Christmas with John Berry\, Williams Auditorium\, 7:30\, Henderson 🎟️ \nKimberlie Helton Band\, Redbone’s\, 8:00\, Jackson \nEmily Ann Meaole\, Elks #192\, 8:00\, Jackson \nColton Flanagan\, Blues Landing\, 7:00\, Buchanan \nRay and The Party Nation\, Mojo’s\, 8:00\, Dyersburg \nKaraoke (w/ Debbie Honey)\, Lil Darlin’s\, 8:00\, Sharon \nKaraoke\, The Office Lounge\, 8:00\, Jackson \nKaraoke\, Ricochet Bar\, 9:00\, Jackson \nKaraoke\, Hub City Brewing\, 9:00\, Jackson \nStokely and the Bandits w/ Steven Stewart\, The Downtown Tavern\, 9:00\, Jackson \nLindsey Russell\, The Tap\, 9:00\, Jackson \nATL Karaoke\, Slide and Ride Rodeo\, 10:00\, Jackson\n\n\n\n\n\n\n\n\n\n\n\nSATURDAY – DECEMBER 7th\n🎟️ The Jackson Symphony; Christmas Around the World (Matinee)\, Carl Perkins Civic Center\, 11am\, Jackson 🎟️ \nChad Karnes\, Crown Winery\, 1:00\, Humboldt \nStep Into Christmas (Kincaid Gooch Voice Studio)\, Alamo First Christian Church\, 2:00\, Alamo \nLive Music\, Arrow Athletics\, 5:00\, Jackson \nLive Music\, The Blacksmith\, 6:00\, Jackson \nMitch Mann\, Freddy T’s Dining Room\, 6:00\, Counce \nWayne & Jeanne\, Main & Monroe\, 6:30\, Lexington \nEast to West Band\, VFW Airways\, 7:00\, Jackson \nMike Sons\, Mosby’s\, 7:00\, Bradford \nKelso Mojo\, Elks Lodge\, 7:00\, Trenton \nSouth Bound\, Community Center\, 7:00\, Reagan \nLive Music\, Main Street Country\, 7:00\, Humboldt \nKobra Karaoke\, Red Dog\, 7:00\, Jackson \n🎟️ The Jackson Symphony; Christmas Around the World (Full Pops Concert)\, Carl Perkins Civic Center\, 7:30pm\, Jackson 🎟️ \n🎟️ Christmas at the Dixie: LOLO\, The Dixie Carter PAC\, 7:30\, Huntingdon 🎟️ \nWentzel Brothers\, Redbone’s\, 8:00\, Jackson \nNeil Brock & Cover Up\, Blues Landing\, 8:00\, Buchanan \nDustin Lee Martin\, Mojo’s\, 8:00\, Dyersburg \nKaraoke (w/ Debbie Honey)\, The City Limits\, 8:00\, Trenton \nKaraoke (w/ Chuck Gee)\, MT Bottles\, 8:00\, Trezevant \nGeneracion M\, Premier Place Event Venue\, 8:00\, Jackson \nKobra Karaoke\, Red Dog Saloon\, 9:00\, Jackson \nKaraoke (w/ Christian Jones)\, The Ponds\, 9:00\, Medon \nLakewood Drive\, Southern State\, 9:00\, South Fulton \nHunt Pearson Band\, The Pine Ridge Club\, 9:00\, Medon \nTypsy Gypsy\, Slide & Ride Rodeo\, 9:00\, Jackson \nLive Music\, The Tap\, 9:00\, Jackson \nLive Music\, The Downtown Tavern\, 9:00\, Jackson\n\n\n\n\n\n\n\n\n\n\n\nSUNDAY – DECEMBER 8th\nLive Music\, Crown Winery\, 1:00\, Humboldt \nStep Into Christmas (Kincaid Gooch Voice Studio)\, Alamo First Christian Church\, 2:00\, Alamo \nDJ Leslie\, The Tap\, 9:30\, Jackson\n\n\n\n\n\n\n\n\n\n\n\nMONDAY – DECEMBER 9th\nJustin White\, The Downtown Tavern\, 7:00\, Jackson \nLive Music\, VFW Airways\, 7:00\, Jackson\n\n\n\n\n\n\n\n\n\n\n\nTUESDAY – DECEMBER 10th\nLindsey Russell\, Doe’s Eat Place\, 6:00\, Jackson \nLive Music\, Tekila\, 6:00\, Jackson \nSteven Stewart\, The Downtown Tavern\, 7:00\, Jackson \nLive Music\, The Tap\, 9:00\, Jackson
URL:https://visitjacksontn.com/event/weekly-music-events-4/
CATEGORIES:Events,Music
ATTACH;FMTTYPE=image/jpeg:https://visitjacksontn.com/wp-content/uploads/469427885_1022441339896397_6417122831491771370_n.jpg
END:VEVENT
BEGIN:VEVENT
DTSTART;TZID=America/Chicago:20241206T180000
DTEND;TZID=America/Chicago:20241206T180000
DTSTAMP:20260420T015822
CREATED:20241030T175927Z
LAST-MODIFIED:20241107T172149Z
UID:10002770-1733508000-1733508000@visitjacksontn.com
SUMMARY:Age of Elegance - 55 & Up Talent Showcase
DESCRIPTION:Jackson Parks and Recreation presents the 3rd Annual 55 & Up Talent Showcase! Enjoy a night of entertainment\, surprises\, and community performances. Doors open at 5 PM\, showtime at 6 PM. This is a free event! \nParticipants must be 55 or older and can register online or in person at Westwood Recreation Center by October 21st. Registration details\, including photo\, bio\, and music\, are due by November 14th at 11 AM at Westwood Center. \nFor more info\, please visit parks.jacksontn.gov or call 731-425-8382.
URL:https://visitjacksontn.com/event/3rd-annual-55-7-up-talent-showcase/
LOCATION:The Ned McWherter West TN Cultural Arts Center\, 314 E. Main St.\, Jackson\, TN\, 38301\, United States
CATEGORIES:Arts & Culture,Events,Music
ATTACH;FMTTYPE=image/jpeg:https://visitjacksontn.com/wp-content/uploads/IMG_7364.jpeg
END:VEVENT
BEGIN:VEVENT
DTSTART;TZID=America/Chicago:20241206T193000
DTEND;TZID=America/Chicago:20241206T193000
DTSTAMP:20260420T015822
CREATED:20241030T134703Z
LAST-MODIFIED:20241030T141646Z
UID:10002738-1733513400-1733513400@visitjacksontn.com
SUMMARY:Christmas with John Berry
DESCRIPTION:For 28 years\, John Berry’s special take on the Christmas season has become a West Tennessee tradition\, mixing such Berry classic hits as “Your Love Amazes Me” and “Standing On The Edge Of Goodbye\,” and “I Think About It All The Time” with holiday favorites\, including his always-standing-ovation performance of “O Holy Night.” \nNo one moves an audience quite the way this platinum-selling vocalist does\, and this December’s Williams Auditorium appearance is sure to be the hottest holiday ticket in town. \nTickets can be purchased here. For more information\, please call 731-435-3150.
URL:https://visitjacksontn.com/event/christmas-with-john-berry-the-28th-annual-tour/
LOCATION:Williams Auditorium\, 634 E. Main St.\, Henderson\, TN\, 38340\, United States
CATEGORIES:Events,Music
ATTACH;FMTTYPE=image/jpeg:https://visitjacksontn.com/wp-content/uploads/464049928_6667015423083_6814509428331832430_n.jpg
END:VEVENT
BEGIN:VEVENT
DTSTART;TZID=America/Chicago:20241206T193000
DTEND;TZID=America/Chicago:20241206T203000
DTSTAMP:20260420T015822
CREATED:20241115T154836Z
LAST-MODIFIED:20241115T154836Z
UID:10002890-1733513400-1733517000@visitjacksontn.com
SUMMARY:A Union Christmas
DESCRIPTION:Celebrate the season at A Union Christmas\, Union University’s annual musical gift to the community! \nDon’t miss an evening of festive music\, holiday cheer\, and community fellowship. This beloved tradition is free and open to all! \n  \n 
URL:https://visitjacksontn.com/event/a-union-christmas/
LOCATION:G.M. Savage Chapel\, 1050 Union University Dr\, Jackson\, TN\, 38305\, United States
CATEGORIES:Events,Music
ATTACH;FMTTYPE=image/jpeg:https://visitjacksontn.com/wp-content/uploads/466966548_981614700673204_6528724980228883605_n.jpg
END:VEVENT
END:VCALENDAR