BEGIN:VCALENDAR
VERSION:2.0
PRODID:-//Jackson Tourism - ECPv6.15.18//NONSGML v1.0//EN
CALSCALE:GREGORIAN
METHOD:PUBLISH
X-WR-CALNAME:Jackson Tourism
X-ORIGINAL-URL:https://visitjacksontn.com
X-WR-CALDESC:Events for Jackson Tourism
REFRESH-INTERVAL;VALUE=DURATION:PT1H
X-Robots-Tag:noindex
X-PUBLISHED-TTL:PT1H
BEGIN:VTIMEZONE
TZID:America/Chicago
BEGIN:DAYLIGHT
TZOFFSETFROM:-0600
TZOFFSETTO:-0500
TZNAME:CDT
DTSTART:20230312T080000
END:DAYLIGHT
BEGIN:STANDARD
TZOFFSETFROM:-0500
TZOFFSETTO:-0600
TZNAME:CST
DTSTART:20231105T070000
END:STANDARD
BEGIN:DAYLIGHT
TZOFFSETFROM:-0600
TZOFFSETTO:-0500
TZNAME:CDT
DTSTART:20240310T080000
END:DAYLIGHT
BEGIN:STANDARD
TZOFFSETFROM:-0500
TZOFFSETTO:-0600
TZNAME:CST
DTSTART:20241103T070000
END:STANDARD
BEGIN:DAYLIGHT
TZOFFSETFROM:-0600
TZOFFSETTO:-0500
TZNAME:CDT
DTSTART:20250309T080000
END:DAYLIGHT
BEGIN:STANDARD
TZOFFSETFROM:-0500
TZOFFSETTO:-0600
TZNAME:CST
DTSTART:20251102T070000
END:STANDARD
END:VTIMEZONE
BEGIN:VEVENT
DTSTART;VALUE=DATE:20241113
DTEND;VALUE=DATE:20241120
DTSTAMP:20260420T031900
CREATED:20241115T210522Z
LAST-MODIFIED:20241118T155233Z
UID:10002891-1731456000-1732060799@visitjacksontn.com
SUMMARY:Weekly Music Events
DESCRIPTION:Sign up here to have the weekly newsletter delivered to your inbox every Wednesday! \nWEDNESDAY – NOVEMBER 13th\nPiano After Work\, The Blacksmith\, 4:00\, Jackson \nWilli X & T Bone McCaslin\, Icehouse of Jackson\, 6:00\, Jackson \nSteven Stewart\, The Downtown Tavern\, 7:00\, Jackson \nSingo\, Hub City Brewing\, 7:00\, Jackson \nKarleigh Anne Fagan\, Ben. T. Colling\, Lindsey Russell\, Alxander Cavaness\, Michael Smith\, The Tap\, 9:00\, Jackson\n\n\n\n\n\n\n\n\n\n\n\nTHURSDAY – NOVEMBER 14th\nPiano After Work\, The Blacksmith\, 4:00\, Jackson \nLindsey Russell\, Redbone’s\, 6:00\, Jackson \nKelso Mojo (acoustic)\, Twin Oaks\, 6:00\, Brownsville \nOpen Mic (w/ Adam Johnson)\, Baker Bros.\, 6:30\, Jackson \nOpen Mic (w/ Heath Merchant)\, The Downtown Tavern\, 7:00\, Jackson \nJohnny Mac\, Blues Landing\, 7:00\, Buchanan \nKobra Karaoke\, Red Dog\, 7:00\, Jackson \nDJ Von\, Floral Cakes\, 8:00\, Jackson \nATL Karaoke\, The Tap\, 9:30\, Jackson\n\n\n\n\n\n\n\n\n\n\n\nFRIDAY – NOVEMBER 15th\nFood Truck Friday (Adam Johnson)\, The Local\, 12:00\, Jackson \nPiano After Work\, The Blacksmith\, 4:00\, Jackson \n🎟️ 2024 “Let it Glow” Kick-Off: The Jackson Symphony Orchestra\, Voices of Union City Elementary School\, Discovery Park of America\, 6:00\, Union City 🎟️ \nMakayla Collins\, Tekila\, 6:00\, Jackson \nLive Music\, The Blacksmith\, 6:00\, Jackson \nKobra Karaoke\, Art’s Lounge\, 6:00\, Jackson \nJoseph Baldwin\, Freddy T’s Dining Room\, 6:00\, Counce \nLive Music\, Doe’s Eat Place\, 6:30\, Jackson \nThe Dirty Rain Revelers\, Main & Monroe\, 6:30\, Lexington \nMoccasin Creek\, Office Lounge\, 7:00\, Jackson \nLive Music\, Bootsie’s Barn Dance\, 7:00\, Gadsden \nMusic Mayhem (DJ/Karaoke)\, The SPOT Eatery\, 7:00\, Bells \nBryan Moffitt\, Mulligan’s\, 7:00\, Jackson \n🎟️ Clay Walker\, Williams Auditorium\, 7:30\, Henderson 🎟️ \nLynden Hauls\, Redbone’s\, 8:00\, Jackson \nKimberlie Helton\, Elks #192\, 8:00\, Jackson \nKaraoke\, Hub City Brewing\, 8:00\, Jackson \nLive Music\, Blues Landing\, 8:00\, Buchanan \nRyan Gilchrist\, Mojo’s\, 8:00\, Dyersburg \nKaraoke\, The Office Lounge\, 8:00\, Jackson \nKaraoke\, Ricochet Bar\, 9:00\, Jackson \nEmily Ann & Church St.\, The Downtown Tavern\, 9:00\, Jackson \nBen & them Boys\, The Tap\, 9:00\, Jackson \nATL Karaoke\, Slide and Ride Rodeo\, 10:00\, Jackson\n\n\n\n\n\n\n\n\n\n\n\nSATURDAY – NOVEMBER 16th\nLive Music\, Crown Winery\, 1:00\, Humboldt \nJackson Choral Society Presents “Seasons\,” First Baptist Church\, 4:00\, Jackson \nRita Mac & Jeff\, Chickasaw Country Store\, 4:30\, Chickasaw \nLive Music\, Arrow Athletics\, 5:00\, Jackson \nLive Music\, The Blacksmith\, 6:00\, Jackson \n🎟️ Songwriters Round: Mark Irwin\, Main & Monroe\, 6:00\, Lexington (show 1) 🎟️ \nBryson Howard\, Freddy T’s Dining Room\, 6:00\, Counce \nJustUs\, Doe’s Eat Place\, 6:30\, Jackson \n🎟️ Tyler Braden\, Hub City Brewing\, 7:00\, Jackson 🎟️ \nLive Music\, VFW Airways\, 7:00\, Jackson \nKobra Karaoke\, Red Dog\, 7:00\, Jackson \nDouble Edge\, Community Center\, 7:00\, Reagan \nThe Will Beyer Band\, Main Street Country\, 7:00\, Humboldt \nProwler\, Redbone’s\, 8:00\, Jackson \n🎟️ Songwriters Round: Mark Irwin\, Main & Monroe\, 8:00\, Lexington (show 2) 🎟️ \nLive Music\, Blues Landing\, 8:00\, Buchanan \nEthan Torsak\, Mojo’s\, 8:00\, Dyersburg \nKaraoke (w/ Debbie Honey)\, The City Limits\, 8:00\, Trenton \nKaraoke (w/ Chuck Gee)\, MT Bottles\, 8:00\, Trezevant \nKaraoke (w/ Christian Jones)\, The Ponds\, 9:00\, Medon \nKelso Mojo\, The Pine Ridge Club\, 9:00\, Medon \nJohnson Brothers\, Chequers\, 9:00\, Dyersburg \nKimberlie Helton Band\, Slide & Ride Rodeo\, 9:00\, Jackson \nMostly Locust\, The Tap\, 9:00\, Jackson \nLive Music\, The Downtown Tavern\, 9:00\, Jackson \nKobra Karaoke\, Red Dog Saloon\, 9:00\, Jackson\n\n\n\n\n\n\n\n\n\n\n\nSUNDAY – NOVEMBER 17th\nLive Music\, Crown Winery\, 1:00\, Humboldt \nSing for Your Supper\, 415 E. Lafayette St.\, 3:30\, Jackson \nDJ Leslie\, The Tap\, 9:30\, Jackson\n\n\n\n\n\n\n\n\n\n\n\nMONDAY – NOVEMBER 18th\nJustin White\, The Downtown Tavern\, 7:00\, Jackson \nLive Music\, VFW Airways\, 7:00\, Jackson\n\n\n\n\n\n\n\n\n\n\n\nTUESDAY – NOVEMBER 19th\nLindsey Russell\, Doe’s Eat Place\, 6:00\, Jackson \nLive Music\, Tekila\, 6:00\, Jackson \nSarah & Anna\, The Downtown Tavern\, 7:00\, Jackson \nFall 2024 Lambuth Pop Ensemble Concert\, Hamilton Performing Arts Center\, 7:00\, Jackson \nJustin White\, The Tap\, 9:00\, Jackson
URL:https://visitjacksontn.com/event/weekly-music-evetns/
CATEGORIES:Music
ATTACH;FMTTYPE=image/jpeg:https://visitjacksontn.com/wp-content/uploads/jht-11-15-24-300.jpg
END:VEVENT
BEGIN:VEVENT
DTSTART;VALUE=DATE:20241114
DTEND;VALUE=DATE:20241117
DTSTAMP:20260420T031900
CREATED:20240802T140836Z
LAST-MODIFIED:20240802T140836Z
UID:10002448-1731542400-1731801599@visitjacksontn.com
SUMMARY:The Color Purple: The Musical
DESCRIPTION:The Ned presents The Color Purple – The Musical (2015 Broadway Revival Version) \nBased upon the novel written by Alice Walker and the Warner Bros./Amblin Entertainment Motion Picture\nBook by Marsha Norman \nMusic and Lyrics by Brenda Russell\, Allee Willis\, and Stephen Bray \n“The Color Purple” was produced on Broadway at the Broadway Theater by Oprah Winfrey\, Scott Sanders\, Roy Furman and Quincy Jones. The world premiere of THE COLOR PURPLE was produced by the Alliance Theatre\, Atlanta\, GA. \nDirected by Ebony Taylor \nClick here to purchase tickets and for the most up to date information. \n 
URL:https://visitjacksontn.com/event/the-color-purple-the-musical-2/
LOCATION:The NED\, 314 East Main Street\, Jackson\, TN\, 38301\, United States
CATEGORIES:Arts & Culture,Events,Music
ATTACH;FMTTYPE=image/jpeg:https://visitjacksontn.com/wp-content/uploads/453628511_1016342363824251_4418432807518219252_n.jpg
END:VEVENT
BEGIN:VEVENT
DTSTART;TZID=America/Chicago:20241115T180000
DTEND;TZID=America/Chicago:20241115T210000
DTSTAMP:20260420T031900
CREATED:20241107T172703Z
LAST-MODIFIED:20241107T172815Z
UID:10002853-1731693600-1731704400@visitjacksontn.com
SUMMARY:2024 "Let it Glow" Kickoff
DESCRIPTION:Join the Discovery Park of America for the “Let it Glow” kick-off ceremony featuring performances from the Jackson Symphony Orchestra\, Voices of Union City Elementary School\, and a special appearance by Santa Claus. The ceremony is free for members and $5 for non-members. \nThe “Let It Glow” Drive-thru and Walk-thru will be open 5-9 PM daily from Nov. 15-Dec. 30\, 2024 (closed on Thanksgiving\, Christmas Eve\, and Christmas Day). Walk-Thru tickets are $5 per person (kids 3 and under are free)\, and Drive-Thru tickets are $10 per car or $50 per bus (11+ passengers).
URL:https://visitjacksontn.com/event/2024-let-it-glow-kickoff/
LOCATION:Discovery Park of America\, 830 Everett Boulevard\, Union City\, TN\, 38261\, United States
CATEGORIES:Events,Music
ATTACH;FMTTYPE=image/png:https://visitjacksontn.com/wp-content/uploads/8.png
END:VEVENT
BEGIN:VEVENT
DTSTART;TZID=America/Chicago:20241115T190000
DTEND;TZID=America/Chicago:20241116T220000
DTSTAMP:20260420T031900
CREATED:20240624T160806Z
LAST-MODIFIED:20240624T160806Z
UID:10002345-1731697200-1731794400@visitjacksontn.com
SUMMARY:Bethel University Renaissance Theatre Presents A Christmas Carol
DESCRIPTION:The Bethel University Renaissance Theatre program is thrilled to bring this classic story to the Dixie stage! This musical adaptation written by Alan Menken (Disney’s Beauty and the Beast\, Little Shop of Horrors) and Lynn Ahrens (Ragtime\, Anastasia: The Musical) is truly going to be a fantastic show for the whole family to enjoy. A Christmas Carol will bring dynamic music\, exciting choreography\, and beautiful costuming that will leave audiences ready to begin the Christmas season. \nShowtimes:\nNovember 8 @ 7 PM\nNovember 9 @ 7 PM\nNovember 15 @ 7 PM\nNovember 16 @ 2 PM\nNovember 16 @ 7 PM \nTickets to this show are on sale soon! Purchase tickets by clicking the BUY TICKETS button below or via The Dixie’s Box Office in person or by phone at 731.986.2100\, M-F\, 10-4p. \nClick here for tickets or more information.
URL:https://visitjacksontn.com/event/bethel-university-renaissance-theatre-presents-a-christmas-carol-2/
CATEGORIES:Events,Music
ATTACH;FMTTYPE=image/png:https://visitjacksontn.com/wp-content/uploads/Screenshot-2024-06-24-105944.png
END:VEVENT
BEGIN:VEVENT
DTSTART;TZID=America/Chicago:20241115T193000
DTEND;TZID=America/Chicago:20241115T193000
DTSTAMP:20260420T031900
CREATED:20241030T140003Z
LAST-MODIFIED:20241030T144239Z
UID:10002741-1731699000-1731699000@visitjacksontn.com
SUMMARY:Clay Walker
DESCRIPTION:Country music superstar Clay Walker is bringing his tour to Henderson\, TN! \nClay Walker has charted more than 30 singles. He has 6 #1 Hits: “What’s It to You”\, “Live Until I Die”\, “Dreaming with My Eyes Open”\, “If I Could Make a Living”\, “This Woman and This Man”\, and “Rumor Has It”. \nTickets can be purchased here. For more information\, please call 731-435-3150.
URL:https://visitjacksontn.com/event/clay-walker-at-williams-auditorium/
LOCATION:Williams Auditorium\, 634 E. Main St.\, Henderson\, TN\, 38340\, United States
CATEGORIES:Events,Music
ATTACH;FMTTYPE=image/jpeg:https://visitjacksontn.com/wp-content/uploads/event_flyer_50_d27eed91-400px.jpg
END:VEVENT
END:VCALENDAR