BEGIN:VCALENDAR
VERSION:2.0
PRODID:-//Jackson Tourism - ECPv6.15.18//NONSGML v1.0//EN
CALSCALE:GREGORIAN
METHOD:PUBLISH
X-ORIGINAL-URL:https://visitjacksontn.com
X-WR-CALDESC:Events for Jackson Tourism
REFRESH-INTERVAL;VALUE=DURATION:PT1H
X-Robots-Tag:noindex
X-PUBLISHED-TTL:PT1H
BEGIN:VTIMEZONE
TZID:America/Chicago
BEGIN:DAYLIGHT
TZOFFSETFROM:-0600
TZOFFSETTO:-0500
TZNAME:CDT
DTSTART:20230312T080000
END:DAYLIGHT
BEGIN:STANDARD
TZOFFSETFROM:-0500
TZOFFSETTO:-0600
TZNAME:CST
DTSTART:20231105T070000
END:STANDARD
BEGIN:DAYLIGHT
TZOFFSETFROM:-0600
TZOFFSETTO:-0500
TZNAME:CDT
DTSTART:20240310T080000
END:DAYLIGHT
BEGIN:STANDARD
TZOFFSETFROM:-0500
TZOFFSETTO:-0600
TZNAME:CST
DTSTART:20241103T070000
END:STANDARD
BEGIN:DAYLIGHT
TZOFFSETFROM:-0600
TZOFFSETTO:-0500
TZNAME:CDT
DTSTART:20250309T080000
END:DAYLIGHT
BEGIN:STANDARD
TZOFFSETFROM:-0500
TZOFFSETTO:-0600
TZNAME:CST
DTSTART:20251102T070000
END:STANDARD
END:VTIMEZONE
BEGIN:VEVENT
DTSTART;TZID=America/Chicago:20241029T180000
DTEND;TZID=America/Chicago:20241029T200000
DTSTAMP:20260422T141047
CREATED:20240923T213132Z
LAST-MODIFIED:20240923T213535Z
UID:10002603-1730224800-1730232000@visitjacksontn.com
SUMMARY:Halloween at the Market
DESCRIPTION:The Annual Halloween at the Market is BACK!! \nCome celebrate Halloween with us at the Farmer’s Market on Tuesday\, October 29th. We will have candy\, games\, food trucks\, music\, and MORE! This year we will have secret judges handing out medals for our costume contest – so come dressed to impress!! \nThis is a FREE event sponsored by Jackson Walk Apartments & Henry Turley Company\, Jackson Downtown Development\, & City of Jackson Parks and Rec. If you are interested in being a Trunk in our Trunk of Treats\, please fill out the link here: https://form.jotform.com/232574005811146
URL:https://visitjacksontn.com/event/halloweenatthemarket-2/
LOCATION:West Tennessee Farmers Market\, 91 New Market St.\, Jackson\, TN\, 38301\, United States
CATEGORIES:Events,Music
ATTACH;FMTTYPE=image/jpeg:https://visitjacksontn.com/wp-content/uploads/halloween-at-the-market-5.jpg
END:VEVENT
END:VCALENDAR