BEGIN:VCALENDAR
VERSION:2.0
PRODID:-//Jackson Tourism - ECPv6.15.20//NONSGML v1.0//EN
CALSCALE:GREGORIAN
METHOD:PUBLISH
X-WR-CALNAME:Jackson Tourism
X-ORIGINAL-URL:https://visitjacksontn.com
X-WR-CALDESC:Events for Jackson Tourism
REFRESH-INTERVAL;VALUE=DURATION:PT1H
X-Robots-Tag:noindex
X-PUBLISHED-TTL:PT1H
BEGIN:VTIMEZONE
TZID:America/Chicago
BEGIN:DAYLIGHT
TZOFFSETFROM:-0600
TZOFFSETTO:-0500
TZNAME:CDT
DTSTART:20230312T080000
END:DAYLIGHT
BEGIN:STANDARD
TZOFFSETFROM:-0500
TZOFFSETTO:-0600
TZNAME:CST
DTSTART:20231105T070000
END:STANDARD
BEGIN:DAYLIGHT
TZOFFSETFROM:-0600
TZOFFSETTO:-0500
TZNAME:CDT
DTSTART:20240310T080000
END:DAYLIGHT
BEGIN:STANDARD
TZOFFSETFROM:-0500
TZOFFSETTO:-0600
TZNAME:CST
DTSTART:20241103T070000
END:STANDARD
BEGIN:DAYLIGHT
TZOFFSETFROM:-0600
TZOFFSETTO:-0500
TZNAME:CDT
DTSTART:20250309T080000
END:DAYLIGHT
BEGIN:STANDARD
TZOFFSETFROM:-0500
TZOFFSETTO:-0600
TZNAME:CST
DTSTART:20251102T070000
END:STANDARD
END:VTIMEZONE
BEGIN:VEVENT
DTSTART;TZID=America/Chicago:20241026T080000
DTEND;TZID=America/Chicago:20241026T160000
DTSTAMP:20260423T060457
CREATED:20241023T190353Z
LAST-MODIFIED:20241023T190645Z
UID:10002665-1729929600-1729958400@visitjacksontn.com
SUMMARY:Chickasaw Heritage Festival
DESCRIPTION:Join Shiloh National Military Park for the Chickasaw Heritage Festival at the Shiloh Indian Mounds National Historic Landmark. \nThe festival will feature cultural demonstrations by Chickasaw Nation members\, including stickball\, dancing\, archaeology\, music\, and storytelling. \nThe event is free and open to the public. For more details on Saturday’s events\, visit www.nps.gov/shil or call the visitor center at (731) 689-5696.
URL:https://visitjacksontn.com/event/chickasaw-heritage-festival/
LOCATION:Shiloh National Military Park\, 1055 Pittsburg Landing Road\, Shiloh\, TN\, 38376\, United States
CATEGORIES:Arts & Culture,Events,History & Civil War,Music
ATTACH;FMTTYPE=image/jpeg:https://visitjacksontn.com/wp-content/uploads/thumbnail_NA-flute.jpg
END:VEVENT
BEGIN:VEVENT
DTSTART;TZID=America/Chicago:20241026T180000
DTEND;TZID=America/Chicago:20241026T213000
DTSTAMP:20260423T060457
CREATED:20240806T132558Z
LAST-MODIFIED:20240806T132558Z
UID:10002455-1729965600-1729978200@visitjacksontn.com
SUMMARY:Skeleton Krew Farewell Performance
DESCRIPTION:Save the date because the relationship couldn’t be! Happening at the Legends of Tennessee Music Museum. \nOpening act TBA \nKeith Shirley as host \n$13 Admission \nClick here for more event information.
URL:https://visitjacksontn.com/event/skeleton-krew-farewell-performance/
LOCATION:The Carnegie Center & The TN Legends of Music Museum\, 305 East College Street\, Jackson\, TN\, 38301\, United States
CATEGORIES:Events,Music
ATTACH;FMTTYPE=image/jpeg:https://visitjacksontn.com/wp-content/uploads/454198232_10231784158362107_9150693976900623752_n.jpg
END:VEVENT
BEGIN:VEVENT
DTSTART;TZID=America/Chicago:20241026T193000
DTEND;TZID=America/Chicago:20241026T210000
DTSTAMP:20260423T060457
CREATED:20240624T155616Z
LAST-MODIFIED:20240624T155616Z
UID:10002343-1729971000-1729976400@visitjacksontn.com
SUMMARY:Thompson Square
DESCRIPTION:A decade after their multi-platinum hit “Are You Gonna Kiss Me Or Not\,” Keifer and Shawna Thompson continue to captivate audiences. The Grammy-nominated pair has toured globally\, won multiple major awards\, and appeared on top TV shows including The Tonight Show and NBC’s TODAY Show. They’ve also earned praise from outlets like Taste of Country and Rolling Stone. \nTickets to this show are on sale soon! Purchase tickets by clicking the BUY TICKETS button below or via The Dixie’s Box Office in person or by phone at 731.986.2100\, M-F\, 10-4p. \nTickets are on sale:\n• Mon\, July 29\, 10A CT – Previous 18th Season Ticket Holders via The Dixie’s Box Office\n• Mon\, Aug 12\, 10A CT – New 19th Season Ticket Holders via The Dixie’s Box Office\n• Mon\, Sep 16\, 10A CT – Individual Show Tickets via DixiePAC.net and The Dixie’s Box Office \nClick here for tickets and more information. \n 
URL:https://visitjacksontn.com/event/thompson-square/
LOCATION:Dixie Carter Performing Arts Center\, 191 Court Square\, Huntingdon\, TN\, 38344\, United States
CATEGORIES:Events,Music
ATTACH;FMTTYPE=image/jpeg:https://visitjacksontn.com/wp-content/uploads/D19_ThompsonSquare.jpeg
END:VEVENT
END:VCALENDAR