BEGIN:VCALENDAR
VERSION:2.0
PRODID:-//Jackson Tourism - ECPv6.15.20//NONSGML v1.0//EN
CALSCALE:GREGORIAN
METHOD:PUBLISH
X-WR-CALNAME:Jackson Tourism
X-ORIGINAL-URL:https://visitjacksontn.com
X-WR-CALDESC:Events for Jackson Tourism
REFRESH-INTERVAL;VALUE=DURATION:PT1H
X-Robots-Tag:noindex
X-PUBLISHED-TTL:PT1H
BEGIN:VTIMEZONE
TZID:America/Chicago
BEGIN:DAYLIGHT
TZOFFSETFROM:-0600
TZOFFSETTO:-0500
TZNAME:CDT
DTSTART:20230312T080000
END:DAYLIGHT
BEGIN:STANDARD
TZOFFSETFROM:-0500
TZOFFSETTO:-0600
TZNAME:CST
DTSTART:20231105T070000
END:STANDARD
BEGIN:DAYLIGHT
TZOFFSETFROM:-0600
TZOFFSETTO:-0500
TZNAME:CDT
DTSTART:20240310T080000
END:DAYLIGHT
BEGIN:STANDARD
TZOFFSETFROM:-0500
TZOFFSETTO:-0600
TZNAME:CST
DTSTART:20241103T070000
END:STANDARD
BEGIN:DAYLIGHT
TZOFFSETFROM:-0600
TZOFFSETTO:-0500
TZNAME:CDT
DTSTART:20250309T080000
END:DAYLIGHT
BEGIN:STANDARD
TZOFFSETFROM:-0500
TZOFFSETTO:-0600
TZNAME:CST
DTSTART:20251102T070000
END:STANDARD
END:VTIMEZONE
BEGIN:VEVENT
DTSTART;VALUE=DATE:20241004
DTEND;VALUE=DATE:20241006
DTSTAMP:20260423T004450
CREATED:20240925T153852Z
LAST-MODIFIED:20240925T153959Z
UID:10002619-1728000000-1728172799@visitjacksontn.com
SUMMARY:Fall in Love with Improv
DESCRIPTION:The Hub City Theatre Company’s Improv Team is thrilled to announce our autumn Improv Show “Fall in Love with Improv” featuring the unscripted comedy you love PLUS a musical guest each night opening our shows at Turntable Coffeecounter. \nOctober 4\, will feature soulful singer\, songwriter\, playwright and activist\, LOLO! \nOctober 5\, New York Times Bestselling author and West Tennessee local\, Brad Montague\, will display his songwriting talent over an intimate acoustic set he’ll be previewing exclusively for us. \nMake it a date night\, girls’ night or start a bromance and Fall in Love with Improv! \nThis show is best enjoyed by people who are 18+. \nThe Improv team is made up of 9 incredible actors bringing their unique perspective to each scene. There are NO scripts and each show is completely different! Between the actors and the audience\, each scene is created\, embellished and enjoyed for the first time together! After almost 3 years of doing these packed shows\, the improv team has earned a reputation around town of being hilarious and one of the best ways to be entertained on the weekends. \nBYOB and/or enjoy a drink provided by Turntable which is included with your ticket!
URL:https://visitjacksontn.com/event/fall-in-love-with-improv/
LOCATION:Turntable Coffee\, 300 E Main Street\, Jackson\, TN\, 38301\, United States
CATEGORIES:Arts & Culture,Events,Music
ATTACH;FMTTYPE=image/webp:https://visitjacksontn.com/wp-content/uploads/d3a820_e8aa968a9c2e43d8a3c5f7faa85b0e99mv2.webp
END:VEVENT
BEGIN:VEVENT
DTSTART;TZID=America/Chicago:20241004T183000
DTEND;TZID=America/Chicago:20241004T200000
DTSTAMP:20260423T004450
CREATED:20240805T211805Z
LAST-MODIFIED:20240805T211805Z
UID:10002453-1728066600-1728072000@visitjacksontn.com
SUMMARY:Candlelight: A Tribute to Coldplay on Strings
DESCRIPTION:Candlelight concerts bring the magic of a live\, multi-sensory musical experience to awe-inspiring locations like never seen before in Jackson. Get your tickets now to discover the music of Coldplay on Strings at The Ned under the gentle glow of candlelight. \nTentative Program:\n“Clocks”\n“My Universe”\n“Speed of Sound”\n“Trouble”\n“Fix You”\n“Paradise”\n“Shiver”\n“Yellow”\n“Something Just Like This”\n“The Scientist”\n“A Sky Full of Stars” \nClick here for tickets and more event information.
URL:https://visitjacksontn.com/event/candlelight-a-tribute-to-coldplay-on-strings/
LOCATION:The NED\, 314 East Main Street\, Jackson\, TN\, 38301\, United States
CATEGORIES:Events,Music
ATTACH;FMTTYPE=image/jpeg:https://visitjacksontn.com/wp-content/uploads/454325776_1019174683541019_6795854044259213193_n.jpg
END:VEVENT
BEGIN:VEVENT
DTSTART;TZID=America/Chicago:20241004T210000
DTEND;TZID=America/Chicago:20241004T223000
DTSTAMP:20260423T004450
CREATED:20240805T211557Z
LAST-MODIFIED:20240805T211557Z
UID:10002452-1728075600-1728081000@visitjacksontn.com
SUMMARY:Candlelight: A Haunted Evening of Halloween Classics
DESCRIPTION:Candlelight concerts bring the magic of a live\, multi-sensory musical experience to awe-inspiring locations like never seen before in Jackson. Get your tickets now to discover music inspired by Halloween at The Ned under the gentle glow of candlelight. \nTentative Program\nThriller – Michael Jackson\nFuneral March of a Marionette – Charles Gounod\nString Quartet No. 8 in C Minor (Dresden Quartet)\, Op. 110: II. Allegro Molto – Dmitri\nShostakovich\nTubular Bells (Theme from The Exorcist) – Mike Oldfield\nStranger Things (Theme) – S U R V I V E\nBeetlejuice (Theme) – Danny Elfman\nThe Addams Family (Theme) – Vic Mizzy\nHalloween (Theme) – John Carpenter\nPsycho (Prelude) – Bernard Herrmann\nGhostbusters (Theme) – Ray Parker Jr.\nDanse Macabre – Camille Saint-Saëns\nNight on Bald Mountain – Modest Mussorgsky\nDer Erlkönig – Franz Schubert\nMedley from The Nightmare Before Christmas – Danny Elfman\nIn the Hall of the Mountain King – Edvard Grieg \nClick here for tickets or more event information.
URL:https://visitjacksontn.com/event/candlelight-a-haunted-evening-of-halloween-classics/
LOCATION:The NED\, 314 East Main Street\, Jackson\, TN\, 38301\, United States
CATEGORIES:Events,Music
ATTACH;FMTTYPE=image/jpeg:https://visitjacksontn.com/wp-content/uploads/454007043_1019175546874266_208609523155648133_n.jpg
END:VEVENT
END:VCALENDAR