BEGIN:VCALENDAR
VERSION:2.0
PRODID:-//Jackson Tourism - ECPv6.15.20//NONSGML v1.0//EN
CALSCALE:GREGORIAN
METHOD:PUBLISH
X-WR-CALNAME:Jackson Tourism
X-ORIGINAL-URL:https://visitjacksontn.com
X-WR-CALDESC:Events for Jackson Tourism
REFRESH-INTERVAL;VALUE=DURATION:PT1H
X-Robots-Tag:noindex
X-PUBLISHED-TTL:PT1H
BEGIN:VTIMEZONE
TZID:America/Chicago
BEGIN:DAYLIGHT
TZOFFSETFROM:-0600
TZOFFSETTO:-0500
TZNAME:CDT
DTSTART:20230312T080000
END:DAYLIGHT
BEGIN:STANDARD
TZOFFSETFROM:-0500
TZOFFSETTO:-0600
TZNAME:CST
DTSTART:20231105T070000
END:STANDARD
BEGIN:DAYLIGHT
TZOFFSETFROM:-0600
TZOFFSETTO:-0500
TZNAME:CDT
DTSTART:20240310T080000
END:DAYLIGHT
BEGIN:STANDARD
TZOFFSETFROM:-0500
TZOFFSETTO:-0600
TZNAME:CST
DTSTART:20241103T070000
END:STANDARD
BEGIN:DAYLIGHT
TZOFFSETFROM:-0600
TZOFFSETTO:-0500
TZNAME:CDT
DTSTART:20250309T080000
END:DAYLIGHT
BEGIN:STANDARD
TZOFFSETFROM:-0500
TZOFFSETTO:-0600
TZNAME:CST
DTSTART:20251102T070000
END:STANDARD
END:VTIMEZONE
BEGIN:VEVENT
DTSTART;TZID=America/Chicago:20240907T190000
DTEND;TZID=America/Chicago:20240907T210000
DTSTAMP:20260423T060441
CREATED:20240520T174018Z
LAST-MODIFIED:20240815T160026Z
UID:10002228-1725735600-1725742800@visitjacksontn.com
SUMMARY:The Jackson Symphony presents Appalachian Spring
DESCRIPTION:The Jackson Symphony presents its 64th season. \nJoin the Symphony on September 7 at 7 pm at the Ned for the “Appalachian Spring” concert. \nAn Appalachian adventure with selections from Darius Milhaud and Samuel Barber\, alongside a premiere performance of “Northern Lights\,” inspired by the spring 2024 display of the aurora borealis and written by regional composer\, Dawson Hull. Topping off the evening will be the delightful full stage performance of Aaron Copland’s “Appalachian Spring” by special guest Ballet Arts\, Inc. of Jackson. \nTo purchase tickets\, click here. \n 
URL:https://visitjacksontn.com/event/appalachian-spring/
LOCATION:The NED\, 314 East Main Street\, Jackson\, TN\, 38301\, United States
CATEGORIES:Arts & Culture,Events,Music
ATTACH;FMTTYPE=image/jpeg:https://visitjacksontn.com/wp-content/uploads/455123514_1399173024363586_2022571881474552987_n.jpg
END:VEVENT
BEGIN:VEVENT
DTSTART;TZID=America/Chicago:20240907T190000
DTEND;TZID=America/Chicago:20240907T220000
DTSTAMP:20260423T060441
CREATED:20240613T152652Z
LAST-MODIFIED:20240613T152652Z
UID:10002309-1725735600-1725746400@visitjacksontn.com
SUMMARY:Voices in the Vineyard - Blue Eyed Sun
DESCRIPTION:Join us at Century Farm Winery for a fantastic evening of music and fun! Our Voices in the Vineyard Free Concert Series continues with the amazing band\, Blue Eyed Sun\, on September 7\, 2024\, at 7 PM! \nHailing from West Tennessee\, Blue Eyed Sun will be rocking the vineyard with their unique blend of Americana\, traditional country\, and rock deep cuts. It’s a night you won’t want to miss! \nWe’ve got your taste buds covered too! The Beach Bum Snack Shack and Tete’s Food Wagon will be on-site serving up delicious eats all night long. \nGrab your friends\, bring a blanket\, and come enjoy an unforgettable evening under the stars with great music\, tasty food\, and of course\, our finest wines! \nClick here for more event information.
URL:https://visitjacksontn.com/event/voices-in-the-vineyard-blue-eyed-sun/
LOCATION:Century Farm Winery\, 1548 Lower Brownsville Rd.\, Jackson\, TN\, 38301\, United States
CATEGORIES:Events,Music
ATTACH;FMTTYPE=image/jpeg:https://visitjacksontn.com/wp-content/uploads/446983499_972012018262773_600462644624154707_n.jpg
END:VEVENT
END:VCALENDAR