BEGIN:VCALENDAR
VERSION:2.0
PRODID:-//Jackson Tourism - ECPv6.15.20//NONSGML v1.0//EN
CALSCALE:GREGORIAN
METHOD:PUBLISH
X-WR-CALNAME:Jackson Tourism
X-ORIGINAL-URL:https://visitjacksontn.com
X-WR-CALDESC:Events for Jackson Tourism
REFRESH-INTERVAL;VALUE=DURATION:PT1H
X-Robots-Tag:noindex
X-PUBLISHED-TTL:PT1H
BEGIN:VTIMEZONE
TZID:America/Chicago
BEGIN:DAYLIGHT
TZOFFSETFROM:-0600
TZOFFSETTO:-0500
TZNAME:CDT
DTSTART:20230312T080000
END:DAYLIGHT
BEGIN:STANDARD
TZOFFSETFROM:-0500
TZOFFSETTO:-0600
TZNAME:CST
DTSTART:20231105T070000
END:STANDARD
BEGIN:DAYLIGHT
TZOFFSETFROM:-0600
TZOFFSETTO:-0500
TZNAME:CDT
DTSTART:20240310T080000
END:DAYLIGHT
BEGIN:STANDARD
TZOFFSETFROM:-0500
TZOFFSETTO:-0600
TZNAME:CST
DTSTART:20241103T070000
END:STANDARD
BEGIN:DAYLIGHT
TZOFFSETFROM:-0600
TZOFFSETTO:-0500
TZNAME:CDT
DTSTART:20250309T080000
END:DAYLIGHT
BEGIN:STANDARD
TZOFFSETFROM:-0500
TZOFFSETTO:-0600
TZNAME:CST
DTSTART:20251102T070000
END:STANDARD
END:VTIMEZONE
BEGIN:VEVENT
DTSTART;TZID=America/Chicago:20240629T100000
DTEND;TZID=America/Chicago:20240629T160000
DTSTAMP:20260425T154800
CREATED:20240506T170309Z
LAST-MODIFIED:20240506T170309Z
UID:10002201-1719655200-1719676800@visitjacksontn.com
SUMMARY:Busted Knuckles Stunt Tour
DESCRIPTION:Get ready for an adrenaline-packed day at Bumpus Harley-Davidson of Jackson with The Busted Knuckles Stunt Tour! \nJoin us on June 29th for thrilling shows at 12 pm\, 2 pm\, and 4 pm featuring jaw-dropping stunts and motorcycle tricks.  As you enjoy the spectacle\, groove to the live music of Kelso Mojo from 10 am to 11:45 am and 12:30 pm-1:45 pm\, followed by Graysin Slade from 2:30 pm to 4 pm\, adding an electrifying soundtrack to the event. \nExplore a variety of motorcycle vendors\, grab delicious bites from food trucks\, and experience much more at this action-packed event.  Mark your calendars\, and don’t miss out on a day filled with excitement and entertainment! \nClick here for more information. \n 
URL:https://visitjacksontn.com/event/busted-knuckles-stunt-tour/
LOCATION:Bumpus Harley Davidson\, 326 Carriage House Drive.\, Jackson\, TN\, 38305\, United States
CATEGORIES:Events,Music,Sports & Outdoor
ATTACH;FMTTYPE=image/jpeg:https://visitjacksontn.com/wp-content/uploads/429931365_788259110014100_5654429405581578799_n.jpg
END:VEVENT
BEGIN:VEVENT
DTSTART;TZID=America/Chicago:20240629T190000
DTEND;TZID=America/Chicago:20240629T220000
DTSTAMP:20260425T154800
CREATED:20240523T183030Z
LAST-MODIFIED:20240523T183030Z
UID:10002244-1719687600-1719698400@visitjacksontn.com
SUMMARY:Voices in the Vineyard - Bobby Stokely and the Bandits
DESCRIPTION:Get ready for an evening of soulful tunes and exquisite wines at Century Farm Winery’s Voices in the Vineyard free concert on June 29th at 7 pm! \nJoin us for a magical night under the stars\, surrounded by the beauty of our vineyard. Bring your friends and family\, unwind with a glass of our finest wines\, and let the music sweep you away. \nSave the date and get ready to groove! Admission is free\, but the memories will be priceless. See you there! \nPlease note:\nNo pets\, smoking or outside alcohol are allowed.\nChildren are welcome\, but must be supervised at all times.\nMake sure to make table reservations soon as they go quickly! \nClick here for more information.
URL:https://visitjacksontn.com/event/voices-in-the-vineyard-bobby-stokely-and-the-bandits/
LOCATION:Century Farm Winery\, 1548 Lower Brownsville Rd.\, Jackson\, TN\, 38301\, United States
CATEGORIES:Arts & Culture,Events,Music
ATTACH;FMTTYPE=image/jpeg:https://visitjacksontn.com/wp-content/uploads/442488071_966476225483019_364766667742258002_n.jpg
END:VEVENT
END:VCALENDAR