BEGIN:VCALENDAR
VERSION:2.0
PRODID:-//Jackson Tourism - ECPv6.15.20//NONSGML v1.0//EN
CALSCALE:GREGORIAN
METHOD:PUBLISH
X-ORIGINAL-URL:https://visitjacksontn.com
X-WR-CALDESC:Events for Jackson Tourism
REFRESH-INTERVAL;VALUE=DURATION:PT1H
X-Robots-Tag:noindex
X-PUBLISHED-TTL:PT1H
BEGIN:VTIMEZONE
TZID:America/Chicago
BEGIN:DAYLIGHT
TZOFFSETFROM:-0600
TZOFFSETTO:-0500
TZNAME:CDT
DTSTART:20230312T080000
END:DAYLIGHT
BEGIN:STANDARD
TZOFFSETFROM:-0500
TZOFFSETTO:-0600
TZNAME:CST
DTSTART:20231105T070000
END:STANDARD
BEGIN:DAYLIGHT
TZOFFSETFROM:-0600
TZOFFSETTO:-0500
TZNAME:CDT
DTSTART:20240310T080000
END:DAYLIGHT
BEGIN:STANDARD
TZOFFSETFROM:-0500
TZOFFSETTO:-0600
TZNAME:CST
DTSTART:20241103T070000
END:STANDARD
BEGIN:DAYLIGHT
TZOFFSETFROM:-0600
TZOFFSETTO:-0500
TZNAME:CDT
DTSTART:20250309T080000
END:DAYLIGHT
BEGIN:STANDARD
TZOFFSETFROM:-0500
TZOFFSETTO:-0600
TZNAME:CST
DTSTART:20251102T070000
END:STANDARD
END:VTIMEZONE
BEGIN:VEVENT
DTSTART;TZID=America/Chicago:20240623T140000
DTEND;TZID=America/Chicago:20240623T170000
DTSTAMP:20260424T135930
CREATED:20240416T191323Z
LAST-MODIFIED:20240416T191323Z
UID:10002122-1719151200-1719162000@visitjacksontn.com
SUMMARY:Voices in the Vineyard - Tipsy Gypsy
DESCRIPTION:Save the date! June 23rd promises to be an enchanting evening filled with soul-stirring melodies and exquisite wines at Century Farm Winery.  We’re thrilled to announce that Tipsy Gypsy will be gracing the stage\, serenading you with their captivating tunes. \nJoin us for a magical night under the stars\, surrounded by the picturesque beauty of our vineyard. Bring your loved ones\, unwind with a glass of our finest wines\, and let the music carry you away to a realm of pure bliss. \nDon’t miss this unforgettable experience! Admission is free\, but the memories you’ll create will be priceless. We can’t wait to share this special evening with you! \nClick here for more event details.
URL:https://visitjacksontn.com/event/voices-in-the-vineyard-tipsy-gypsy/
LOCATION:Century Farm Winery\, 1548 Lower Brownsville Rd.\, Jackson\, TN\, 38301\, United States
CATEGORIES:Events,Music
ATTACH;FMTTYPE=image/jpeg:https://visitjacksontn.com/wp-content/uploads/434325683_931826312281344_8689152693670949299_n-1.jpg
END:VEVENT
END:VCALENDAR