BEGIN:VCALENDAR
VERSION:2.0
PRODID:-//Jackson Tourism - ECPv6.15.20//NONSGML v1.0//EN
CALSCALE:GREGORIAN
METHOD:PUBLISH
X-WR-CALNAME:Jackson Tourism
X-ORIGINAL-URL:https://visitjacksontn.com
X-WR-CALDESC:Events for Jackson Tourism
REFRESH-INTERVAL;VALUE=DURATION:PT1H
X-Robots-Tag:noindex
X-PUBLISHED-TTL:PT1H
BEGIN:VTIMEZONE
TZID:America/Chicago
BEGIN:DAYLIGHT
TZOFFSETFROM:-0600
TZOFFSETTO:-0500
TZNAME:CDT
DTSTART:20230312T080000
END:DAYLIGHT
BEGIN:STANDARD
TZOFFSETFROM:-0500
TZOFFSETTO:-0600
TZNAME:CST
DTSTART:20231105T070000
END:STANDARD
BEGIN:DAYLIGHT
TZOFFSETFROM:-0600
TZOFFSETTO:-0500
TZNAME:CDT
DTSTART:20240310T080000
END:DAYLIGHT
BEGIN:STANDARD
TZOFFSETFROM:-0500
TZOFFSETTO:-0600
TZNAME:CST
DTSTART:20241103T070000
END:STANDARD
BEGIN:DAYLIGHT
TZOFFSETFROM:-0600
TZOFFSETTO:-0500
TZNAME:CDT
DTSTART:20250309T080000
END:DAYLIGHT
BEGIN:STANDARD
TZOFFSETFROM:-0500
TZOFFSETTO:-0600
TZNAME:CST
DTSTART:20251102T070000
END:STANDARD
END:VTIMEZONE
BEGIN:VEVENT
DTSTART;VALUE=DATE:20240613
DTEND;VALUE=DATE:20240616
DTSTAMP:20260424T170237
CREATED:20240508T172805Z
LAST-MODIFIED:20240508T172805Z
UID:10002207-1718236800-1718495999@visitjacksontn.com
SUMMARY:Rodgers & Hammerstein's Cinderella
DESCRIPTION:The Jackson Children’s and Teen Theatre’s present Rodgers and Hammerstein’s Cinderella celebrating the Jackson Children’s and Teen Theatre’s 50th Anniversary at The Ned from June 13-15. \nThe timeless fairytale comes to vivid life on the Ned stage\, complete with Cinderella\, her animal friends\, a Prince\, a Royal Ball\, and a touch of magic to make the impossible possible… \nSHOWTIMES:\nThursday\, June 13 @ 12:00 pm\nThursday\, June 13 @ 7:00 pm\nFriday\, June 14 @ 7:00 pm\nSaturday\, June 15 @ 12:00 pm\nSaturday\, June 15 @ 6:00 pm \nTicket Pricing: $15-$20 \nMusic by Richard Rodgers\nBook and Lyrics by Oscar Hammerstein II\nAdapted for  Stage by Tom Briggs\nFrom the Teleplay by Robert L. Freedman \nClick here to purchase tickets. \n 
URL:https://visitjacksontn.com/event/rodgers-hammersteins-cinderella/
LOCATION:The NED\, 314 East Main Street\, Jackson\, TN\, 38301\, United States
CATEGORIES:Arts & Culture,Events,Music
ATTACH;FMTTYPE=image/png:https://visitjacksontn.com/wp-content/uploads/cinderella-post-2_1711473689.png
END:VEVENT
BEGIN:VEVENT
DTSTART;TZID=America/Chicago:20240615T190000
DTEND;TZID=America/Chicago:20240615T190000
DTSTAMP:20260424T170237
CREATED:20240610T191302Z
LAST-MODIFIED:20240610T191312Z
UID:10002287-1718478000-1718478000@visitjacksontn.com
SUMMARY:Symphony on the Move
DESCRIPTION:Pinson Mounds State Archaeological Park welcomes The Jackson Symphony for Symphony on the Move. Please join us for this special evening concert in celebration of the 50th anniversary of Pinson Mounds State Archaeological Park. Bring your own chairs or blankets! \nClick here for more event information.
URL:https://visitjacksontn.com/event/symphony-on-the-move-2/
LOCATION:Pinson Mounds\, 460 Ozier Rd\, Pinson\, TN\, 38366\, United States
CATEGORIES:Events,Music
ATTACH;FMTTYPE=image/jpeg:https://visitjacksontn.com/wp-content/uploads/447677924_861416856030125_1063559497817986703_n.jpg
END:VEVENT
BEGIN:VEVENT
DTSTART;TZID=America/Chicago:20240615T190000
DTEND;TZID=America/Chicago:20240615T220000
DTSTAMP:20260424T170237
CREATED:20240416T191104Z
LAST-MODIFIED:20240416T191104Z
UID:10002121-1718478000-1718488800@visitjacksontn.com
SUMMARY:Voices in the Vineyard - American Blonde
DESCRIPTION:Get ready to groove with American Blonde at Century Farm Winery’s Voices in the Vineyard on June 15th at 7pm! \nJoin us for an unforgettable evening of soulful tunes and fine wines. Bring your loved ones\, sip on our exquisite wines\, and let the music transport you. \nAdmission is free\, so mark your calendars and get ready for a magical night under the stars. \nCheck out American Blonde’s page : https://www.facebook.com/americanblondemusic \nClick here for more information.
URL:https://visitjacksontn.com/event/voices-in-the-vineyard-american-blonde/
LOCATION:Century Farm Winery\, 1548 Lower Brownsville Rd.\, Jackson\, TN\, 38301\, United States
CATEGORIES:Events,Music
ATTACH;FMTTYPE=image/jpeg:https://visitjacksontn.com/wp-content/uploads/433452842_929739955823313_2662611539927146503_n-1.jpg
END:VEVENT
END:VCALENDAR