BEGIN:VCALENDAR
VERSION:2.0
PRODID:-//Jackson Tourism - ECPv6.15.20//NONSGML v1.0//EN
CALSCALE:GREGORIAN
METHOD:PUBLISH
X-ORIGINAL-URL:https://visitjacksontn.com
X-WR-CALDESC:Events for Jackson Tourism
REFRESH-INTERVAL;VALUE=DURATION:PT1H
X-Robots-Tag:noindex
X-PUBLISHED-TTL:PT1H
BEGIN:VTIMEZONE
TZID:America/Chicago
BEGIN:DAYLIGHT
TZOFFSETFROM:-0600
TZOFFSETTO:-0500
TZNAME:CDT
DTSTART:20230312T080000
END:DAYLIGHT
BEGIN:STANDARD
TZOFFSETFROM:-0500
TZOFFSETTO:-0600
TZNAME:CST
DTSTART:20231105T070000
END:STANDARD
BEGIN:DAYLIGHT
TZOFFSETFROM:-0600
TZOFFSETTO:-0500
TZNAME:CDT
DTSTART:20240310T080000
END:DAYLIGHT
BEGIN:STANDARD
TZOFFSETFROM:-0500
TZOFFSETTO:-0600
TZNAME:CST
DTSTART:20241103T070000
END:STANDARD
BEGIN:DAYLIGHT
TZOFFSETFROM:-0600
TZOFFSETTO:-0500
TZNAME:CDT
DTSTART:20250309T080000
END:DAYLIGHT
BEGIN:STANDARD
TZOFFSETFROM:-0500
TZOFFSETTO:-0600
TZNAME:CST
DTSTART:20251102T070000
END:STANDARD
END:VTIMEZONE
BEGIN:VEVENT
DTSTART;TZID=America/Chicago:20240606T083000
DTEND;TZID=America/Chicago:20240608T120000
DTSTAMP:20260424T074232
CREATED:20240506T164317Z
LAST-MODIFIED:20240506T164317Z
UID:10002200-1717662600-1717848000@visitjacksontn.com
SUMMARY:Jr. Ranger Camp 2024
DESCRIPTION:Junior Ranger Camp is limited to the first 15 campers to be registered. Registration fee ($30) should be paid by calling the park office at 731-988-5614. \nJoin the Pinson Mounds Rangers and Staff for a Day Camp full of discovery and fun! We will learn about what it means to be a Park Ranger by learning about safety\, Tennessee wildlife\, the environment\, and conservation! Activities will include Ranger led hikes\, games\, and crafts. Register quickly\, we only have 15 spots available! Adventure awaits! \nJunior Ranger campers need to wear sturdy shoes for hiking. Campers should apply sunscreen before arrival and bring extra sunscreen\, bug spray\, and a small backpack to carry items in. Insect repellent and a camera are also recommended. Some snacks and water will be provided during the camp\, but campers are encouraged to bring their own favorite snack. \nThere will be a graduation Ceremony for all Jr. Rangers that complete the course. The ceremony will be held at the Playground Picnic Shelter Saturday at 10:00 am. Families are welcome to attend. After\, Jr. Rangers are encouraged to show their families around the park. \nFor additional information about Junior Ranger programs or questions\, please contact Ranger Dedra at 731-988-5614 or dedra.ekberg@tn.gov. \nSee You at Camp!
URL:https://visitjacksontn.com/event/jr-ranger-camp-2024/
LOCATION:Pinson Mounds\, 460 Ozier Rd\, Pinson\, TN\, 38366\, United States
CATEGORIES:Music,Sports & Outdoor
ATTACH;FMTTYPE=image/jpeg:https://visitjacksontn.com/wp-content/uploads/439593525_833873478784463_8851965083823823128_n.jpg
END:VEVENT
BEGIN:VEVENT
DTSTART;VALUE=DATE:20240608
DTEND;VALUE=DATE:20240609
DTSTAMP:20260424T074232
CREATED:20240411T192512Z
LAST-MODIFIED:20240520T140337Z
UID:10001745-1717804800-1717891199@visitjacksontn.com
SUMMARY:Rockabilly Highway Revival
DESCRIPTION:The Rockabilly Highway Revival is an annual event held on the second Saturday of each June in Selmer\, Tennessee. The festival features Rockabilly music from old and new artists alike. The music\, motorcycles\, hotrods\, and great food are a perfect way to kick off the summer. \nJune 8th marks the 15th anniversary of the festival\, so come out and celebrate! Dress in your best rockabilly! \nCar Show 8 am-3 pm\nLive Music\nPinup Contest\nFood Trucks\nVendors\nMcNairy County Music Hall of Fame Induction \nJune 1 – Miss Rockabilly Highway Revival at MCHS Little Theatre @ 2:00 pm\nJune 7 – First Friday – Rockabilly Kickoff @ Rockabilly Park @ 5:00 pm-8:00 pm \nClick here for more information.
URL:https://visitjacksontn.com/event/rockabilly-highway-revival/
LOCATION:Rockabilly Park – Selmer\, TN\, 100 N Front St\, Selmer\, TN\, 38375\, United States
CATEGORIES:Arts & Culture,Music,Sports & Outdoor
ATTACH;FMTTYPE=image/jpeg:https://visitjacksontn.com/wp-content/uploads/440936065_833068758861405_4254680812785380667_n.jpg
END:VEVENT
END:VCALENDAR