BEGIN:VCALENDAR
VERSION:2.0
PRODID:-//Jackson Tourism - ECPv6.15.20//NONSGML v1.0//EN
CALSCALE:GREGORIAN
METHOD:PUBLISH
X-ORIGINAL-URL:https://visitjacksontn.com
X-WR-CALDESC:Events for Jackson Tourism
REFRESH-INTERVAL;VALUE=DURATION:PT1H
X-Robots-Tag:noindex
X-PUBLISHED-TTL:PT1H
BEGIN:VTIMEZONE
TZID:America/Chicago
BEGIN:DAYLIGHT
TZOFFSETFROM:-0600
TZOFFSETTO:-0500
TZNAME:CDT
DTSTART:20230312T080000
END:DAYLIGHT
BEGIN:STANDARD
TZOFFSETFROM:-0500
TZOFFSETTO:-0600
TZNAME:CST
DTSTART:20231105T070000
END:STANDARD
BEGIN:DAYLIGHT
TZOFFSETFROM:-0600
TZOFFSETTO:-0500
TZNAME:CDT
DTSTART:20240310T080000
END:DAYLIGHT
BEGIN:STANDARD
TZOFFSETFROM:-0500
TZOFFSETTO:-0600
TZNAME:CST
DTSTART:20241103T070000
END:STANDARD
BEGIN:DAYLIGHT
TZOFFSETFROM:-0600
TZOFFSETTO:-0500
TZNAME:CDT
DTSTART:20250309T080000
END:DAYLIGHT
BEGIN:STANDARD
TZOFFSETFROM:-0500
TZOFFSETTO:-0600
TZNAME:CST
DTSTART:20251102T070000
END:STANDARD
END:VTIMEZONE
BEGIN:VEVENT
DTSTART;TZID=America/Chicago:20240601T190000
DTEND;TZID=America/Chicago:20240601T220000
DTSTAMP:20260423T154925
CREATED:20240416T190652Z
LAST-MODIFIED:20240417T183645Z
UID:10002120-1717268400-1717279200@visitjacksontn.com
SUMMARY:Voices in the Vineyard - The Will Beyer Band
DESCRIPTION:Make sure to mark your calendars for an evening of soul-stirring tunes and exceptional wines at Century Farm Winery’s Voices in the Vineyard free concert on June 1st!  The Will Beyer Band will be taking the stage. \nJoin us for a magical night under the starlit sky\, enveloped by the enchanting beauty of our vineyard. Bring your friends and family\, unwind with a glass of our finest wines\, and let the music carry you away. \nSave the date and get ready to groove! Admission is free\, but the memories you’ll create will be absolutely priceless. We can’t wait to see you there! \nClick here for more event details.
URL:https://visitjacksontn.com/event/voices-in-the-vineyard-the-will-beyeer-band/
LOCATION:Century Farm Winery\, 1548 Lower Brownsville Rd.\, Jackson\, TN\, 38301\, United States
CATEGORIES:Events,Music
ATTACH;FMTTYPE=image/jpeg:https://visitjacksontn.com/wp-content/uploads/431997412_920272683436707_7596447879592701337_n-1.jpg
END:VEVENT
END:VCALENDAR