BEGIN:VCALENDAR
VERSION:2.0
PRODID:-//Jackson Tourism - ECPv6.15.20//NONSGML v1.0//EN
CALSCALE:GREGORIAN
METHOD:PUBLISH
X-ORIGINAL-URL:https://visitjacksontn.com
X-WR-CALDESC:Events for Jackson Tourism
REFRESH-INTERVAL;VALUE=DURATION:PT1H
X-Robots-Tag:noindex
X-PUBLISHED-TTL:PT1H
BEGIN:VTIMEZONE
TZID:America/Chicago
BEGIN:DAYLIGHT
TZOFFSETFROM:-0600
TZOFFSETTO:-0500
TZNAME:CDT
DTSTART:20230312T080000
END:DAYLIGHT
BEGIN:STANDARD
TZOFFSETFROM:-0500
TZOFFSETTO:-0600
TZNAME:CST
DTSTART:20231105T070000
END:STANDARD
BEGIN:DAYLIGHT
TZOFFSETFROM:-0600
TZOFFSETTO:-0500
TZNAME:CDT
DTSTART:20240310T080000
END:DAYLIGHT
BEGIN:STANDARD
TZOFFSETFROM:-0500
TZOFFSETTO:-0600
TZNAME:CST
DTSTART:20241103T070000
END:STANDARD
BEGIN:DAYLIGHT
TZOFFSETFROM:-0600
TZOFFSETTO:-0500
TZNAME:CDT
DTSTART:20250309T080000
END:DAYLIGHT
BEGIN:STANDARD
TZOFFSETFROM:-0500
TZOFFSETTO:-0600
TZNAME:CST
DTSTART:20251102T070000
END:STANDARD
END:VTIMEZONE
BEGIN:VEVENT
DTSTART;TZID=America/Chicago:20240405T010000
DTEND;TZID=America/Chicago:20240405T055000
DTSTAMP:20260423T004623
CREATED:20240411T185943Z
LAST-MODIFIED:20240411T185943Z
UID:10001392-1712278800-1712296200@visitjacksontn.com
SUMMARY:Brother Moses & Carver Commodore Concert
DESCRIPTION:Brother Moses & Carver Commodore will be in concert at Catbird Studio on Thursday\, April 4! Doors open at 6:30 pm and the show will begin at 7:00 pm. Admission: $16 For tickets and more information\, click learn more.
URL:https://visitjacksontn.com/event/brother-moses-carver-commodore-concert/
LOCATION:Catbird Studio\, 2100 Pleasant Plains Ext\, Jackson\, TN\, 38305\, United States
CATEGORIES:Music,Sports & Outdoor
ATTACH;FMTTYPE=image/png:https://visitjacksontn.com/wp-content/uploads/Screenshot-2024-01-25-145005-xfpWeA.tmp_.png
END:VEVENT
END:VCALENDAR